Workbook
Name Grades: #REF!
Name ClassAvgPoints: #REF!
Name Grades: 'Copy of Dashboard'!$F$6:$F$11
Name GradeRange: 'Copy of Dashboard'!$D$6:$D$11
Name StudentGrades: #REF!
Name TotalPoints: #REF!
Name PointValues: #REF!
Name GradeRange: Dashboard!$D$6:$D$41

Sheet Dashboard
B2: ASSIGN & SYNCHRONIZE FASIH PETUGAS SE2026
B4: =CONCATENATE("MONITORING PER TANGGAL ",KabKota!B32," ",TEXT(KabKota!B34,"hh:mm:ss"), " WIT") -> MONITORING PER TANGGAL 24 Juni 2026 16:51:52 WIT | I4: =CONCATENATE("PROGRES PER TANGGAL ",KabKota!B32," ",TEXT(KabKota!B34,"hh:mm:ss")," WIT") -> PROGRES PER TANGGAL 24 Juni 2026 16:51:52 WIT
B5: per kabupaten | I5: per kabupaten
B6: KABUPATEN | C6: TARGET SLS | D6: ASSIGN | E6: % PROGRES ASSIGN | F6: SYNC | G6: % PROGRES SYNC
B7: (1) | C7: (2) | D7: (3) | E7: (4) | F7: (5) | G7: (6)
B8: =KabKota!C2 -> [03] JAYAPURA | C8: =KabKota!D2 -> 1136 | D8: =KabKota!E2 -> 1136 | E8: =100*KabKota!F2 -> 100 | F8: =KabKota!G2 -> 1107 | G8: =100*KabKota!H2 -> 97.447183
B9: =KabKota!C3 -> [08] KEPULAUAN YAPEN | C9: =KabKota!D3 -> 856 | D9: =KabKota!E3 -> 856 | E9: =100*KabKota!F3 -> 100 | F9: =KabKota!G3 -> 817 | G9: =100*KabKota!H3 -> 95.443925
B10: =KabKota!C4 -> [09] BIAK NUMFOR | C10: =KabKota!D4 -> 864 | D10: =KabKota!E4 -> 864 | E10: =100*KabKota!F4 -> 100 | F10: =KabKota!G4 -> 864 | G10: =100*KabKota!H4 -> 100
B11: =KabKota!C5 -> [19] SARMI | C11: =KabKota!D5 -> 428 | D11: =KabKota!E5 -> 428 | E11: =100*KabKota!F5 -> 100 | F11: =KabKota!G5 -> 384 | G11: =100*KabKota!H5 -> 89.719626
B12: =KabKota!C6 -> [20] KEEROM | C12: =KabKota!D6 -> 727 | D12: =KabKota!E6 -> 727 | E12: =100*KabKota!F6 -> 100 | F12: =KabKota!G6 -> 679 | G12: =100*KabKota!H6 -> 93.397524
B13: =KabKota!C7 -> [26] WAROPEN | C13: =KabKota!D7 -> 388 | D13: =KabKota!E7 -> 388 | E13: =100*KabKota!F7 -> 100 | F13: =KabKota!G7 -> 378 | G13: =100*KabKota!H7 -> 97.42268
B14: =KabKota!C8 -> [27] SUPIORI | C14: =KabKota!D8 -> 204 | D14: =KabKota!E8 -> 204 | E14: =100*KabKota!F8 -> 100 | F14: =KabKota!G8 -> 204 | G14: =100*KabKota!H8 -> 100
B15: =KabKota!C9 -> [28] MAMBERAMO RAYA | C15: =KabKota!D9 -> 98 | D15: =KabKota!E9 -> 98 | E15: =100*KabKota!F9 -> 100 | F15: =KabKota!G9 -> 74 | G15: =100*KabKota!H9 -> 75.510204
B16: =KabKota!C10 -> [71] JAYAPURA | C16: =KabKota!D10 -> 1244 | D16: =KabKota!E10 -> 1244 | E16: =100*KabKota!F10 -> 100 | F16: =KabKota!G10 -> 1233 | G16: =100*KabKota!H10 -> 99.115756
B17: PAPUA | C17: =SUM(C8:C16) -> 5945 | D17: =SUM(D8:D16) -> 5945 | E17: =100*D17/C17 -> 100 | F17: =SUM(F8:F16) -> 5740 | G17: =100*F17/C17 -> 96.551724
B18: =KabKota!C11 -> [01] MERAUKE | C18: =KabKota!D11 -> 1987 | D18: =KabKota!E11 -> 1987 | E18: =100*KabKota!F11 -> 100 | F18: =KabKota!G11 -> 1777 | G18: =100*KabKota!H11 -> 89.431303
B19: =KabKota!C12 -> [02] BOVEN DIGOEL | C19: =KabKota!D12 -> 513 | D19: =KabKota!E12 -> 513 | E19: =100*KabKota!F12 -> 100 | F19: =KabKota!G12 -> 511 | G19: =100*KabKota!H12 -> 99.610136
B20: =KabKota!C13 -> [03] MAPPI | C20: =KabKota!D13 -> 882 | D20: =KabKota!E13 -> 882 | E20: =100*KabKota!F13 -> 100 | F20: =KabKota!G13 -> 849 | G20: =100*KabKota!H13 -> 96.258503
B21: =KabKota!C14 -> [04] ASMAT | C21: =KabKota!D14 -> 951 | D21: =KabKota!E14 -> 951 | E21: =100*KabKota!F14 -> 100 | F21: =KabKota!G14 -> 678 | G21: =100*KabKota!H14 -> 71.293375
B22: PAPUA SELATAN | C22: =SUM(C18:C21) -> 4333 | D22: =SUM(D18:D21) -> 4333 | E22: =100*D22/C22 -> 100 | F22: =SUM(F18:F21) -> 3815 | G22: =100*F22/C22 -> 88.045234
B23: =KabKota!C15 -> [01] MIMIKA | C23: =KabKota!D15 -> 1318 | D23: =KabKota!E15 -> 1318 | E23: =100*KabKota!F15 -> 100 | F23: =KabKota!G15 -> 1271 | G23: =100*KabKota!H15 -> 96.433991
B24: =KabKota!C16 -> [02] DOGIYAI | C24: =KabKota!D16 -> 504 | D24: =KabKota!E16 -> 504 | E24: =100*KabKota!F16 -> 100 | F24: =KabKota!G16 -> 136 | G24: =100*KabKota!H16 -> 26.984127
B25: =KabKota!C17 -> [03] DEIYAI | C25: =KabKota!D17 -> 325 | D25: =KabKota!E17 -> 325 | E25: =100*KabKota!F17 -> 100 | F25: =KabKota!G17 -> 204 | G25: =100*KabKota!H17 -> 62.769231
B26: =KabKota!C18 -> [04] NABIRE | C26: =KabKota!D18 -> 939 | D26: =KabKota!E18 -> 939 | E26: =100*KabKota!F18 -> 100 | F26: =KabKota!G18 -> 891 | G26: =100*KabKota!H18 -> 94.888179
B27: =KabKota!C19 -> [05] PANIAI | C27: =KabKota!D19 -> 1075 | D27: =KabKota!E19 -> 1075 | E27: =100*KabKota!F19 -> 100 | F27: =KabKota!G19 -> 945 | G27: =100*KabKota!H19 -> 87.906977
B28: =KabKota!C20 -> [06] INTAN JAYA | C28: =KabKota!D20 -> 373 | D28: =KabKota!E20 -> 373 | E28: =100*KabKota!F20 -> 100 | F28: =KabKota!G20 -> 27 | G28: =100*KabKota!H20 -> 7.2386059
B29: =KabKota!C21 -> [07] PUNCAK | C29: =KabKota!D21 -> 234 | D29: =KabKota!E21 -> 234 | E29: =100*KabKota!F21 -> 100 | F29: =KabKota!G21 -> 43 | G29: =100*KabKota!H21 -> 18.376068
B30: =KabKota!C22 -> [08] PUNCAK JAYA | C30: =KabKota!D22 -> 394 | D30: =KabKota!E22 -> 394 | E30: =100*KabKota!F22 -> 100 | F30: =KabKota!G22 -> 65 | G30: =100*KabKota!H22 -> 16.497462
B31: PAPUA TENGAH | C31: =SUM(C23:C30) -> 5162 | D31: =SUM(D23:D30) -> 5162 | E31: =100*D31/C31 -> 100 | F31: =SUM(F23:F30) -> 3582 | G31: =100*F31/C31 -> 69.391709
B32: =KabKota!C23 -> [01] NDUGA | C32: =KabKota!D23 -> 330 | D32: =KabKota!E23 -> 0 | E32: =100*KabKota!F23 -> 0 | F32: =KabKota!G23 -> 0 | G32: =100*KabKota!H23 -> 0
B33: =KabKota!C24 -> [02] JAYAWIJAYA | C33: =KabKota!D24 -> 1206 | D33: =KabKota!E24 -> 1206 | E33: =100*KabKota!F24 -> 100 | F33: =KabKota!G24 -> 283 | G33: =100*KabKota!H24 -> 23.466003
B34: =KabKota!C25 -> [03] LANNY JAYA | C34: =KabKota!D25 -> 431 | D34: =KabKota!E25 -> 431 | E34: =100*KabKota!F25 -> 100 | F34: =KabKota!G25 -> 240 | G34: =100*KabKota!H25 -> 55.684455
B35: =KabKota!C26 -> [04] TOLIKARA | C35: =KabKota!D26 -> 546 | D35: =KabKota!E26 -> 546 | E35: =100*KabKota!F26 -> 100 | F35: =KabKota!G26 -> 8 | G35: =100*KabKota!H26 -> 1.4652015
B36: =KabKota!C27 -> [05] MAMBERAMO TENGAH | C36: =KabKota!D27 -> 87 | D36: =KabKota!E27 -> 87 | E36: =100*KabKota!F27 -> 100 | F36: =KabKota!G27 -> 22 | G36: =100*KabKota!H27 -> 25.287356
B37: =KabKota!C28 -> [06] YALIMO | C37: =KabKota!D28 -> 302 | D37: =KabKota!E28 -> 302 | E37: =100*KabKota!F28 -> 100 | F37: =KabKota!G28 -> 125 | G37: =100*KabKota!H28 -> 41.390728
B38: =KabKota!C29 -> [07] YAHUKIMO | C38: =KabKota!D29 -> 744 | D38: =KabKota!E29 -> 744 | E38: =100*KabKota!F29 -> 100 | F38: =KabKota!G29 -> 187 | G38: =100*KabKota!H29 -> 25.134409
B39: =KabKota!C30 -> [08] PEGUNUNGAN BINTANG | C39: =KabKota!D30 -> 561 | D39: =KabKota!E30 -> 561 | E39: =100*KabKota!F30 -> 100 | F39: =KabKota!G30 -> 406 | G39: =100*KabKota!H30 -> 72.370766
B40: PAPUA PEGUNUNGAN | C40: =SUM(C32:C39) -> 4207 | D40: =SUM(D33:D39) -> 3877 | E40: =100*D40/C40 -> 92.155931 | F40: =SUM(F33:F39) -> 1271 | G40: =100*F40/C40 -> 30.211552
B41: TOTAL | C41: =C17+C22+C31+C40 -> 19647 | D41: =D17+D22+D31+D40 -> 19317 | E41: =100*D41/C41 -> 98.320354 | F41: =F17+F22+F31+F40 -> 14408 | G41: =100*F41/C41 -> 73.334351
B44: KABUPATEN | C44: TARGET PPL | D44: PPL SYNC | E44: % PROGRES PPL SYNC | F44: TARGET PML | G44: PML SYNC | H44: % PROGRES PML SYNC
...

Sheet Pivot Petugas

Sheet KabKota
B1: Provinsi | C1: Kabupaten | D1: Target SLS | E1: Assign | F1: % Assign | G1: Sync | H1: % Sync | I1: % Assign | J1: % Sync
A2: 0 | B2: [94] PAPUA | C2: [03] JAYAPURA | D2: 1136 | E2: 1136 | F2: 1 | G2: 1107 | H2: 0.97447183 | I2: =100*F2 -> 100 | J2: =100*H2 -> 97.447183
A3: 1 | B3: [94] PAPUA | C3: [08] KEPULAUAN YAPEN | D3: 856 | E3: 856 | F3: 1 | G3: 817 | H3: 0.95443925 | I3: =100*F3 -> 100 | J3: =100*H3 -> 95.443925
A4: 2 | B4: [94] PAPUA | C4: [09] BIAK NUMFOR | D4: 864 | E4: 864 | F4: 1 | G4: 864 | H4: 1 | I4: =100*F4 -> 100 | J4: =100*H4 -> 100
A5: 3 | B5: [94] PAPUA | C5: [19] SARMI | D5: 428 | E5: 428 | F5: 1 | G5: 384 | H5: 0.89719626 | I5: =100*F5 -> 100 | J5: =100*H5 -> 89.719626
A6: 4 | B6: [94] PAPUA | C6: [20] KEEROM | D6: 727 | E6: 727 | F6: 1 | G6: 679 | H6: 0.93397524 | I6: =100*F6 -> 100 | J6: =100*H6 -> 93.397524
A7: 5 | B7: [94] PAPUA | C7: [26] WAROPEN | D7: 388 | E7: 388 | F7: 1 | G7: 378 | H7: 0.9742268 | I7: =100*F7 -> 100 | J7: =100*H7 -> 97.42268
A8: 6 | B8: [94] PAPUA | C8: [27] SUPIORI | D8: 204 | E8: 204 | F8: 1 | G8: 204 | H8: 1 | I8: =100*F8 -> 100 | J8: =100*H8 -> 100
A9: 7 | B9: [94] PAPUA | C9: [28] MAMBERAMO RAYA | D9: 98 | E9: 98 | F9: 1 | G9: 74 | H9: 0.75510204 | I9: =100*F9 -> 100 | J9: =100*H9 -> 75.510204
A10: 8 | B10: [94] PAPUA | C10: [71] JAYAPURA | D10: 1244 | E10: 1244 | F10: 1 | G10: 1233 | H10: 0.99115756 | I10: =100*F10 -> 100 | J10: =100*H10 -> 99.115756
A11: 9 | B11: [95] PAPUA SELATAN | C11: [01] MERAUKE | D11: 1987 | E11: 1987 | F11: 1 | G11: 1777 | H11: 0.89431303 | I11: =100*F11 -> 100 | J11: =100*H11 -> 89.431303
A12: 10 | B12: [95] PAPUA SELATAN | C12: [02] BOVEN DIGOEL | D12: 513 | E12: 513 | F12: 1 | G12: 511 | H12: 0.99610136 | I12: =100*F12 -> 100 | J12: =100*H12 -> 99.610136
A13: 11 | B13: [95] PAPUA SELATAN | C13: [03] MAPPI | D13: 882 | E13: 882 | F13: 1 | G13: 849 | H13: 0.96258503 | I13: =100*F13 -> 100 | J13: =100*H13 -> 96.258503
... A30: 28 | B30: [97] PAPUA PEGUNUNGAN | C30: [08] PEGUNUNGAN BINTANG | D30: 561 | E30: 561 | F30: 1 | G30: 406 | H30: 0.72370766 | I30: =100*F30 -> 100 | J30: =100*H30 -> 72.370766
A32: TANGGAL | B32: 24 Juni 2026
A33: WAKTU | B33: 14:51:52
B34: =B33+TIME(2,0,0) -> 0.70268519

Sheet SLSSubSLS
B1: Provinsi | C1: Kabupaten/Kota | D1: Kecamatan | E1: Desa/Kelurahan | F1: SLS | G1: Sub-SLS | H1: PPL | I1: PML | J1: SLS FASIH | K1: Assign | L1: Sync | M1: kdprop | N1: kdkab | O1: idkab
A2: 0 | B2: [94] PAPUA | C2: [03] JAYAPURA | D2: [080] KAUREH | E2: [004] SOSKOTEK | F2: [0005] RT 001 RW 004 | G2: [00] RT 001 RW 004 | H2: riksonsaidui@gmail.com | I2: muhamad.nasrokan17@gmail.com | J2: 1 | K2: 1 | L2: 1 | M2: =MID(B2, 2,2) -> 94 | N2: =MID(C2, 2,2) -> 03 | O2: =CONCATENATE(M2,N2) -> 9403
A3: 1 | B3: [94] PAPUA | C3: [03] JAYAPURA | D3: [080] KAUREH | E3: [005] LAPUA | F3: [0010] RT 003 RW 003 | G3: [00] RT 003 RW 003 | H3: markusfritsjanhermanggo@gmail.com | I3: muhamad.nasrokan17@gmail.com | J3: 1 | K3: 1 | L3: 1 | M3: =MID(B3, 2,2) -> 94 | N3: =MID(C3, 2,2) -> 03 | O3: =CONCATENATE(M3,N3) -> 9403
A4: 2 | B4: [94] PAPUA | C4: [03] JAYAPURA | D4: [080] KAUREH | E4: [004] SOSKOTEK | F4: [0001] RT 001 RW 001 | G4: [00] RT 001 RW 001 | H4: riksonsaidui@gmail.com | I4: muhamad.nasrokan17@gmail.com | J4: 1 | K4: 1 | L4: 1 | M4: =MID(B4, 2,2) -> 94 | N4: =MID(C4, 2,2) -> 03 | O4: =CONCATENATE(M4,N4) -> 9403
A5: 3 | B5: [94] PAPUA | C5: [03] JAYAPURA | D5: [080] KAUREH | E5: [004] SOSKOTEK | F5: [0002] RT 002 RW 001 | G5: [00] RT 002 RW 001 | H5: riksonsaidui@gmail.com | I5: muhamad.nasrokan17@gmail.com | J5: 1 | K5: 1 | L5: 1 | M5: =MID(B5, 2,2) -> 94 | N5: =MID(C5, 2,2) -> 03 | O5: =CONCATENATE(M5,N5) -> 9403
A6: 4 | B6: [94] PAPUA | C6: [03] JAYAPURA | D6: [080] KAUREH | E6: [005] LAPUA | F6: [0001] RT 001 RW 001 | G6: [00] RT 001 RW 001 | H6: riksonsaidui@gmail.com | I6: muhamad.nasrokan17@gmail.com | J6: 1 | K6: 1 | L6: 1 | M6: =MID(B6, 2,2) -> 94 | N6: =MID(C6, 2,2) -> 03 | O6: =CONCATENATE(M6,N6) -> 9403
A7: 5 | B7: [94] PAPUA | C7: [03] JAYAPURA | D7: [080] KAUREH | E7: [005] LAPUA | F7: [4006] RAJAWALI PONDOK 3 | G7: [00] RAJAWALI PONDOK 3 | H7: biak88296@gmail.com | I7: muhamad.nasrokan17@gmail.com | J7: 1 | K7: 1 | L7: 1 | M7: =MID(B7, 2,2) -> 94 | N7: =MID(C7, 2,2) -> 03 | O7: =CONCATENATE(M7,N7) -> 9403
A8: 6 | B8: [94] PAPUA | C8: [03] JAYAPURA | D8: [080] KAUREH | E8: [004] SOSKOTEK | F8: [0003] RT 001 RW 002 | G8: [00] RT 001 RW 002 | H8: riksonsaidui@gmail.com | I8: muhamad.nasrokan17@gmail.com | J8: 1 | K8: 1 | L8: 1 | M8: =MID(B8, 2,2) -> 94 | N8: =MID(C8, 2,2) -> 03 | O8: =CONCATENATE(M8,N8) -> 9403
A9: 7 | B9: [94] PAPUA | C9: [03] JAYAPURA | D9: [080] KAUREH | E9: [004] SOSKOTEK | F9: [0006] RT 002 RW 004 | G9: [00] RT 002 RW 004 | H9: riksonsaidui@gmail.com | I9: muhamad.nasrokan17@gmail.com | J9: 1 | K9: 1 | L9: 1 | M9: =MID(B9, 2,2) -> 94 | N9: =MID(C9, 2,2) -> 03 | O9: =CONCATENATE(M9,N9) -> 9403
A10: 8 | B10: [94] PAPUA | C10: [03] JAYAPURA | D10: [080] KAUREH | E10: [005] LAPUA | F10: [0009] KISARAN PASAR NAWA, RUMAH IKT - FLOBAMORA | G10: [00] KISARAN PASAR NAWA, RUMAH IKT - FLOBAMORA | H10: riksonsaidui@gmail.com | I10: muhamad.nasrokan17@gmail.com | J10: 1 | K10: 1 | L10: 1 | M10: =MID(B10, 2,2) -> 94 | N10: =MID(C10, 2,2) -> 03 | O10: =CONCATENATE(M10,N10) -> 9403
A11: 9 | B11: [94] PAPUA | C11: [03] JAYAPURA | D11: [080] KAUREH | E11: [005] LAPUA | F11: [4010] PERUMAHAN TRANSPORT JUK | G11: [00] PERUMAHAN TRANSPORT JUK | H11: inarixanisaidui44@gmail.com | I11: muhamad.nasrokan17@gmail.com | J11: 1 | K11: 1 | L11: 1 | M11: =MID(B11, 2,2) -> 94 | N11: =MID(C11, 2,2) -> 03 | O11: =CONCATENATE(M11,N11) -> 9403
A12: 10 | B12: [94] PAPUA | C12: [03] JAYAPURA | D12: [080] KAUREH | E12: [004] SOSKOTEK | F12: [0004] RT 001 RW 003 | G12: [00] RT 001 RW 003 | H12: riksonsaidui@gmail.com | I12: muhamad.nasrokan17@gmail.com | J12: 1 | K12: 1 | L12: 1 | M12: =MID(B12, 2,2) -> 94 | N12: =MID(C12, 2,2) -> 03 | O12: =CONCATENATE(M12,N12) -> 9403
A13: 11 | B13: [94] PAPUA | C13: [03] JAYAPURA | D13: [080] KAUREH | E13: [005] LAPUA | F13: [4007] PERUMAHAN TRANSPORT PABRIK | G13: [00] PERUMAHAN TRANSPORT PABRIK | H13: biak88296@gmail.com | I13: muhamad.nasrokan17@gmail.com | J13: 1 | K13: 1 | L13: 1 | M13: =MID(B13, 2,2) -> 94 | N13: =MID(C13, 2,2) -> 03 | O13: =CONCATENATE(M13,N13) -> 9403
... A15441: 15439 | B15441: [96] PAPUA TENGAH | C15441: [08] PUNCAK JAYA | D15441: [260] TAGANOMBAK | E15441: [010] LUGUBAGO | F15441: [2001] HUTAN LUGUBAGO | G15441: [00] HUTAN LUGUBAGO | H15441: karenatabuni570@gmail.com | I15441: natanaelpigai@gmail.com | J15441: 1 | K15441: 1 | L15441: 1 | M15441: =MID(B15441, 2,2) -> 96 | N15441: =MID(C15441, 2,2) -> 08 | O15441: =CONCATENATE(M15441,N15441) -> 9608
A15442: 15440 | B15442: [97] PAPUA PEGUNUNGAN | C15442: [01] NDUGA | D15442: [010] WOSAK | E15442: [001] BAMBISIK | F15442: [4001] BAMBISIK | G15442: [01] BAMBISIK | J15442: 1 | K15442: 0 | L15442: 0 | M15442: =MID(B15442, 2,2) -> 97 | N15442: =MID(C15442, 2,2) -> 01 | O15442: =CONCATENATE(M15442,N15442) -> 9701
A15443: 15441 | B15443: [97] PAPUA PEGUNUNGAN | C15443: [01] NDUGA | D15443: [010] WOSAK | E15443: [001] BAMBISIK | F15443: [4001] BAMBISIK | G15443: [02] BAMBISIK | J15443: 1 | K15443: 0 | L15443: 0 | M15443: =MID(B15443, 2,2) -> 97 | N15443: =MID(C15443, 2,2) -> 01 | O15443: =CONCATENATE(M15443,N15443) -> 9701
A15444: 15442 | B15444: [97] PAPUA PEGUNUNGAN | C15444: [01] NDUGA | D15444: [010] WOSAK | E15444: [003] BIALA | F15444: [4001] BIALA | G15444: [02] BIALA | J15444: 1 | K15444: 0 | L15444: 0 | M15444: =MID(B15444, 2,2) -> 97 | N15444: =MID(C15444, 2,2) -> 01 | O15444: =CONCATENATE(M15444,N15444) -> 9701
A15445: 15443 | B15445: [97] PAPUA PEGUNUNGAN | C15445: [01] NDUGA | D15445: [010] WOSAK | E15445: [002] NDUGWA | F15445: [4003] NDUGWA | G15445: [00] NDUGWA | J15445: 1 | K15445: 0 | L15445: 0 | M15445: =MID(B15445, 2,2) -> 97 | N15445: =MID(C15445, 2,2) -> 01 | O15445: =CONCATENATE(M15445,N15445) -> 9701
A15446: 15444 | B15446: [97] PAPUA PEGUNUNGAN | C15446: [01] NDUGA | D15446: [010] WOSAK | E15446: [002] NDUGWA | F15446: [4001] WINISINILI | G15446: [00] WINISINILI | J15446: 1 | K15446: 0 | L15446: 0 | M15446: =MID(B15446, 2,2) -> 97 | N15446: =MID(C15446, 2,2) -> 01 | O15446: =CONCATENATE(M15446,N15446) -> 9701
A15447: 15445 | B15447: [97] PAPUA PEGUNUNGAN | C15447: [01] NDUGA | D15447: [010] WOSAK | E15447: [004] PILINI | F15447: [4003] OBEM | G15447: [00] OBEM | J15447: 1 | K15447: 0 | L15447: 0 | M15447: =MID(B15447, 2,2) -> 97 | N15447: =MID(C15447, 2,2) -> 01 | O15447: =CONCATENATE(M15447,N15447) -> 9701
A15448: 15446 | B15448: [97] PAPUA PEGUNUNGAN | C15448: [01] NDUGA | D15448: [010] WOSAK | E15448: [004] PILINI | F15448: [4001] WOSAKLUSU | G15448: [00] WOSAKLUSU | J15448: 1 | K15448: 0 | L15448: 0 | M15448: =MID(B15448, 2,2) -> 97 | N15448: =MID(C15448, 2,2) -> 01 | O15448: =CONCATENATE(M15448,N15448) -> 9701
A15449: 15447 | B15449: [97] PAPUA PEGUNUNGAN | C15449: [01] NDUGA | D15449: [010] WOSAK | E15449: [002] NDUGWA | F15449: [4005] EBFIEN | G15449: [00] EBFIEN | J15449: 1 | K15449: 0 | L15449: 0 | M15449: =MID(B15449, 2,2) -> 97 | N15449: =MID(C15449, 2,2) -> 01 | O15449: =CONCATENATE(M15449,N15449) -> 9701
A15450: 15448 | B15450: [97] PAPUA PEGUNUNGAN | C15450: [01] NDUGA | D15450: [010] WOSAK | E15450: [002] NDUGWA | F15450: [4002] SIGIEN | G15450: [00] SIGIEN | J15450: 1 | K15450: 0 | L15450: 0 | M15450: =MID(B15450, 2,2) -> 97 | N15450: =MID(C15450, 2,2) -> 01 | O15450: =CONCATENATE(M15450,N15450) -> 9701
A15451: 15449 | B15451: [97] PAPUA PEGUNUNGAN | C15451: [01] NDUGA | D15451: [020] MOBA | E15451: [001] GUNIA | F15451: [4001] DUSINAGAIMA | G15451: [00] DUSINAGAIMA | J15451: 1 | K15451: 0 | L15451: 0 | M15451: =MID(B15451, 2,2) -> 97 | N15451: =MID(C15451, 2,2) -> 01 | O15451: =CONCATENATE(M15451,N15451) -> 9701
A15452: 15450 | B15452: [97] PAPUA PEGUNUNGAN | C15452: [01] NDUGA | D15452: [010] WOSAK | E15452: [004] PILINI | F15452: [4002] PILINI | G15452: [00] PILINI | J15452: 1 | K15452: 0 | L15452: 0 | M15452: =MID(B15452, 2,2) -> 97 | N15452: =MID(C15452, 2,2) -> 01 | O15452: =CONCATENATE(M15452,N15452) -> 9701
A15453: 15451 | B15453: [97] PAPUA PEGUNUNGAN | C15453: [01] NDUGA | D15453: [010] WOSAK | E15453: [003] BIALA | F15453: [4001] BIALA | G15453: [01] BIALA | J15453: 1 | K15453: 0 | L15453: 0 | M15453: =MID(B15453, 2,2) -> 97 | N15453: =MID(C15453, 2,2) -> 01 | O15453: =CONCATENATE(M15453,N15453) -> 9701
... A15771: 15769 | B15771: [97] PAPUA PEGUNUNGAN | C15771: [01] NDUGA | D15771: [320] WUSI | E15771: [003] PIJEMAE | F15771: [4003] RAWANI | G15771: [00] RAWANI | J15771: 1 | K15771: 0 | L15771: 0 | M15771: =MID(B15771, 2,2) -> 97 | N15771: =MID(C15771, 2,2) -> 01 | O15771: =CONCATENATE(M15771,N15771) -> 9701
A15772: 15770 | B15772: [97] PAPUA PEGUNUNGAN | C15772: [02] JAYAWIJAYA | D15772: [010] WAMENA | E15772: [002] WAMAROMA | F15772: [0001] RT 001 | G15772: [00] RT 001 | H15772: denius1100@gmail.com | I15772: elirayigibalommelirayigibalom@gmail.com | J15772: 1 | K15772: 1 | L15772: 0 | M15772: =MID(B15772, 2,2) -> 97 | N15772: =MID(C15772, 2,2) -> 02 | O15772: =CONCATENATE(M15772,N15772) -> 9702
A15773: 15771 | B15773: [97] PAPUA PEGUNUNGAN | C15773: [02] JAYAWIJAYA | D15773: [010] WAMENA | E15773: [001] LANTIPO | F15773: [0002] DUSUN HULEKAMA | G15773: [00] DUSUN HULEKAMA | H15773: lincewanimbo795@gmail.com | I15773: elirayigibalommelirayigibalom@gmail.com | J15773: 1 | K15773: 1 | L15773: 0 | M15773: =MID(B15773, 2,2) -> 97 | N15773: =MID(C15773, 2,2) -> 02 | O15773: =CONCATENATE(M15773,N15773) -> 9702
A15774: 15772 | B15774: [97] PAPUA PEGUNUNGAN | C15774: [02] JAYAWIJAYA | D15774: [010] WAMENA | E15774: [001] LANTIPO | F15774: [0001] DUSUN MENOKAROMA | G15774: [00] DUSUN MENOKAROMA | H15774: lincewanimbo795@gmail.com | I15774: elirayigibalommelirayigibalom@gmail.com | J15774: 1 | K15774: 1 | L15774: 0 | M15774: =MID(B15774, 2,2) -> 97 | N15774: =MID(C15774, 2,2) -> 02 | O15774: =CONCATENATE(M15774,N15774) -> 9702
A15775: 15773 | B15775: [97] PAPUA PEGUNUNGAN | C15775: [02] JAYAWIJAYA | D15775: [010] WAMENA | E15775: [001] LANTIPO | F15775: [0004] DUSUN YOMAGAIMA | G15775: [00] DUSUN YOMAGAIMA | H15775: lincewanimbo795@gmail.com | I15775: elirayigibalommelirayigibalom@gmail.com | J15775: 1 | K15775: 1 | L15775: 0 | M15775: =MID(B15775, 2,2) -> 97 | N15775: =MID(C15775, 2,2) -> 02 | O15775: =CONCATENATE(M15775,N15775) -> 9702
A15776: 15774 | B15776: [97] PAPUA PEGUNUNGAN | C15776: [02] JAYAWIJAYA | D15776: [010] WAMENA | E15776: [003] WAMENA KOTA | F15776: [0002] RT 02 RW 001 | G15776: [00] RT 02 RW 001 | H15776: mancewenda2@gmail.com | I15776: elirayigibalommelirayigibalom@gmail.com | J15776: 1 | K15776: 1 | L15776: 0 | M15776: =MID(B15776, 2,2) -> 97 | N15776: =MID(C15776, 2,2) -> 02 | O15776: =CONCATENATE(M15776,N15776) -> 9702
A15777: 15775 | B15777: [97] PAPUA PEGUNUNGAN | C15777: [02] JAYAWIJAYA | D15777: [010] WAMENA | E15777: [001] LANTIPO | F15777: [0003] DUSUN SILIMO | G15777: [00] DUSUN SILIMO | H15777: lincewanimbo795@gmail.com | I15777: elirayigibalommelirayigibalom@gmail.com | J15777: 1 | K15777: 1 | L15777: 0 | M15777: =MID(B15777, 2,2) -> 97 | N15777: =MID(C15777, 2,2) -> 02 | O15777: =CONCATENATE(M15777,N15777) -> 9702
A15778: 15776 | B15778: [97] PAPUA PEGUNUNGAN | C15778: [02] JAYAWIJAYA | D15778: [010] WAMENA | E15778: [003] WAMENA KOTA | F15778: [0001] RT 01 RW 001 | G15778: [01] RT 01 RW 001 | H15778: mancewenda2@gmail.com | I15778: elirayigibalommelirayigibalom@gmail.com | J15778: 1 | K15778: 1 | L15778: 0 | M15778: =MID(B15778, 2,2) -> 97 | N15778: =MID(C15778, 2,2) -> 02 | O15778: =CONCATENATE(M15778,N15778) -> 9702
A15779: 15777 | B15779: [97] PAPUA PEGUNUNGAN | C15779: [02] JAYAWIJAYA | D15779: [010] WAMENA | E15779: [002] WAMAROMA | F15779: [0002] RT 002 | G15779: [00] RT 002 | H15779: denius1100@gmail.com | I15779: elirayigibalommelirayigibalom@gmail.com | J15779: 1 | K15779: 1 | L15779: 0 | M15779: =MID(B15779, 2,2) -> 97 | N15779: =MID(C15779, 2,2) -> 02 | O15779: =CONCATENATE(M15779,N15779) -> 9702
A15780: 15778 | B15780: [97] PAPUA PEGUNUNGAN | C15780: [02] JAYAWIJAYA | D15780: [010] WAMENA | E15780: [003] WAMENA KOTA | F15780: [0008] RT 01 RW 003 | G15780: [01] RT 01 RW 003 | H15780: fakriansya11@gmail.com | I15780: aguswenda63@gmail.com | J15780: 1 | K15780: 1 | L15780: 1 | M15780: =MID(B15780, 2,2) -> 97 | N15780: =MID(C15780, 2,2) -> 02 | O15780: =CONCATENATE(M15780,N15780) -> 9702
A15781: 15779 | B15781: [97] PAPUA PEGUNUNGAN | C15781: [02] JAYAWIJAYA | D15781: [010] WAMENA | E15781: [002] WAMAROMA | F15781: [0004] RT 004 | G15781: [00] RT 004 | H15781: denius1100@gmail.com | I15781: elirayigibalommelirayigibalom@gmail.com | J15781: 1 | K15781: 1 | L15781: 0 | M15781: =MID(B15781, 2,2) -> 97 | N15781: =MID(C15781, 2,2) -> 02 | O15781: =CONCATENATE(M15781,N15781) -> 9702
A15782: 15780 | B15782: [97] PAPUA PEGUNUNGAN | C15782: [02] JAYAWIJAYA | D15782: [010] WAMENA | E15782: [003] WAMENA KOTA | F15782: [0001] RT 01 RW 001 | G15782: [02] RT 01 RW 001 | H15782: mancewenda2@gmail.com | I15782: elirayigibalommelirayigibalom@gmail.com | J15782: 1 | K15782: 1 | L15782: 0 | M15782: =MID(B15782, 2,2) -> 97 | N15782: =MID(C15782, 2,2) -> 02 | O15782: =CONCATENATE(M15782,N15782) -> 9702
A15783: 15781 | B15783: [97] PAPUA PEGUNUNGAN | C15783: [02] JAYAWIJAYA | D15783: [010] WAMENA | E15783: [002] WAMAROMA | F15783: [0003] RT 003 | G15783: [00] RT 003 | H15783: denius1100@gmail.com | I15783: elirayigibalommelirayigibalom@gmail.com | J15783: 1 | K15783: 1 | L15783: 0 | M15783: =MID(B15783, 2,2) -> 97 | N15783: =MID(C15783, 2,2) -> 02 | O15783: =CONCATENATE(M15783,N15783) -> 9702
... A19648: 19646 | B19648: [97] PAPUA PEGUNUNGAN | C19648: [08] PEGUNUNGAN BINTANG | D19648: [340] MOFINOP | E19648: [001] MOT | F19648: [2001] MOT | G19648: [00] MOT | H19648: temtopkenikos@gmail.com | I19648: beatrikxsohilait@gmail.com | J19648: 1 | K19648: 1 | L19648: 0 | M19648: =MID(B19648, 2,2) -> 97 | N19648: =MID(C19648, 2,2) -> 08 | O19648: =CONCATENATE(M19648,N19648) -> 9708

Sheet Petugas
B1: Provinsi | C1: Kabupaten/Kota | D1: Target PPL | E1: PPL FASIH | F1: PPL Sync | G1: % PPL Sync | H1: Target PML | I1: PML FASIH | J1: PML Sync | K1: % PML Sync | L1: % PPL SYNC | M1: % PML SYNC
A2: 0 | B2: [94] PAPUA | C2: [03] JAYAPURA | D2: 134 | E2: 135 | F2: 132 | G2: 0.98507463 | H2: 25 | I2: 25 | J2: 25 | K2: 1 | L2: =100*G2 -> 98.507463 | M2: =100*K2 -> 100
A3: 1 | B3: [94] PAPUA | C3: [08] KEPULAUAN YAPEN | D3: 84 | E3: 84 | F3: 81 | G3: 0.96428571 | H3: 20 | I3: 20 | J3: 19 | K3: 0.95 | L3: =100*G3 -> 96.428571 | M3: =100*K3 -> 95
A4: 2 | B4: [94] PAPUA | C4: [09] BIAK NUMFOR | D4: 111 | E4: 111 | F4: 111 | G4: 1 | H4: 24 | I4: 24 | J4: 24 | K4: 1 | L4: =100*G4 -> 100 | M4: =100*K4 -> 100
A5: 3 | B5: [94] PAPUA | C5: [19] SARMI | D5: 35 | E5: 35 | F5: 33 | G5: 0.94285714 | H5: 11 | I5: 11 | J5: 11 | K5: 1 | L5: =100*G5 -> 94.285714 | M5: =100*K5 -> 100
A6: 4 | B6: [94] PAPUA | C6: [20] KEEROM | D6: 70 | E6: 71 | F6: 66 | G6: 0.94285714 | H6: 15 | I6: 15 | J6: 15 | K6: 1 | L6: =100*G6 -> 94.285714 | M6: =100*K6 -> 100
A7: 5 | B7: [94] PAPUA | C7: [26] WAROPEN | D7: 35 | E7: 35 | F7: 34 | G7: 0.97142857 | H7: 12 | I7: 12 | J7: 11 | K7: 0.91666667 | L7: =100*G7 -> 97.142857 | M7: =100*K7 -> 91.666667
A8: 6 | B8: [94] PAPUA | C8: [27] SUPIORI | D8: 21 | E8: 21 | F8: 21 | G8: 1 | H8: 5 | I8: 5 | J8: 5 | K8: 1 | L8: =100*G8 -> 100 | M8: =100*K8 -> 100
A9: 7 | B9: [94] PAPUA | C9: [28] MAMBERAMO RAYA | D9: 23 | E9: 23 | F9: 19 | G9: 0.82608696 | H9: 8 | I9: 8 | J9: 7 | K9: 0.875 | L9: =100*G9 -> 82.608696 | M9: =100*K9 -> 87.5
A10: 8 | B10: [94] PAPUA | C10: [71] JAYAPURA | D10: 216 | E10: 218 | F10: 217 | G10: 1.0046761 | H10: 30 | I10: 30 | J10: 30 | K10: 1 | L10: =100*G10 -> 100.46761 | M10: =100*K10 -> 100
A11: 9 | B11: [95] PAPUA SELATAN | C11: [01] MERAUKE | D11: 207 | E11: 207 | F11: 194 | G11: 0.93719807 | H11: 38 | I11: 38 | J11: 37 | K11: 0.97368421 | L11: =100*G11 -> 93.719807 | M11: =100*K11 -> 97.368421
A12: 10 | B12: [95] PAPUA SELATAN | C12: [02] BOVEN DIGOEL | D12: 69 | E12: 69 | F12: 69 | G12: 1 | H12: 22 | I12: 22 | J12: 22 | K12: 1 | L12: =100*G12 -> 100 | M12: =100*K12 -> 100
A13: 11 | B13: [95] PAPUA SELATAN | C13: [03] MAPPI | D13: 80 | E13: 80 | F13: 77 | G13: 0.9625 | H13: 17 | I13: 17 | J13: 14 | K13: 0.82352941 | L13: =100*G13 -> 96.25 | M13: =100*K13 -> 82.352941
... A22: 20 | B22: [96] PAPUA TENGAH | C22: [08] PUNCAK JAYA | D22: 141 | E22: 146 | F22: 30 | G22: 0.21275087 | H22: 27 | I22: 26 | J22: 8 | K22: 0.2962963 | L22: =100*G22 -> 21.275087 | M22: =100*K22 -> 29.62963
B23: [97] PAPUA PEGUNUNGAN | C23: [01] NDUGA | D23: 0 | E23: 0 | F23: 0 | G23: 0 | H23: 0 | I23: 0 | J23: 0 | K23: 0 | L23: =100*G23 -> 0 | M23: =100*K23 -> 0
A24: 21 | B24: [97] PAPUA PEGUNUNGAN | C24: [02] JAYAWIJAYA | D24: 222 | E24: 224 | F24: 58 | G24: 0.26124949 | H24: 47 | I24: 48 | J24: 13 | K24: 0.27659574 | L24: =100*G24 -> 26.124949 | M24: =100*K24 -> 27.659574
A25: 22 | B25: [97] PAPUA PEGUNUNGAN | C25: [03] LANNY JAYA | D25: 183 | E25: 183 | F25: 107 | G25: 0.58469945 | H25: 39 | I25: 39 | J25: 27 | K25: 0.69230769 | L25: =100*G25 -> 58.469945 | M25: =100*K25 -> 69.230769
A26: 23 | B26: [97] PAPUA PEGUNUNGAN | C26: [04] TOLIKARA | D26: 160 | E26: 160 | F26: 4 | G26: 0.025 | H26: 47 | I26: 47 | J26: 1 | K26: 0.021276596 | L26: =100*G26 -> 2.5 | M26: =100*K26 -> 2.1276596
A27: 24 | B27: [97] PAPUA PEGUNUNGAN | C27: [05] MAMBERAMO TENGAH | D27: 43 | E27: 42 | F27: 10 | G27: 0.23255814 | H27: 8 | I27: 8 | J27: 3 | K27: 0.375 | L27: =100*G27 -> 23.255814 | M27: =100*K27 -> 37.5
A28: 25 | B28: [97] PAPUA PEGUNUNGAN | C28: [06] YALIMO | D28: 82 | E28: 84 | F28: 37 | G28: 0.45121951 | H28: 13 | I28: 14 | J28: 1 | K28: 0.076923077 | L28: =100*G28 -> 45.121951 | M28: =100*K28 -> 7.6923077
A29: 26 | B29: [97] PAPUA PEGUNUNGAN | C29: [07] YAHUKIMO | D29: 268 | E29: 267 | F29: 42 | G29: 0.15672227 | H29: 55 | I29: 55 | J29: 10 | K29: 0.18181818 | L29: =100*G29 -> 15.672227 | M29: =100*K29 -> 18.181818
A30: 27 | B30: [97] PAPUA PEGUNUNGAN | C30: [08] PEGUNUNGAN BINTANG | D30: 90 | E30: 90 | F30: 67 | G30: 0.74444444 | H30: 34 | I30: 34 | J30: 14 | K30: 0.41176471 | L30: =100*G30 -> 74.444444 | M30: =100*K30 -> 41.176471

Sheet KONFIRM
A1: kdprov | B1: kdkab | C1: kdkab | D1: nmkab | E1: sudah_isi_link | F1: jlh_assign | G1: jlh_sync | H1: persen_assign | I1: persen_sync | J1: target (SLS)
A2: 94 | B2: 03 | C2: 9403 | D2: JAYAPURA | E2: TRUE | F2: 1123 | G2: 0 | H2: =100*F2/J2 -> 98.855634 | I2: =100*G2/J2 -> 0 | J2: 1136 | L2: 494 | M2: 0 | N2: =IF(H2=100,1,0) -> 0 | P2: 737 | Q2: =100*P2/J2 -> 64.876761
A3: 94 | B3: 08 | C3: 9408 | D3: KEPULAUAN YAPEN | E3: TRUE | F3: 856 | G3: 0 | H3: =100*F3/J3 -> 100 | I3: =100*G3/J3 -> 0 | J3: 856 | L3: 0 | M3: 0 | N3: =IF(H3=100,1,0) -> 1 | P3: 856 | Q3: =100*P3/J3 -> 100
A4: 94 | B4: 09 | C4: 9409 | D4: BIAK NUMFOR | E4: TRUE | F4: 864 | G4: 0 | H4: =100*F4/J4 -> 100 | I4: =100*G4/J4 -> 0 | J4: 864 | L4: 0 | M4: 0 | N4: =IF(H4=100,1,0) -> 1 | P4: 0 | Q4: =100*P4/J4 -> 0 | S4: 1
A5: 94 | B5: 19 | C5: 9419 | D5: SARMI | E5: TRUE | F5: 428 | G5: 428 | H5: =100*F5/J5 -> 100 | I5: =100*G5/J5 -> 100 | J5: 428 | L5: 580 | M5: 8 | N5: =IF(H5=100,1,0) -> 1 | P5: 428 | Q5: =100*P5/J5 -> 100
A6: 94 | B6: 20 | C6: 9420 | D6: KEEROM | E6: TRUE | F6: 726 | G6: 103 | H6: =100*F6/J6 -> 100 | I6: =100*G6/J6 -> 14.187328 | J6: 726 | L6: 0 | M6: 0 | N6: =IF(H6=100,1,0) -> 1 | P6: 726 | Q6: =100*P6/J6 -> 100
A7: 94 | B7: 26 | C7: 9426 | D7: WAROPEN | E7: TRUE | F7: 388 | G7: 0 | H7: =100*F7/J7 -> 100 | I7: =100*G7/J7 -> 0 | J7: 388 | L7: 0 | M7: 0 | N7: =IF(H7=100,1,0) -> 1 | P7: 388 | Q7: =100*P7/J7 -> 100
A8: 94 | B8: 27 | C8: 9427 | D8: SUPIORI | E8: TRUE | F8: 204 | G8: 0 | H8: =100*F8/J8 -> 100 | I8: =100*G8/J8 -> 0 | J8: 204 | L8: 0 | M8: 0 | N8: =IF(H8=100,1,0) -> 1 | P8: 204 | Q8: =100*P8/J8 -> 100
A9: 94 | B9: 28 | C9: 9428 | D9: MAMBERAMO RAYA | E9: TRUE | F9: 43 | G9: 2 | H9: =100*F9/J9 -> 43.877551 | I9: =100*G9/J9 -> 2.0408163 | J9: 98 | L9: 0 | M9: 0 | N9: =IF(H9=100,1,0) -> 0 | P9: 0 | Q9: =100*P9/J9 -> 0 | S9: 1
A10: 94 | B10: 71 | C10: 9471 | D10: KOTA JAYAPURA | E10: TRUE | F10: 1244 | G10: 0 | H10: =100*F10/J10 -> 100 | I10: =100*G10/J10 -> 0 | J10: 1244 | L10: 0 | M10: 0 | N10: =IF(H10=100,1,0) -> 1 | P10: 1244 | Q10: =100*P10/J10 -> 100
A11: 95 | B11: 01 | C11: 9501 | D11: MERAUKE | E11: TRUE | F11: 1987 | G11: 1987 | H11: =100*F11/J11 -> 100 | I11: =100*G11/J11 -> 100 | J11: 1987 | L11: 1022 | M11: 111 | N11: =IF(H11=100,1,0) -> 1 | P11: 1987 | Q11: =100*P11/J11 -> 100
A12: 95 | B12: 02 | C12: 9502 | D12: BOVEN DIGOEL | E12: TRUE | F12: 513 | G12: 513 | H12: =100*F12/J12 -> 100 | I12: =100*G12/J12 -> 100 | J12: 513 | L12: 0 | M12: 0 | N12: =IF(H12=100,1,0) -> 1 | P12: 513 | Q12: =100*P12/J12 -> 100
A13: 95 | B13: 03 | C13: 9503 | D13: MAPPI | E13: TRUE | F13: 882 | G13: 0 | H13: =100*F13/J13 -> 100 | I13: =100*G13/J13 -> 0 | J13: 882 | L13: 5 | M13: 0 | N13: =IF(H13=100,1,0) -> 1 | P13: 882 | Q13: =100*P13/J13 -> 100
A14: 95 | B14: 04 | C14: 9504 | D14: ASMAT | E14: FALSE | F14: 0 | G14: 0 | H14: =100*F14/J14 -> 0 | I14: =100*G14/J14 -> 0 | J14: 951 | L14: 0 | M14: 0 | N14: =IF(H14=100,1,0) -> 0 | P14: 0 | Q14: =100*P14/J14 -> 0 | S14: 1
A15: 96 | B15: 01 | C15: 9601 | D15: MIMIKA | E15: TRUE | F15: 1081 | G15: 0 | H15: =100*F15/J15 -> 82.018209 | I15: =100*G15/J15 -> 0 | J15: 1318 | L15: 0 | M15: 0 | N15: =IF(H15=100,1,0) -> 0 | P15: 1318 | Q15: =100*P15/J15 -> 100
A16: 96 | B16: 02 | C16: 9602 | D16: DOGIYAI | E16: TRUE | F16: 504 | G16: 0 | H16: =100*F16/J16 -> 100 | I16: =100*G16/J16 -> 0 | J16: 504 | L16: 0 | M16: 0 | N16: =IF(H16=100,1,0) -> 1 | P16: 504 | Q16: =100*P16/J16 -> 100
A17: 96 | B17: 03 | C17: 9603 | D17: DEIYAI | E17: TRUE | F17: 0 | G17: 0 | H17: =100*F17/J17 -> 0 | I17: =100*G17/J17 -> 0 | J17: 325 | L17: 0 | M17: 0 | N17: =IF(H17=100,1,0) -> 0 | P17: 325 | Q17: =100*P17/J17 -> 100
A18: 96 | B18: 04 | C18: 9604 | D18: NABIRE | E18: TRUE | F18: 939 | G18: 939 | H18: =100*F18/J18 -> 100 | I18: =100*G18/J18 -> 100 | J18: 939 | L18: 0 | M18: 0 | N18: =IF(H18=100,1,0) -> 1 | P18: 939 | Q18: =100*P18/J18 -> 100
A19: 96 | B19: 05 | C19: 9605 | D19: PANIAI | E19: TRUE | F19: 0 | G19: 0 | H19: =100*F19/J19 -> 0 | I19: =100*G19/J19 -> 0 | J19: 1075 | L19: 4 | M19: 0 | N19: =IF(H19=100,1,0) -> 0 | P19: 0 | Q19: =100*P19/J19 -> 0 | S19: 1
A20: 96 | B20: 06 | C20: 9606 | D20: INTAN JAYA | E20: TRUE | F20: 0 | G20: 0 | H20: =100*F20/J20 -> 0 | I20: =100*G20/J20 -> 0 | J20: 373 | L20: 0 | M20: 0 | N20: =IF(H20=100,1,0) -> 0 | P20: 0 | Q20: =100*P20/J20 -> 0 | S20: 1
A21: 96 | B21: 07 | C21: 9607 | D21: PUNCAK | E21: TRUE | F21: 234 | G21: 10 | H21: =100*F21/J21 -> 100 | I21: =100*G21/J21 -> 4.2735043 | J21: 234 | L21: 234 | M21: 0 | N21: =IF(H21=100,1,0) -> 1 | P21: 234 | Q21: =100*P21/J21 -> 100
A22: 96 | B22: 08 | C22: 9608 | D22: PUNCAK JAYA | E22: TRUE | F22: 387 | G22: 0 | H22: =100*F22/J22 -> 98.22335 | I22: =100*G22/J22 -> 0 | J22: 394 | L22: 0 | M22: 0 | N22: =IF(H22=100,1,0) -> 0 | P22: 0 | Q22: =100*P22/J22 -> 0 | S22: 1
A23: 97 | B23: 01 | C23: 9701 | D23: NDUGA | E23: TRUE | F23: 0 | G23: 0 | H23: =100*F23/J23 -> 0 | I23: =100*G23/J23 -> 0 | J23: 330 | L23: 0 | M23: 0 | N23: =IF(H23=100,1,0) -> 0 | P23: 0 | Q23: =100*P23/J23 -> 0 | S23: 1
A24: 97 | B24: 02 | C24: 9702 | D24: JAYAWIJAYA | E24: TRUE | F24: 1206 | G24: 0 | H24: =100*F24/J24 -> 100 | I24: =100*G24/J24 -> 0 | J24: 1206 | L24: 0 | M24: 0 | N24: =IF(H24=100,1,0) -> 1 | P24: 1206 | Q24: =100*P24/J24 -> 100
A25: 97 | B25: 03 | C25: 9703 | D25: LANNY JAYA | E25: TRUE | F25: 431 | G25: 0 | H25: =100*F25/J25 -> 100 | I25: =100*G25/J25 -> 0 | J25: 431 | L25: 0 | M25: 0 | N25: =IF(H25=100,1,0) -> 1 | P25: 431 | Q25: =100*P25/J25 -> 100
A26: 97 | B26: 04 | C26: 9704 | D26: TOLIKARA | E26: TRUE | F26: 546 | G26: 0 | H26: =100*F26/J26 -> 100 | I26: =100*G26/J26 -> 0 | J26: 546 | L26: 124 | M26: 0 | N26: =IF(H26=100,1,0) -> 1 | P26: 546 | Q26: =100*P26/J26 -> 100
A27: 97 | B27: 05 | C27: 9705 | D27: MAMBERAMO TENGAH | E27: TRUE | F27: 87 | G27: 0 | H27: =100*F27/J27 -> 100 | I27: =100*G27/J27 -> 0 | J27: 87 | L27: 0 | M27: 0 | N27: =IF(H27=100,1,0) -> 1 | P27: 87 | Q27: =100*P27/J27 -> 100
A28: 97 | B28: 06 | C28: 9706 | D28: YALIMO | E28: TRUE | F28: 302 | G28: 0 | H28: =100*F28/J28 -> 100 | I28: =100*G28/J28 -> 0 | J28: 302 | L28: 0 | M28: 0 | N28: =IF(H28=100,1,0) -> 1 | P28: 302 | Q28: =100*P28/J28 -> 100
A29: 97 | B29: 07 | C29: 9707 | D29: YAHUKIMO | E29: TRUE | F29: 744 | G29: 0 | H29: =100*F29/J29 -> 100 | I29: =100*G29/J29 -> 0 | J29: 744 | L29: 506 | M29: 2 | N29: =IF(H29=100,1,0) -> 1 | P29: 744 | Q29: =100*P29/J29 -> 100
A30: 97 | B30: 08 | C30: 9708 | D30: PEGUNUNGAN BINTANG | E30: TRUE | F30: 561 | G30: 0 | H30: =100*F30/J30 -> 100 | I30: =100*G30/J30 -> 0 | J30: 561 | L30: 0 | M30: 0 | N30: =IF(H30=100,1,0) -> 1 | P30: 561 | Q30: =100*P30/J30 -> 100
A31: TOTAL | F31: =SUM(F2:F30) -> 16280 | G31: =SUM(G2:G30) -> 3982 | H31: =100*F31/J31 -> 82.866741 | I31: =100*G31/J31 -> 20.268757 | J31: =SUM(J2:J30) -> 19646 | N31: =SUM(N2:N30) -> 20 | P31: =SUM(P2:P30) -> 15162 | Q31: =100*P31/J31 -> 77.176015

Sheet Progres Desa Per DOB
A1: KABUPATEN | B1: TARGET DESA | C1: OPEN/REJECT | D1: PROGRES | E1: PERSEN | F1: SURAT PERSETUJUAN DATA PODES 2026
A2: 9403-JAYAPURA | B2: 144 | C2: 0 | D2: 144 | E2: =100*D2/B2 -> 100 | F2: TRUE
A3: 9408-KEPULAUAN YAPEN | B3: 165 | C3: 0 | D3: 165 | E3: =100*D3/B3 -> 100 | F3: TRUE
A4: 9409-BIAK NUMFOR | B4: 271 | C4: 0 | D4: 271 | E4: =100*D4/B4 -> 100 | F4: TRUE
A5: 9419-SARMI | B5: 111 | C5: 0 | D5: 111 | E5: =100*D5/B5 -> 100 | F5: TRUE
A6: 9420-KEEROM | B6: 91 | C6: 0 | D6: 91 | E6: =100*D6/B6 -> 100 | F6: TRUE
A7: 9426-WAROPEN | B7: 111 | C7: 0 | D7: 111 | E7: =100*D7/B7 -> 100 | F7: TRUE
A8: 9427-SUPIORI | B8: 38 | C8: 0 | D8: 38 | E8: =100*D8/B8 -> 100 | F8: TRUE
A9: 9428-MAMBERAMO RAYA | B9: 59 | C9: 25 | D9: 34 | E9: =100*D9/B9 -> 57.627119 | F9: TRUE
A10: 9471-JAYAPURA | B10: 39 | C10: 0 | D10: 39 | E10: =100*D10/B10 -> 100 | F10: TRUE
A11: 94 - PAPUA | B11: 1029 | C11: 25 | D11: 1004 | E11: 97.57 | F11: FALSE
A12: 9501-MERAUKE | B12: 190 | C12: 0 | D12: 190 | E12: =100*D12/B12 -> 100 | F12: TRUE
A13: 9502-BOVEN DIGOEL | B13: 112 | C13: 0 | D13: 112 | E13: =100*D13/B13 -> 100 | F13: TRUE
A14: 9503-MAPPI | B14: 164 | C14: 0 | D14: 164 | E14: =100*D14/B14 -> 100 | F14: TRUE
A15: 9504-ASMAT | B15: 224 | C15: 0 | D15: 224 | E15: =100*D15/B15 -> 100 | F15: TRUE
A16: 95 - PAPUA SELATAN | B16: 690 | C16: 0 | D16: 690 | E16: 100 | F16: FALSE
A17: 9601-MIMIKA | B17: 152 | C17: 0 | D17: 152 | E17: =100*D17/B17 -> 100 | F17: TRUE
A18: 9602-DOGIYAI | B18: 79 | C18: 12 | D18: 67 | E18: =100*D18/B18 -> 84.810127 | F18: TRUE
A19: 9603-DEIYAI | B19: 67 | C19: 0 | D19: 67 | E19: =100*D19/B19 -> 100 | F19: TRUE
A20: 9604-NABIRE | B20: 89 | C20: 9 | D20: 80 | E20: =100*D20/B20 -> 89.88764 | F20: TRUE
A21: 9605-PANIAI | B21: 216 | C21: 17 | D21: 199 | E21: =100*D21/B21 -> 92.12963 | F21: TRUE
A22: 9606-INTAN JAYA | B22: 97 | C22: 0 | D22: 97 | E22: =100*D22/B22 -> 100 | F22: TRUE
A23: 9607-PUNCAK | B23: 206 | C23: 0 | D23: 206 | E23: =100*D23/B23 -> 100 | F23: TRUE
A24: 9608-PUNCAK JAYA | B24: 302 | C24: 0 | D24: 302 | E24: =100*D24/B24 -> 100 | F24: TRUE
A25: 96 - PAPUA TENGAH | B25: 1208 | C25: 38 | D25: 1170 | E25: 96.85 | F25: FALSE
A26: 9701-NDUGA | B26: 248 | C26: 20 | D26: 228 | E26: =100*D26/B26 -> 91.935484 | F26: TRUE
A27: 9702-JAYAWIJAYA | B27: 332 | C27: 20 | D27: 312 | E27: =100*D27/B27 -> 93.975904 | F27: TRUE
A28: 9703-LANNY JAYA | B28: 355 | C28: 0 | D28: 355 | E28: =100*D28/B28 -> 100 | F28: TRUE
A29: 9704-TOLIKARA | B29: 545 | C29: 0 | D29: 545 | E29: =100*D29/B29 -> 100 | F29: TRUE
A30: 9705-MAMBERAMO TENGAH | B30: 59 | C30: 4 | D30: 55 | E30: =100*D30/B30 -> 93.220339 | F30: TRUE
A31: 9706-YALIMO | B31: 300 | C31: 26 | D31: 274 | E31: =100*D31/B31 -> 91.333333 | F31: TRUE
A32: 9707-YAHUKIMO | B32: 518 | C32: 0 | D32: 518 | E32: =100*D32/B32 -> 100 | F32: TRUE
A33: 9708-PEGUNUNGAN BINTANG | B33: 277 | C33: 19 | D33: 258 | E33: =100*D33/B33 -> 93.140794 | F33: TRUE
A34: 97 - PAPUA PEGUNUNGAN | B34: 2634 | C34: 89 | D34: 2545 | E34: 96.62 | F34: FALSE
A35: TOTAL | B35: 5561 | C35: 152 | D35: 5409 | E35: 97.27 | F35: FALSE
A36: TOTAL | F36: =COUNTIF(F2:F33, TRUE) -> 29

Sheet Detail
A1: Progres | B1: =Dashboard!G41 -> 73.334351
A2: Update | B2: =CONCATENATE(KabKota!B32," ",TEXT(KabKota!B34,"hh:mm:ss"), " WIT") -> 24 Juni 2026 16:51:52 WIT

Sheet Desa Non Respon
A1: NO | B1: ID DESA | C1: KODE PROV | D1: PROVINSI | E1: KODE KAB | F1: KABUPATEN | G1: KODE KECAMATAN | H1: KECAMATAN | I1: KODE DESA | J1: DESA | K1: ALASAN TIDAK BISA DIKUNJUNGI | L1: MITIGASI YANG SUDAH DILAKUKAN
A2: 1 | B2: 9428030004 | C2: 94 | D2: PAPUA | E2: 28 | F2: MAMBERAMO RAYA | G2: 030 | H2: WAROPEN ATAS | I2: 004 | J2: BARAPASI | K2: Keterbatasan anggaran (akses transportasi harus menggunakan speed boat) | L2: - Mencari dan mendatangi aparat kampung yang sedang berada di Ibu Kota Kabupaten atau narasumber terpercaya - Melakukan koordinasi dengan DPMK dan Dinas Kesehatan (data terbatas/ tidak lengkap).

Sheet Lampiran 1 Pub. Podes
B2: JUMLAH | F2: PERSENTASE
A3: KABUPATEN | B3: BERHASIL CACAH | C3: TIDAK BERHASIL CACAH | D3: JUMLAH | E3: Column 5 | F3: BERHASIL CACAH 2 | G3: TIDAK BERHASIL CACAH 2 | H3: JUMLAH 2
A4: Jayapura | B4: 144 | C4: 0 | D4: 144 | F4: =100*B4/D4 -> 100 | G4: =100*C4/D4 -> 0 | H4: =F4+G4 -> 100
A5: Kepulauan Yapen | B5: 165 | C5: 0 | D5: 165 | F5: =100*B5/D5 -> 100 | G5: =100*C5/D5 -> 0 | H5: =F5+G5 -> 100
A6: Biak Numfor | B6: 271 | C6: 0 | D6: 271 | F6: =100*B6/D6 -> 100 | G6: =100*C6/D6 -> 0 | H6: =F6+G6 -> 100
A7: Sarmi | B7: 111 | C7: 0 | D7: 111 | F7: =100*B7/D7 -> 100 | G7: =100*C7/D7 -> 0 | H7: =F7+G7 -> 100
A8: Keerom | B8: 91 | C8: 0 | D8: 91 | F8: =100*B8/D8 -> 100 | G8: =100*C8/D8 -> 0 | H8: =F8+G8 -> 100
A9: Waropen | B9: 111 | C9: 0 | D9: 111 | F9: =100*B9/D9 -> 100 | G9: =100*C9/D9 -> 0 | H9: =F9+G9 -> 100
A10: Supiori | B10: 38 | C10: 0 | D10: 38 | F10: =100*B10/D10 -> 100 | G10: =100*C10/D10 -> 0 | H10: =F10+G10 -> 100
A11: Mamberamo Raya | B11: 34 | C11: 25 | D11: 59 | F11: =100*B11/D11 -> 57.627119 | G11: =100*C11/D11 -> 42.372881 | H11: =F11+G11 -> 100
A12: Kota Jayapura | B12: 39 | C12: 0 | D12: 39 | F12: =100*B12/D12 -> 100 | G12: =100*C12/D12 -> 0 | H12: =F12+G12 -> 100
A14: Papua | B14: 1004 | C14: 25 | D14: 1029 | F14: 97.57 | G14: =100*C14/D14 -> 2.4295432 | H14: =F14+G14 -> 99.999543
A15: Merauke | B15: 190 | C15: 0 | D15: 190 | F15: =100*B15/D15 -> 100 | G15: =100*C15/D15 -> 0 | H15: =F15+G15 -> 100
A16: Boven Digoel | B16: 112 | C16: 0 | D16: 112 | F16: =100*B16/D16 -> 100 | G16: =100*C16/D16 -> 0 | H16: =F16+G16 -> 100
A17: Mappi | B17: 164 | C17: 0 | D17: 164 | F17: =100*B17/D17 -> 100 | G17: =100*C17/D17 -> 0 | H17: =F17+G17 -> 100
A18: Asmat | B18: 224 | C18: 0 | D18: 224 | F18: =100*B18/D18 -> 100 | G18: =100*C18/D18 -> 0 | H18: =F18+G18 -> 100
A20: Papua Selatan | B20: 690 | C20: 0 | D20: 690 | F20: 100 | G20: =100*C20/D20 -> 0 | H20: =F20+G20 -> 100
A21: Mimika | B21: 152 | C21: 0 | D21: 152 | F21: =100*B21/D21 -> 100 | G21: =100*C21/D21 -> 0 | H21: =F21+G21 -> 100
A22: Dogiyai | B22: 67 | C22: 12 | D22: 79 | F22: =100*B22/D22 -> 84.810127 | G22: =100*C22/D22 -> 15.189873 | H22: =F22+G22 -> 100
A23: Deiyai | B23: 67 | C23: 0 | D23: 67 | F23: =100*B23/D23 -> 100 | G23: =100*C23/D23 -> 0 | H23: =F23+G23 -> 100
A24: Nabire | B24: 80 | C24: 9 | D24: 89 | F24: =100*B24/D24 -> 89.88764 | G24: =100*C24/D24 -> 10.11236 | H24: =F24+G24 -> 100
A25: Paniai | B25: 199 | C25: 17 | D25: 216 | F25: =100*B25/D25 -> 92.12963 | G25: =100*C25/D25 -> 7.8703704 | H25: =F25+G25 -> 100
A26: Intan Jaya | B26: 97 | C26: 0 | D26: 97 | F26: =100*B26/D26 -> 100 | G26: =100*C26/D26 -> 0 | H26: =F26+G26 -> 100
A27: Puncak | B27: 206 | C27: 0 | D27: 206 | F27: =100*B27/D27 -> 100 | G27: =100*C27/D27 -> 0 | H27: =F27+G27 -> 100
A28: Puncak Jaya | B28: 302 | C28: 0 | D28: 302 | F28: =100*B28/D28 -> 100 | G28: =100*C28/D28 -> 0 | H28: =F28+G28 -> 100
A30: Papua Tengah | B30: 1170 | C30: 38 | D30: 1208 | F30: 96.85 | G30: =100*C30/D30 -> 3.1456954 | H30: =F30+G30 -> 99.995695
A31: Nduga | B31: 228 | C31: 20 | D31: 248 | F31: =100*B31/D31 -> 91.935484 | G31: =100*C31/D31 -> 8.0645161 | H31: =F31+G31 -> 100
A32: Jayawijaya | B32: 312 | C32: 20 | D32: 332 | F32: =100*B32/D32 -> 93.975904 | G32: =100*C32/D32 -> 6.0240964 | H32: =F32+G32 -> 100
A33: Lanny Jaya | B33: 355 | C33: 0 | D33: 355 | F33: =100*B33/D33 -> 100 | G33: =100*C33/D33 -> 0 | H33: =F33+G33 -> 100
A34: Tolikara | B34: 545 | C34: 0 | D34: 545 | F34: =100*B34/D34 -> 100 | G34: =100*C34/D34 -> 0 | H34: =F34+G34 -> 100
A35: Mamberamo Tengah | B35: 55 | C35: 4 | D35: 59 | F35: =100*B35/D35 -> 93.220339 | G35: =100*C35/D35 -> 6.779661 | H35: =F35+G35 -> 100
A36: Yalimo | B36: 274 | C36: 26 | D36: 300 | F36: =100*B36/D36 -> 91.333333 | G36: =100*C36/D36 -> 8.6666667 | H36: =F36+G36 -> 100
A37: Yahukimo | B37: 518 | C37: 0 | D37: 518 | F37: =100*B37/D37 -> 100 | G37: =100*C37/D37 -> 0 | H37: =F37+G37 -> 100
A38: Pegunungan Bintang | B38: 258 | C38: 19 | D38: 277 | F38: =100*B38/D38 -> 93.140794 | G38: =100*C38/D38 -> 6.8592058 | H38: =F38+G38 -> 100
A40: Papua Pegunungan | B40: 2545 | C40: 89 | D40: 2634 | F40: 96.62 | G40: =100*C40/D40 -> 3.3788914 | H40: =F40+G40 -> 99.998891
A41: TOTAL | B41: 5409 | C41: 152 | D41: 5561 | F41: 97.27 | G41: =100*C41/D41 -> 2.7333213 | H41: =F41+G41 -> 100.00332

Sheet Copy of Dashboard
B2: SNLIK 2025 PEMUTAKHIRAN
B4: =CONCATENATE("MONITORING PER TANGGAL ",'Copy of Progres Terakhir'!B6," ",'Copy of Progres Terakhir'!B7) -> MONITORING PER TANGGAL 23 JANUARI 2025 SORE | I4: =CONCATENATE("PROGRES PER TANGGAL ",'Copy of Progres Terakhir'!B6," ",'Copy of Progres Terakhir'!B7) -> PROGRES PER TANGGAL 23 JANUARI 2025 SORE
B5: per kabupaten | I5: per kabupaten
B6: KABUPATEN | C6: TARGET | D6: OPEN | E6: SUBMITTED | F6: COMPLETED | G6: REJECTED
B7: (1) | C7: (2) | D7: (3) | E7: (4) | F7: (5) | G7: (6)
B8: ='Copy of Progres Terakhir'!B2 -> 9410-PANIAI | C8: ='Copy of Progres Terakhir'!C2 -> 1120 | D8: ='Copy of Progres Terakhir'!D2 -> 862 | E8: ='Copy of Progres Terakhir'!F2 -> 258 | F8: ='Copy of Progres Terakhir'!H2 -> 0 | G8: ='Copy of Progres Terakhir'!J2 -> 0
B9: ='Copy of Progres Terakhir'!B3 -> 9418-TOLIKARA | C9: ='Copy of Progres Terakhir'!C3 -> 604 | D9: ='Copy of Progres Terakhir'!D3 -> 442 | E9: ='Copy of Progres Terakhir'!F3 -> 24 | F9: ='Copy of Progres Terakhir'!H3 -> 138 | G9: ='Copy of Progres Terakhir'!J3 -> 0
B10: ='Copy of Progres Terakhir'!B4 -> 9471-JAYAPURA | C10: ='Copy of Progres Terakhir'!C4 -> 1404 | D10: ='Copy of Progres Terakhir'!D4 -> 0 | E10: ='Copy of Progres Terakhir'!F4 -> 0 | F10: ='Copy of Progres Terakhir'!H4 -> 1404 | G10: ='Copy of Progres Terakhir'!J4 -> 0
B11: PROVINSI | C11: =SUM(C8:C10) -> 3128 | D11: =SUM(D8:D10) -> 1304 | E11: =SUM(E8:E10) -> 282 | F11: =SUM(F8:F10) -> 1542 | G11: =SUM(G8:G10) -> 0
B12: PROGRES HARIAN PROVINSI
B13: per assignment
B22: PROGRES HARIAN KOTA JAYAPURA PER HARI | G22: PROGRES HARIAN PANIAI PER HARI | N22: PROGRES HARIAN TOLIKARA PER HARI
B23: per assignment | G23: per assignment | N23: per assignment

Sheet Copy of Progres Terakhir
B1: Kabupaten | C1: Target | D1: OPEN | E1: % OPEN | F1: SUBMITTED BY Pencacah | G1: % SUBMITTED BY Pencacah | H1: COMPLETED BY Pengawas | I1: % COMPLETED BY Pengawas | J1: REJECTED BY Pengawas | K1: % OPEN | L1: % SUBMITTED BY Pencacah | M1: % COMPLETED BY Pengawas
A2: 0 | B2: 9410-PANIAI | C2: 1120 | D2: 862 | E2: 0.769643 | F2: 258 | G2: 0.230357 | H2: 0 | I2: 0 | J2: 0 | K2: =100*E2 -> 76.9643 | L2: =100*G2 -> 23.0357 | M2: =100*I2 -> 0
A3: 1 | B3: 9418-TOLIKARA | C3: 604 | D3: 442 | E3: 0.731788 | F3: 24 | G3: 0.039735 | H3: 138 | I3: 0.228477 | J3: 0 | K3: =100*E3 -> 73.1788 | L3: =100*G3 -> 3.9735 | M3: =100*I3 -> 22.8477
A4: 2 | B4: 9471-JAYAPURA | C4: 1404 | D4: 0 | E4: 0 | F4: 0 | G4: 0 | H4: 1404 | I4: 1 | J4: 0 | K4: =100*E4 -> 0 | L4: =100*G4 -> 0 | M4: =100*I4 -> 100
A6: TANGGAL | B6: 23 JANUARI 2025
A7: WAKTU | B7: SORE

Sheet Copy of Progres Harian All
A1: Column 1 | B1: Kabupaten | C1: Target | D1: OPEN | E1: % OPEN | F1: SUBMITTED BY Pencacah | G1: % SUBMITTED BY Pencacah | H1: COMPLETED BY Pengawas | I1: % COMPLETED BY Pengawas | J1: REJECTED BY Pengawas | K1: TANGGAL | L1: WAKTU
A2: 0 | B2: 9471-JAYAPURA | C2: 1157 | D2: 956 | E2: 0.826275 | F2: 199 | G2: 0.171997 | H2: 2 | I2: 0.001729 | J2: 0 | K2: 15 JANUARI 2025 | L2: SORE
A3: 1 | B3: 9410-PANIAI | C3: 1120 | D3: 1115 | E3: 0.995536 | F3: 5 | G3: 0.004464 | H3: 0 | I3: 0 | J3: 0 | K3: 15 JANUARI 2025 | L3: SORE
A4: 2 | B4: 9418-TOLIKARA | C4: 604 | D4: 604 | E4: 1 | F4: 0 | G4: 0 | H4: 0 | I4: 0 | J4: 0 | K4: 15 JANUARI 2025 | L4: SORE
A5: 0 | B5: 9471-JAYAPURA | C5: 1159 | D5: 913 | E5: 0.787748 | F5: 244 | G5: 0.210526 | H5: 2 | I5: 0.001726 | J5: 0 | K5: 16 JANUARI 2025 | L5: PAGI
A6: 1 | B6: 9410-PANIAI | C6: 1120 | D6: 1115 | E6: 0.995536 | F6: 5 | G6: 0.004464 | H6: 0 | I6: 0 | J6: 0 | K6: 16 JANUARI 2025 | L6: PAGI
A7: 2 | B7: 9418-TOLIKARA | C7: 604 | D7: 604 | E7: 1 | F7: 0 | G7: 0 | H7: 0 | I7: 0 | J7: 0 | K7: 16 JANUARI 2025 | L7: PAGI
A8: 0 | B8: 9471-JAYAPURA | C8: 1198 | D8: 794 | E8: 0.66277129 | F8: 402 | G8: 0.33555926 | H8: 2 | I8: 0.001669449 | J8: 0 | K8: 16 JANUARI 2025 | L8: SORE
A9: 1 | B9: 9410-PANIAI | C9: 1120 | D9: 1097 | E9: 0.97946429 | F9: 23 | G9: 0.020535714 | H9: 0 | I9: 0 | J9: 0 | K9: 16 JANUARI 2025 | L9: SORE
A10: 2 | B10: 9418-TOLIKARA | C10: 604 | D10: 604 | E10: 1 | F10: 0 | G10: 0 | H10: 0 | I10: 0 | J10: 0 | K10: 16 JANUARI 2025 | L10: SORE
A11: 0 | B11: 9471-JAYAPURA | C11: 1202 | D11: 770 | E11: 0.640599 | F11: 430 | G11: 0.3577371 | H11: 2 | I11: 0.0016638935 | J11: 0 | K11: 17 JANUARI 2025 | L11: PAGI
A12: 1 | B12: 9410-PANIAI | C12: 1120 | D12: 1097 | E12: 0.97946429 | F12: 23 | G12: 0.020535714 | H12: 0 | I12: 0 | J12: 0 | K12: 17 JANUARI 2025 | L12: PAGI
A13: 2 | B13: 9418-TOLIKARA | C13: 604 | D13: 604 | E13: 1 | F13: 0 | G13: 0 | H13: 0 | I13: 0 | J13: 0 | K13: 17 JANUARI 2025 | L13: PAGI
... A40: 2 | B40: 9471-JAYAPURA | C40: 1404 | D40: 0 | E40: 0 | F40: 0 | G40: 0 | H40: 1404 | I40: 1 | J40: 0 | K40: 23 JANUARI 2025 | L40: SORE

Sheet Monitoring
A1: No | B1: Kabupaten/Kota | C1: Pendataan
C2: Target | D2: Belum | E2: Proses | F2: Selesai (PPL) | G2: Approve (PML)
A3: 1 | B3: Kota Jayapura | C3: 90 RT | D3: 25 | E3: 0 | F3: 65 | G3: 22
A4: 2 | B4: Kabupaten Paniai | C4: 90 RT | D4: 50 | E4: 0 | F4: 40 | G4: 0
A5: 3 | B5: Kabupaten Tolikara | C5: 90 RT | D5: 16 | E5: 0 | F5: 74 | G5: 0
A7: MONITORING SNLIK 2025 PROVINSI PAPUA
A8: No | B8: Kabupaten/Kota | C8: Pendataan
C9: Target | D9: Belum | E9: Sedang | F9: Selesai (PPL) | G9: Approve (PML)
A10: 1 | B10: Kota Jayapura | C10: 90 RT | D10: =D3/90 -> 0.27777778 | E10: =E3/90 -> 0 | F10: =F3/90 -> 0.72222222 | G10: =G3/90 -> 0.24444444
A11: 2 | B11: Kabupaten Paniai | C11: 90 RT | D11: =D4/90 -> 0.55555556 | E11: =E4/90 -> 0 | F11: =F4/90 -> 0.44444444 | G11: =G4/90 -> 0
A12: 3 | B12: Kabupaten Tolikara | C12: 90 RT | D12: =D5/90 -> 0.17777778 | E12: =E5/90 -> 0 | F12: =F5/90 -> 0.82222222 | G12: =G5/90 -> 0
B13: Ket
B14: Kota Jayapura bersumber dari: | C14: fasih-dashboard.bps.go.id
B15: Kab. Paniai dan Tolikara bersumber dari | C15: https://shorturl.at/OFbGj
A18: no | B18: desa/keluarahan | C18: open | D18: submit by ppl | E18: approved by pml | F18: rejected by pml
A19: 1 | B19: koya timur | C19: 6 | D19: 4 | E19: 4 | F19: 0
A20: 2 | B20: awiyo | C20: 1 | D20: 9 | E20: 2 | F20: 0
A21: 3 | B21: koya koso | C21: 6 | D21: 4 | E21: 0 | F21: 0
A22: 4 | B22: vim | C22: 0 | D22: 10 | E22: 4 | F22: 0
A23: 5 | B23: kampung waena | C23: 8 | D23: 2 | E23: 0 | F23: 0
A24: 6 | B24: entrop | C24: 0 | D24: 10 | E24: 0 | F24: 0
A25: 7 | B25: ardipura | C25: 1 | D25: 9 | E25: 0 | F25: 0
A26: 8 | B26: gurabesi | C26: 3 | D26: 7 | E26: 2 | F26: 1
A27: 9 | B27: tanjung ria | C27: 0 | D27: 10 | E27: 10 | F27: 0
B28: sum | C28: =SUM(C19:C27) -> 25 | D28: =SUM(D19:D27) -> 65 | E28: =SUM(E19:E27) -> 22 | F28: =SUM(F19:F27) -> 1

Sheet Monitoring Fasih-SM per BS
A1: tanggal_jam | B1: idkab | C1: idbs | D1: status | E1: jumlah | F1: jam | G1: kondisi | H1: bulan | I1: tanggal
A2: 2025-01-20 07 | B2: 9410 | C2: 9410030010004B | D2: SUBMITTED BY PPL | E2: 23 | F2: =right(A2, 2) -> 07 | G2: =IF(INT(F2)>13,"SORE","PAGI") -> PAGI | H2: =if(mid(A2,7,1)="1","JANUARI","FEBRUARI") -> JANUARI | I2: =CONCATENATE(MID(A2,9,2)," ",H2," 2025") -> 20 JANUARI 2025
A3: 2025-01-20 07 | B3: 9418 | C3: 9418110002001B | D3: OPEN | E3: 11 | F3: =right(A3, 2) -> 07 | G3: =IF(INT(F3)>13,"SORE","PAGI") -> PAGI | H3: =if(mid(A3,7,1)="1","JANUARI","FEBRUARI") -> JANUARI | I3: =CONCATENATE(MID(A3,9,2)," ",H3," 2025") -> 20 JANUARI 2025
A4: 2025-01-20 07 | B4: 9418 | C4: 9418160006001B | D4: OPEN | E4: 70 | F4: =right(A4, 2) -> 07 | G4: =IF(INT(F4)>13,"SORE","PAGI") -> PAGI | H4: =if(mid(A4,7,1)="1","JANUARI","FEBRUARI") -> JANUARI | I4: =CONCATENATE(MID(A4,9,2)," ",H4," 2025") -> 20 JANUARI 2025
A5: 2025-01-20 07 | B5: 9418 | C5: 9418160011001B | D5: OPEN | E5: 81 | F5: =right(A5, 2) -> 07 | G5: =IF(INT(F5)>13,"SORE","PAGI") -> PAGI | H5: =if(mid(A5,7,1)="1","JANUARI","FEBRUARI") -> JANUARI | I5: =CONCATENATE(MID(A5,9,2)," ",H5," 2025") -> 20 JANUARI 2025
A6: 2025-01-20 07 | B6: 9418 | C6: 9418220006001B | D6: OPEN | E6: 50 | F6: =right(A6, 2) -> 07 | G6: =IF(INT(F6)>13,"SORE","PAGI") -> PAGI | H6: =if(mid(A6,7,1)="1","JANUARI","FEBRUARI") -> JANUARI | I6: =CONCATENATE(MID(A6,9,2)," ",H6," 2025") -> 20 JANUARI 2025
A7: 2025-01-20 07 | B7: 9418 | C7: 9418290023001B | D7: OPEN | E7: 78 | F7: =right(A7, 2) -> 07 | G7: =IF(INT(F7)>13,"SORE","PAGI") -> PAGI | H7: =if(mid(A7,7,1)="1","JANUARI","FEBRUARI") -> JANUARI | I7: =CONCATENATE(MID(A7,9,2)," ",H7," 2025") -> 20 JANUARI 2025
A8: 2025-01-20 07 | B8: 9418 | C8: 9418360001001B | D8: OPEN | E8: 22 | F8: =right(A8, 2) -> 07 | G8: =IF(INT(F8)>13,"SORE","PAGI") -> PAGI | H8: =if(mid(A8,7,1)="1","JANUARI","FEBRUARI") -> JANUARI | I8: =CONCATENATE(MID(A8,9,2)," ",H8," 2025") -> 20 JANUARI 2025
A9: 2025-01-20 07 | B9: 9418 | C9: 9418440001001B | D9: OPEN | E9: 40 | F9: =right(A9, 2) -> 07 | G9: =IF(INT(F9)>13,"SORE","PAGI") -> PAGI | H9: =if(mid(A9,7,1)="1","JANUARI","FEBRUARI") -> JANUARI | I9: =CONCATENATE(MID(A9,9,2)," ",H9," 2025") -> 20 JANUARI 2025
A10: 2025-01-20 07 | B10: 9471 | C10: 9471010004009B | D10: COMPLETED BY PML | E10: 9 | F10: =right(A10, 2) -> 07 | G10: =IF(INT(F10)>13,"SORE","PAGI") -> PAGI | H10: =if(mid(A10,7,1)="1","JANUARI","FEBRUARI") -> JANUARI | I10: =CONCATENATE(MID(A10,9,2)," ",H10," 2025") -> 20 JANUARI 2025
A11: 2025-01-20 07 | B11: 9471 | C11: 9471010004009B | D11: REJECTED BY PML | E11: 1 | F11: =right(A11, 2) -> 07 | G11: =IF(INT(F11)>13,"SORE","PAGI") -> PAGI | H11: =if(mid(A11,7,1)="1","JANUARI","FEBRUARI") -> JANUARI | I11: =CONCATENATE(MID(A11,9,2)," ",H11," 2025") -> 20 JANUARI 2025
A12: 2025-01-20 07 | B12: 9471 | C12: 9471010004009B | D12: SUBMITTED BY PPL | E12: 168 | F12: =right(A12, 2) -> 07 | G12: =IF(INT(F12)>13,"SORE","PAGI") -> PAGI | H12: =if(mid(A12,7,1)="1","JANUARI","FEBRUARI") -> JANUARI | I12: =CONCATENATE(MID(A12,9,2)," ",H12," 2025") -> 20 JANUARI 2025
A13: 2025-01-20 07 | B13: 9471 | C13: 9471020008031B | D13: COMPLETED BY PML | E13: 53 | F13: =right(A13, 2) -> 07 | G13: =IF(INT(F13)>13,"SORE","PAGI") -> PAGI | H13: =if(mid(A13,7,1)="1","JANUARI","FEBRUARI") -> JANUARI | I13: =CONCATENATE(MID(A13,9,2)," ",H13," 2025") -> 20 JANUARI 2025
... A251: 2025-01-23 07 | B251: 9471 | C251: 9471040007010B | D251: COMPLETED BY PML | E251: 43 | F251: =right(A251, 2) -> 07 | G251: =IF(INT(F251)>13,"SORE","PAGI") -> PAGI | H251: =if(mid(A251,7,1)="1","JANUARI","FEBRUARI") -> JANUARI | I251: =CONCATENATE(MID(A251,9,2)," ",H251," 2025") -> 23 JANUARI 2025
