Workbook
Name Grades: Dashboard!$M$5:$M$40
Name ClassAvgPoints: #REF!
Name Grades: 'Copy of Dashboard'!$F$6:$F$11
Name GradeRange: 'Copy of Dashboard'!$D$6:$D$11
Name StudentGrades: #REF!
Name TotalPoints: #REF!
Name PointValues: #REF!
Name GradeRange: Dashboard!$J$5:$J$40

Sheet Dashboard
B1: MONITORING LK PERBAIKAN DATA PODES 2026
B3: =CONCATENATE("MONITORING LK PERBAIKAN DATA PODES 2026 PER TANGGAL ",Data!B32," ",Data!B33) -> MONITORING LK PERBAIKAN DATA PODES 2026 PER TANGGAL 10-08-2026 17:27 WIT
B4: per kabupaten
B5: KABUPATEN | C5: Target LK konsistensi | D5: Progres LK konsistensi | E5: Target LK konsistensi warning | F5: Progres LK konsistensi warning | G5: Target Konfirmasi hasil perbaikan LK error+warning | H5: Progres Konfirmasi hasil perbaikan LK error+warning | I5: Target konsistensi_warning_kirim3 | J5: Progres konsistensi_warning_kirim3 | K5: Target konsistensi3_kirim | L5: Progres konsistensi3_kirim | M5: Target range_kirim | N5: Progres range_kirim | O5: Target infra | P5: Progres infra | Q5: % Progres Total Perbaikan
B6: (1) | C6: (2) | D6: (3) | E6: (4) | F6: (5) | G6: (6) | H6: (7) | I6: (2) | J6: (3) | K6: (4) | L6: (5) | M6: (6) | N6: (7) | O6: (8) | P6: (9) | Q6: (8)
B7: =Data!A2 -> 9403-JAYAPURA | C7: =IFNA(VLOOKUP(B7,'Pivot Table X'!$A$2:$C$30,2,false),0) -> 0 | D7: =IFNA(VLOOKUP(B7,'Pivot Table X'!$A$2:$C$30,3,false),0) -> 0 | E7: =IFNA(VLOOKUP(B7,'Pivot Table Y'!$A$2:$C$30,2,false),0) -> 0 | F7: =IFNA(VLOOKUP(B7,'Pivot Table Y'!$A$2:$C$30,3,false),0) -> 0 | G7: =IFNA(VLOOKUP(B7,'Pivot Table Z'!$A$2:$C$30,2,false),0) -> 0 | H7: =IFNA(VLOOKUP(B7,'Pivot Table Z'!$A$2:$C$30,3,false),0) -> 0 | I7: =VLOOKUP(B7,'Pivot Table A'!$A$2:$C$30,2,false) -> 112 | J7: =VLOOKUP(B7,'Pivot Table A'!$A$2:$C$30,3,false) -> 112 | K7: =IFNA(VLOOKUP(B7,'Pivot Table B'!$A$2:$C$30,2,false),0) -> 3 | L7: =IFNA(VLOOKUP(B7,'Pivot Table B'!$A$2:$C$30,3,false),0) -> 3 | M7: =IFNA(VLOOKUP(B7,'Pivot Table C'!$A$2:$C$30,2,false),0) -> 0 | N7: =IFNA(VLOOKUP(B7,'Pivot Table C'!$A$2:$C$30,3,false),0) -> 0 | O7: =IFNA(VLOOKUP(B7,'Pivot Table D'!$A$2:$C$30,2,false),0) -> 10 | P7: =IFNA(VLOOKUP(B7,'Pivot Table D'!$A$2:$C$30,3,false),0) -> 10 | Q7: =IFERROR(100*(D7+F7+H7)/(C7+E7+G7),100) -> 100
B8: =Data!A3 -> 9408-KEPULAUAN YAPEN | C8: =IFNA(VLOOKUP(B8,'Pivot Table X'!$A$2:$C$30,2,false),0) -> 0 | D8: =IFNA(VLOOKUP(B8,'Pivot Table X'!$A$2:$C$30,3,false),0) -> 0 | E8: =IFNA(VLOOKUP(B8,'Pivot Table Y'!$A$2:$C$30,2,false),0) -> 0 | F8: =IFNA(VLOOKUP(B8,'Pivot Table Y'!$A$2:$C$30,3,false),0) -> 0 | G8: =IFNA(VLOOKUP(B8,'Pivot Table Z'!$A$2:$C$30,2,false),0) -> 0 | H8: =IFNA(VLOOKUP(B8,'Pivot Table Z'!$A$2:$C$30,3,false),0) -> 0 | I8: =VLOOKUP(B8,'Pivot Table A'!$A$2:$C$30,2,false) -> 113 | J8: =VLOOKUP(B8,'Pivot Table A'!$A$2:$C$30,3,false) -> 113 | K8: =IFNA(VLOOKUP(B8,'Pivot Table B'!$A$2:$C$30,2,false),0) -> 21 | L8: =IFNA(VLOOKUP(B8,'Pivot Table B'!$A$2:$C$30,3,false),0) -> 21 | M8: =IFNA(VLOOKUP(B8,'Pivot Table C'!$A$2:$C$30,2,false),0) -> 0 | N8: =IFNA(VLOOKUP(B8,'Pivot Table C'!$A$2:$C$30,3,false),0) -> 0 | O8: =IFNA(VLOOKUP(B8,'Pivot Table D'!$A$2:$C$30,2,false),0) -> 31 | P8: =IFNA(VLOOKUP(B8,'Pivot Table D'!$A$2:$C$30,3,false),0) -> 31 | Q8: =IFERROR(100*(D8+F8+H8)/(C8+E8+G8),100) -> 100
B9: =Data!A4 -> 9409-BIAK NUMFOR | C9: =IFNA(VLOOKUP(B9,'Pivot Table X'!$A$2:$C$30,2,false),0) -> 0 | D9: =IFNA(VLOOKUP(B9,'Pivot Table X'!$A$2:$C$30,3,false),0) -> 0 | E9: =IFNA(VLOOKUP(B9,'Pivot Table Y'!$A$2:$C$30,2,false),0) -> 0 | F9: =IFNA(VLOOKUP(B9,'Pivot Table Y'!$A$2:$C$30,3,false),0) -> 0 | G9: =IFNA(VLOOKUP(B9,'Pivot Table Z'!$A$2:$C$30,2,false),0) -> 4 | H9: =IFNA(VLOOKUP(B9,'Pivot Table Z'!$A$2:$C$30,3,false),0) -> 4 | I9: =VLOOKUP(B9,'Pivot Table A'!$A$2:$C$30,2,false) -> 117 | J9: =VLOOKUP(B9,'Pivot Table A'!$A$2:$C$30,3,false) -> 117 | K9: =IFNA(VLOOKUP(B9,'Pivot Table B'!$A$2:$C$30,2,false),0) -> 17 | L9: =IFNA(VLOOKUP(B9,'Pivot Table B'!$A$2:$C$30,3,false),0) -> 17 | M9: =IFNA(VLOOKUP(B9,'Pivot Table C'!$A$2:$C$30,2,false),0) -> 0 | N9: =IFNA(VLOOKUP(B9,'Pivot Table C'!$A$2:$C$30,3,false),0) -> 0 | O9: =IFNA(VLOOKUP(B9,'Pivot Table D'!$A$2:$C$30,2,false),0) -> 9 | P9: =IFNA(VLOOKUP(B9,'Pivot Table D'!$A$2:$C$30,3,false),0) -> 9 | Q9: =IFERROR(100*(D9+F9+H9)/(C9+E9+G9),100) -> 100
B10: =Data!A5 -> 9419-SARMI | C10: =IFNA(VLOOKUP(B10,'Pivot Table X'!$A$2:$C$30,2,false),0) -> 0 | D10: =IFNA(VLOOKUP(B10,'Pivot Table X'!$A$2:$C$30,3,false),0) -> 0 | E10: =IFNA(VLOOKUP(B10,'Pivot Table Y'!$A$2:$C$30,2,false),0) -> 0 | F10: =IFNA(VLOOKUP(B10,'Pivot Table Y'!$A$2:$C$30,3,false),0) -> 0 | G10: =IFNA(VLOOKUP(B10,'Pivot Table Z'!$A$2:$C$30,2,false),0) -> 0 | H10: =IFNA(VLOOKUP(B10,'Pivot Table Z'!$A$2:$C$30,3,false),0) -> 0 | I10: =VLOOKUP(B10,'Pivot Table A'!$A$2:$C$30,2,false) -> 64 | J10: =VLOOKUP(B10,'Pivot Table A'!$A$2:$C$30,3,false) -> 64 | K10: =IFNA(VLOOKUP(B10,'Pivot Table B'!$A$2:$C$30,2,false),0) -> 2 | L10: =IFNA(VLOOKUP(B10,'Pivot Table B'!$A$2:$C$30,3,false),0) -> 2 | M10: =IFNA(VLOOKUP(B10,'Pivot Table C'!$A$2:$C$30,2,false),0) -> 0 | N10: =IFNA(VLOOKUP(B10,'Pivot Table C'!$A$2:$C$30,3,false),0) -> 0 | O10: =IFNA(VLOOKUP(B10,'Pivot Table D'!$A$2:$C$30,2,false),0) -> 7 | P10: =IFNA(VLOOKUP(B10,'Pivot Table D'!$A$2:$C$30,3,false),0) -> 7 | Q10: =IFERROR(100*(D10+F10+H10)/(C10+E10+G10),100) -> 100
B11: =Data!A6 -> 9420-KEEROM | C11: =IFNA(VLOOKUP(B11,'Pivot Table X'!$A$2:$C$30,2,false),0) -> 2 | D11: =IFNA(VLOOKUP(B11,'Pivot Table X'!$A$2:$C$30,3,false),0) -> 2 | E11: =IFNA(VLOOKUP(B11,'Pivot Table Y'!$A$2:$C$30,2,false),0) -> 0 | F11: =IFNA(VLOOKUP(B11,'Pivot Table Y'!$A$2:$C$30,3,false),0) -> 0 | G11: =IFNA(VLOOKUP(B11,'Pivot Table Z'!$A$2:$C$30,2,false),0) -> 0 | H11: =IFNA(VLOOKUP(B11,'Pivot Table Z'!$A$2:$C$30,3,false),0) -> 0 | I11: =VLOOKUP(B11,'Pivot Table A'!$A$2:$C$30,2,false) -> 88 | J11: =VLOOKUP(B11,'Pivot Table A'!$A$2:$C$30,3,false) -> 88 | K11: =IFNA(VLOOKUP(B11,'Pivot Table B'!$A$2:$C$30,2,false),0) -> 21 | L11: =IFNA(VLOOKUP(B11,'Pivot Table B'!$A$2:$C$30,3,false),0) -> 21 | M11: =IFNA(VLOOKUP(B11,'Pivot Table C'!$A$2:$C$30,2,false),0) -> 0 | N11: =IFNA(VLOOKUP(B11,'Pivot Table C'!$A$2:$C$30,3,false),0) -> 0 | O11: =IFNA(VLOOKUP(B11,'Pivot Table D'!$A$2:$C$30,2,false),0) -> 8 | P11: =IFNA(VLOOKUP(B11,'Pivot Table D'!$A$2:$C$30,3,false),0) -> 8 | Q11: =IFERROR(100*(D11+F11+H11)/(C11+E11+G11),100) -> 100
B12: =Data!A7 -> 9426-WAROPEN | C12: =IFNA(VLOOKUP(B12,'Pivot Table X'!$A$2:$C$30,2,false),0) -> 0 | D12: =IFNA(VLOOKUP(B12,'Pivot Table X'!$A$2:$C$30,3,false),0) -> 0 | E12: =IFNA(VLOOKUP(B12,'Pivot Table Y'!$A$2:$C$30,2,false),0) -> 0 | F12: =IFNA(VLOOKUP(B12,'Pivot Table Y'!$A$2:$C$30,3,false),0) -> 0 | G12: =IFNA(VLOOKUP(B12,'Pivot Table Z'!$A$2:$C$30,2,false),0) -> 2 | H12: =IFNA(VLOOKUP(B12,'Pivot Table Z'!$A$2:$C$30,3,false),0) -> 2 | I12: =VLOOKUP(B12,'Pivot Table A'!$A$2:$C$30,2,false) -> 132 | J12: =VLOOKUP(B12,'Pivot Table A'!$A$2:$C$30,3,false) -> 132 | K12: =IFNA(VLOOKUP(B12,'Pivot Table B'!$A$2:$C$30,2,false),0) -> 17 | L12: =IFNA(VLOOKUP(B12,'Pivot Table B'!$A$2:$C$30,3,false),0) -> 17 | M12: =IFNA(VLOOKUP(B12,'Pivot Table C'!$A$2:$C$30,2,false),0) -> 1 | N12: =IFNA(VLOOKUP(B12,'Pivot Table C'!$A$2:$C$30,3,false),0) -> 1 | O12: =IFNA(VLOOKUP(B12,'Pivot Table D'!$A$2:$C$30,2,false),0) -> 17 | P12: =IFNA(VLOOKUP(B12,'Pivot Table D'!$A$2:$C$30,3,false),0) -> 17 | Q12: =IFERROR(100*(D12+F12+H12)/(C12+E12+G12),100) -> 100
B13: =Data!A8 -> 9427-SUPIORI | C13: =IFNA(VLOOKUP(B13,'Pivot Table X'!$A$2:$C$30,2,false),0) -> 0 | D13: =IFNA(VLOOKUP(B13,'Pivot Table X'!$A$2:$C$30,3,false),0) -> 0 | E13: =IFNA(VLOOKUP(B13,'Pivot Table Y'!$A$2:$C$30,2,false),0) -> 0 | F13: =IFNA(VLOOKUP(B13,'Pivot Table Y'!$A$2:$C$30,3,false),0) -> 0 | G13: =IFNA(VLOOKUP(B13,'Pivot Table Z'!$A$2:$C$30,2,false),0) -> 0 | H13: =IFNA(VLOOKUP(B13,'Pivot Table Z'!$A$2:$C$30,3,false),0) -> 0 | I13: =VLOOKUP(B13,'Pivot Table A'!$A$2:$C$30,2,false) -> 16 | J13: =VLOOKUP(B13,'Pivot Table A'!$A$2:$C$30,3,false) -> 16 | K13: =IFNA(VLOOKUP(B13,'Pivot Table B'!$A$2:$C$30,2,false),0) -> 3 | L13: =IFNA(VLOOKUP(B13,'Pivot Table B'!$A$2:$C$30,3,false),0) -> 3 | M13: =IFNA(VLOOKUP(B13,'Pivot Table C'!$A$2:$C$30,2,false),0) -> 0 | N13: =IFNA(VLOOKUP(B13,'Pivot Table C'!$A$2:$C$30,3,false),0) -> 0 | O13: =IFNA(VLOOKUP(B13,'Pivot Table D'!$A$2:$C$30,2,false),0) -> 4 | P13: =IFNA(VLOOKUP(B13,'Pivot Table D'!$A$2:$C$30,3,false),0) -> 4 | Q13: =IFERROR(100*(D13+F13+H13)/(C13+E13+G13),100) -> 100
B14: =Data!A9 -> 9428-MAMBERAMO RAYA | C14: =IFNA(VLOOKUP(B14,'Pivot Table X'!$A$2:$C$30,2,false),0) -> 0 | D14: =IFNA(VLOOKUP(B14,'Pivot Table X'!$A$2:$C$30,3,false),0) -> 0 | E14: =IFNA(VLOOKUP(B14,'Pivot Table Y'!$A$2:$C$30,2,false),0) -> 0 | F14: =IFNA(VLOOKUP(B14,'Pivot Table Y'!$A$2:$C$30,3,false),0) -> 0 | G14: =IFNA(VLOOKUP(B14,'Pivot Table Z'!$A$2:$C$30,2,false),0) -> 0 | H14: =IFNA(VLOOKUP(B14,'Pivot Table Z'!$A$2:$C$30,3,false),0) -> 0 | I14: =VLOOKUP(B14,'Pivot Table A'!$A$2:$C$30,2,false) -> 75 | J14: =VLOOKUP(B14,'Pivot Table A'!$A$2:$C$30,3,false) -> 75 | K14: =IFNA(VLOOKUP(B14,'Pivot Table B'!$A$2:$C$30,2,false),0) -> 15 | L14: =IFNA(VLOOKUP(B14,'Pivot Table B'!$A$2:$C$30,3,false),0) -> 15 | M14: =IFNA(VLOOKUP(B14,'Pivot Table C'!$A$2:$C$30,2,false),0) -> 0 | N14: =IFNA(VLOOKUP(B14,'Pivot Table C'!$A$2:$C$30,3,false),0) -> 0 | O14: =IFNA(VLOOKUP(B14,'Pivot Table D'!$A$2:$C$30,2,false),0) -> 6 | P14: =IFNA(VLOOKUP(B14,'Pivot Table D'!$A$2:$C$30,3,false),0) -> 6 | Q14: =IFERROR(100*(D14+F14+H14)/(C14+E14+G14),100) -> 100
B15: =Data!A10 -> 9471-JAYAPURA | C15: =IFNA(VLOOKUP(B15,'Pivot Table X'!$A$2:$C$30,2,false),0) -> 0 | D15: =IFNA(VLOOKUP(B15,'Pivot Table X'!$A$2:$C$30,3,false),0) -> 0 | E15: =IFNA(VLOOKUP(B15,'Pivot Table Y'!$A$2:$C$30,2,false),0) -> 0 | F15: =IFNA(VLOOKUP(B15,'Pivot Table Y'!$A$2:$C$30,3,false),0) -> 0 | G15: =IFNA(VLOOKUP(B15,'Pivot Table Z'!$A$2:$C$30,2,false),0) -> 3 | H15: =IFNA(VLOOKUP(B15,'Pivot Table Z'!$A$2:$C$30,3,false),0) -> 3 | I15: =VLOOKUP(B15,'Pivot Table A'!$A$2:$C$30,2,false) -> 20 | J15: =VLOOKUP(B15,'Pivot Table A'!$A$2:$C$30,3,false) -> 20 | K15: =IFNA(VLOOKUP(B15,'Pivot Table B'!$A$2:$C$30,2,false),0) -> 2 | L15: =IFNA(VLOOKUP(B15,'Pivot Table B'!$A$2:$C$30,3,false),0) -> 2 | M15: =IFNA(VLOOKUP(B15,'Pivot Table C'!$A$2:$C$30,2,false),0) -> 0 | N15: =IFNA(VLOOKUP(B15,'Pivot Table C'!$A$2:$C$30,3,false),0) -> 0 | O15: =IFNA(VLOOKUP(B15,'Pivot Table D'!$A$2:$C$30,2,false),0) -> 10 | P15: =IFNA(VLOOKUP(B15,'Pivot Table D'!$A$2:$C$30,3,false),0) -> 10 | Q15: =IFERROR(100*(D15+F15+H15)/(C15+E15+G15),100) -> 100
B16: PAPUA | C16: =SUM(C7:C15) -> 2 | D16: =SUM(D7:D15) -> 2 | E16: =SUM(E7:E15) -> 0 | F16: =SUM(F7:F15) -> 0 | G16: =SUM(G7:G15) -> 9 | H16: =SUM(H7:H15) -> 9 | I16: =SUM(I7:I15) -> 737 | J16: =SUM(J7:J15) -> 737 | ... P16: =SUM(P7:P15) -> 102 | Q16: =IFERROR(100*(D16+F16+H16)/(C16+E16+G16),100) -> 100
B17: =Data!A11 -> 9501-MERAUKE | C17: =IFNA(VLOOKUP(B17,'Pivot Table X'!$A$2:$C$30,2,false),0) -> 0 | D17: =IFNA(VLOOKUP(B17,'Pivot Table X'!$A$2:$C$30,3,false),0) -> 0 | E17: =IFNA(VLOOKUP(B17,'Pivot Table Y'!$A$2:$C$30,2,false),0) -> 1 | F17: =IFNA(VLOOKUP(B17,'Pivot Table Y'!$A$2:$C$30,3,false),0) -> 1 | G17: =IFNA(VLOOKUP(B17,'Pivot Table Z'!$A$2:$C$30,2,false),0) -> 3 | H17: =IFNA(VLOOKUP(B17,'Pivot Table Z'!$A$2:$C$30,3,false),0) -> 3 | I17: =VLOOKUP(B17,'Pivot Table A'!$A$2:$C$30,2,false) -> 287 | J17: =VLOOKUP(B17,'Pivot Table A'!$A$2:$C$30,3,false) -> 287 | K17: =IFNA(VLOOKUP(B17,'Pivot Table B'!$A$2:$C$30,2,false),0) -> 9 | L17: =IFNA(VLOOKUP(B17,'Pivot Table B'!$A$2:$C$30,3,false),0) -> 9 | M17: =IFNA(VLOOKUP(B17,'Pivot Table C'!$A$2:$C$30,2,false),0) -> 1 | N17: =IFNA(VLOOKUP(B17,'Pivot Table C'!$A$2:$C$30,3,false),0) -> 1 | O17: =IFNA(VLOOKUP(B17,'Pivot Table D'!$A$2:$C$30,2,false),0) -> 36 | P17: =IFNA(VLOOKUP(B17,'Pivot Table D'!$A$2:$C$30,3,false),0) -> 36 | Q17: =IFERROR(100*(D17+F17+H17)/(C17+E17+G17),100) -> 100
B18: =Data!A12 -> 9502-BOVEN DIGOEL | C18: =IFNA(VLOOKUP(B18,'Pivot Table X'!$A$2:$C$30,2,false),0) -> 0 | D18: =IFNA(VLOOKUP(B18,'Pivot Table X'!$A$2:$C$30,3,false),0) -> 0 | E18: =IFNA(VLOOKUP(B18,'Pivot Table Y'!$A$2:$C$30,2,false),0) -> 0 | F18: =IFNA(VLOOKUP(B18,'Pivot Table Y'!$A$2:$C$30,3,false),0) -> 0 | G18: =IFNA(VLOOKUP(B18,'Pivot Table Z'!$A$2:$C$30,2,false),0) -> 0 | H18: =IFNA(VLOOKUP(B18,'Pivot Table Z'!$A$2:$C$30,3,false),0) -> 0 | I18: =VLOOKUP(B18,'Pivot Table A'!$A$2:$C$30,2,false) -> 163 | J18: =VLOOKUP(B18,'Pivot Table A'!$A$2:$C$30,3,false) -> 163 | K18: =IFNA(VLOOKUP(B18,'Pivot Table B'!$A$2:$C$30,2,false),0) -> 7 | L18: =IFNA(VLOOKUP(B18,'Pivot Table B'!$A$2:$C$30,3,false),0) -> 7 | M18: =IFNA(VLOOKUP(B18,'Pivot Table C'!$A$2:$C$30,2,false),0) -> 0 | N18: =IFNA(VLOOKUP(B18,'Pivot Table C'!$A$2:$C$30,3,false),0) -> 0 | O18: =IFNA(VLOOKUP(B18,'Pivot Table D'!$A$2:$C$30,2,false),0) -> 12 | P18: =IFNA(VLOOKUP(B18,'Pivot Table D'!$A$2:$C$30,3,false),0) -> 12 | Q18: =IFERROR(100*(D18+F18+H18)/(C18+E18+G18),100) -> 100
B19: =Data!A13 -> 9503-MAPPI | C19: =IFNA(VLOOKUP(B19,'Pivot Table X'!$A$2:$C$30,2,false),0) -> 0 | D19: =IFNA(VLOOKUP(B19,'Pivot Table X'!$A$2:$C$30,3,false),0) -> 0 | E19: =IFNA(VLOOKUP(B19,'Pivot Table Y'!$A$2:$C$30,2,false),0) -> 0 | F19: =IFNA(VLOOKUP(B19,'Pivot Table Y'!$A$2:$C$30,3,false),0) -> 0 | G19: =IFNA(VLOOKUP(B19,'Pivot Table Z'!$A$2:$C$30,2,false),0) -> 0 | H19: =IFNA(VLOOKUP(B19,'Pivot Table Z'!$A$2:$C$30,3,false),0) -> 0 | I19: =VLOOKUP(B19,'Pivot Table A'!$A$2:$C$30,2,false) -> 148 | J19: =VLOOKUP(B19,'Pivot Table A'!$A$2:$C$30,3,false) -> 148 | K19: =IFNA(VLOOKUP(B19,'Pivot Table B'!$A$2:$C$30,2,false),0) -> 6 | L19: =IFNA(VLOOKUP(B19,'Pivot Table B'!$A$2:$C$30,3,false),0) -> 6 | M19: =IFNA(VLOOKUP(B19,'Pivot Table C'!$A$2:$C$30,2,false),0) -> 1 | N19: =IFNA(VLOOKUP(B19,'Pivot Table C'!$A$2:$C$30,3,false),0) -> 1 | O19: =IFNA(VLOOKUP(B19,'Pivot Table D'!$A$2:$C$30,2,false),0) -> 5 | P19: =IFNA(VLOOKUP(B19,'Pivot Table D'!$A$2:$C$30,3,false),0) -> 5 | Q19: =IFERROR(100*(D19+F19+H19)/(C19+E19+G19),100) -> 100
B20: =Data!A14 -> 9504-ASMAT | C20: =IFNA(VLOOKUP(B20,'Pivot Table X'!$A$2:$C$30,2,false),0) -> 3 | D20: =IFNA(VLOOKUP(B20,'Pivot Table X'!$A$2:$C$30,3,false),0) -> 3 | E20: =IFNA(VLOOKUP(B20,'Pivot Table Y'!$A$2:$C$30,2,false),0) -> 0 | F20: =IFNA(VLOOKUP(B20,'Pivot Table Y'!$A$2:$C$30,3,false),0) -> 0 | G20: =IFNA(VLOOKUP(B20,'Pivot Table Z'!$A$2:$C$30,2,false),0) -> 0 | H20: =IFNA(VLOOKUP(B20,'Pivot Table Z'!$A$2:$C$30,3,false),0) -> 0 | I20: =VLOOKUP(B20,'Pivot Table A'!$A$2:$C$30,2,false) -> 434 | J20: =VLOOKUP(B20,'Pivot Table A'!$A$2:$C$30,3,false) -> 434 | K20: =IFNA(VLOOKUP(B20,'Pivot Table B'!$A$2:$C$30,2,false),0) -> 41 | L20: =IFNA(VLOOKUP(B20,'Pivot Table B'!$A$2:$C$30,3,false),0) -> 41 | M20: =IFNA(VLOOKUP(B20,'Pivot Table C'!$A$2:$C$30,2,false),0) -> 0 | N20: =IFNA(VLOOKUP(B20,'Pivot Table C'!$A$2:$C$30,3,false),0) -> 0 | O20: =IFNA(VLOOKUP(B20,'Pivot Table D'!$A$2:$C$30,2,false),0) -> 14 | P20: =IFNA(VLOOKUP(B20,'Pivot Table D'!$A$2:$C$30,3,false),0) -> 14 | Q20: =IFERROR(100*(D20+F20+H20)/(C20+E20+G20),100) -> 100
B21: PAPUA SELATAN | C21: =SUM(C17:C20) -> 3 | D21: =SUM(D17:D20) -> 3 | E21: =SUM(E17:E20) -> 1 | F21: =SUM(F17:F20) -> 1 | G21: =SUM(G17:G20) -> 3 | H21: =SUM(H17:H20) -> 3 | I21: =SUM(I17:I20) -> 1032 | J21: =SUM(J17:J20) -> 1032 | ... P21: =SUM(P17:P20) -> 67 | Q21: =IFERROR(100*(D21+F21+H21)/(C21+E21+G21),100) -> 100
B22: =Data!A15 -> 9601-MIMIKA | C22: =IFNA(VLOOKUP(B22,'Pivot Table X'!$A$2:$C$30,2,false),0) -> 1 | D22: =IFNA(VLOOKUP(B22,'Pivot Table X'!$A$2:$C$30,3,false),0) -> 1 | E22: =IFNA(VLOOKUP(B22,'Pivot Table Y'!$A$2:$C$30,2,false),0) -> 0 | F22: =IFNA(VLOOKUP(B22,'Pivot Table Y'!$A$2:$C$30,3,false),0) -> 0 | G22: =IFNA(VLOOKUP(B22,'Pivot Table Z'!$A$2:$C$30,2,false),0) -> 0 | H22: =IFNA(VLOOKUP(B22,'Pivot Table Z'!$A$2:$C$30,3,false),0) -> 0 | I22: =VLOOKUP(B22,'Pivot Table A'!$A$2:$C$30,2,false) -> 156 | J22: =VLOOKUP(B22,'Pivot Table A'!$A$2:$C$30,3,false) -> 156 | K22: =IFNA(VLOOKUP(B22,'Pivot Table B'!$A$2:$C$30,2,false),0) -> 6 | L22: =IFNA(VLOOKUP(B22,'Pivot Table B'!$A$2:$C$30,3,false),0) -> 6 | M22: =IFNA(VLOOKUP(B22,'Pivot Table C'!$A$2:$C$30,2,false),0) -> 1 | N22: =IFNA(VLOOKUP(B22,'Pivot Table C'!$A$2:$C$30,3,false),0) -> 1 | O22: =IFNA(VLOOKUP(B22,'Pivot Table D'!$A$2:$C$30,2,false),0) -> 39 | P22: =IFNA(VLOOKUP(B22,'Pivot Table D'!$A$2:$C$30,3,false),0) -> 39 | Q22: =IFERROR(100*(D22+F22+H22)/(C22+E22+G22),100) -> 100
B23: =Data!A16 -> 9602-DOGIYAI | C23: =IFNA(VLOOKUP(B23,'Pivot Table X'!$A$2:$C$30,2,false),0) -> 6 | D23: =IFNA(VLOOKUP(B23,'Pivot Table X'!$A$2:$C$30,3,false),0) -> 6 | E23: =IFNA(VLOOKUP(B23,'Pivot Table Y'!$A$2:$C$30,2,false),0) -> 0 | F23: =IFNA(VLOOKUP(B23,'Pivot Table Y'!$A$2:$C$30,3,false),0) -> 0 | G23: =IFNA(VLOOKUP(B23,'Pivot Table Z'!$A$2:$C$30,2,false),0) -> 0 | H23: =IFNA(VLOOKUP(B23,'Pivot Table Z'!$A$2:$C$30,3,false),0) -> 0 | I23: =VLOOKUP(B23,'Pivot Table A'!$A$2:$C$30,2,false) -> 2 | J23: =VLOOKUP(B23,'Pivot Table A'!$A$2:$C$30,3,false) -> 2 | K23: =IFNA(VLOOKUP(B23,'Pivot Table B'!$A$2:$C$30,2,false),0) -> 6 | L23: =IFNA(VLOOKUP(B23,'Pivot Table B'!$A$2:$C$30,3,false),0) -> 6 | M23: =IFNA(VLOOKUP(B23,'Pivot Table C'!$A$2:$C$30,2,false),0) -> 0 | N23: =IFNA(VLOOKUP(B23,'Pivot Table C'!$A$2:$C$30,3,false),0) -> 0 | O23: =IFNA(VLOOKUP(B23,'Pivot Table D'!$A$2:$C$30,2,false),0) -> 5 | P23: =IFNA(VLOOKUP(B23,'Pivot Table D'!$A$2:$C$30,3,false),0) -> 5 | Q23: =IFERROR(100*(D23+F23+H23)/(C23+E23+G23),100) -> 100
B24: =Data!A17 -> 9603-DEIYAI | C24: =IFNA(VLOOKUP(B24,'Pivot Table X'!$A$2:$C$30,2,false),0) -> 0 | D24: =IFNA(VLOOKUP(B24,'Pivot Table X'!$A$2:$C$30,3,false),0) -> 0 | E24: =IFNA(VLOOKUP(B24,'Pivot Table Y'!$A$2:$C$30,2,false),0) -> 0 | F24: =IFNA(VLOOKUP(B24,'Pivot Table Y'!$A$2:$C$30,3,false),0) -> 0 | G24: =IFNA(VLOOKUP(B24,'Pivot Table Z'!$A$2:$C$30,2,false),0) -> 0 | H24: =IFNA(VLOOKUP(B24,'Pivot Table Z'!$A$2:$C$30,3,false),0) -> 0 | I24: =VLOOKUP(B24,'Pivot Table A'!$A$2:$C$30,2,false) -> 19 | J24: =VLOOKUP(B24,'Pivot Table A'!$A$2:$C$30,3,false) -> 19 | K24: =IFNA(VLOOKUP(B24,'Pivot Table B'!$A$2:$C$30,2,false),0) -> 4 | L24: =IFNA(VLOOKUP(B24,'Pivot Table B'!$A$2:$C$30,3,false),0) -> 4 | M24: =IFNA(VLOOKUP(B24,'Pivot Table C'!$A$2:$C$30,2,false),0) -> 0 | N24: =IFNA(VLOOKUP(B24,'Pivot Table C'!$A$2:$C$30,3,false),0) -> 0 | O24: =IFNA(VLOOKUP(B24,'Pivot Table D'!$A$2:$C$30,2,false),0) -> 2 | P24: =IFNA(VLOOKUP(B24,'Pivot Table D'!$A$2:$C$30,3,false),0) -> 2 | Q24: =IFERROR(100*(D24+F24+H24)/(C24+E24+G24),100) -> 100
B25: =Data!A18 -> 9604-NABIRE | C25: =IFNA(VLOOKUP(B25,'Pivot Table X'!$A$2:$C$30,2,false),0) -> 1 | D25: =IFNA(VLOOKUP(B25,'Pivot Table X'!$A$2:$C$30,3,false),0) -> 1 | E25: =IFNA(VLOOKUP(B25,'Pivot Table Y'!$A$2:$C$30,2,false),0) -> 0 | F25: =IFNA(VLOOKUP(B25,'Pivot Table Y'!$A$2:$C$30,3,false),0) -> 0 | G25: =IFNA(VLOOKUP(B25,'Pivot Table Z'!$A$2:$C$30,2,false),0) -> 0 | H25: =IFNA(VLOOKUP(B25,'Pivot Table Z'!$A$2:$C$30,3,false),0) -> 0 | I25: =VLOOKUP(B25,'Pivot Table A'!$A$2:$C$30,2,false) -> 63 | J25: =VLOOKUP(B25,'Pivot Table A'!$A$2:$C$30,3,false) -> 63 | K25: =IFNA(VLOOKUP(B25,'Pivot Table B'!$A$2:$C$30,2,false),0) -> 10 | L25: =IFNA(VLOOKUP(B25,'Pivot Table B'!$A$2:$C$30,3,false),0) -> 10 | M25: =IFNA(VLOOKUP(B25,'Pivot Table C'!$A$2:$C$30,2,false),0) -> 0 | N25: =IFNA(VLOOKUP(B25,'Pivot Table C'!$A$2:$C$30,3,false),0) -> 0 | O25: =IFNA(VLOOKUP(B25,'Pivot Table D'!$A$2:$C$30,2,false),0) -> 1 | P25: =IFNA(VLOOKUP(B25,'Pivot Table D'!$A$2:$C$30,3,false),0) -> 1 | Q25: =IFERROR(100*(D25+F25+H25)/(C25+E25+G25),100) -> 100
B26: =Data!A19 -> 9605-PANIAI | C26: =IFNA(VLOOKUP(B26,'Pivot Table X'!$A$2:$C$30,2,false),0) -> 1 | D26: =IFNA(VLOOKUP(B26,'Pivot Table X'!$A$2:$C$30,3,false),0) -> 1 | E26: =IFNA(VLOOKUP(B26,'Pivot Table Y'!$A$2:$C$30,2,false),0) -> 0 | F26: =IFNA(VLOOKUP(B26,'Pivot Table Y'!$A$2:$C$30,3,false),0) -> 0 | G26: =IFNA(VLOOKUP(B26,'Pivot Table Z'!$A$2:$C$30,2,false),0) -> 0 | H26: =IFNA(VLOOKUP(B26,'Pivot Table Z'!$A$2:$C$30,3,false),0) -> 0 | I26: =VLOOKUP(B26,'Pivot Table A'!$A$2:$C$30,2,false) -> 90 | J26: =VLOOKUP(B26,'Pivot Table A'!$A$2:$C$30,3,false) -> 90 | K26: =IFNA(VLOOKUP(B26,'Pivot Table B'!$A$2:$C$30,2,false),0) -> 30 | L26: =IFNA(VLOOKUP(B26,'Pivot Table B'!$A$2:$C$30,3,false),0) -> 30 | M26: =IFNA(VLOOKUP(B26,'Pivot Table C'!$A$2:$C$30,2,false),0) -> 3 | N26: =IFNA(VLOOKUP(B26,'Pivot Table C'!$A$2:$C$30,3,false),0) -> 3 | O26: =IFNA(VLOOKUP(B26,'Pivot Table D'!$A$2:$C$30,2,false),0) -> 11 | P26: =IFNA(VLOOKUP(B26,'Pivot Table D'!$A$2:$C$30,3,false),0) -> 11 | Q26: =IFERROR(100*(D26+F26+H26)/(C26+E26+G26),100) -> 100
B27: =Data!A20 -> 9606-INTAN JAYA | C27: =IFNA(VLOOKUP(B27,'Pivot Table X'!$A$2:$C$30,2,false),0) -> 0 | D27: =IFNA(VLOOKUP(B27,'Pivot Table X'!$A$2:$C$30,3,false),0) -> 0 | E27: =IFNA(VLOOKUP(B27,'Pivot Table Y'!$A$2:$C$30,2,false),0) -> 0 | F27: =IFNA(VLOOKUP(B27,'Pivot Table Y'!$A$2:$C$30,3,false),0) -> 0 | G27: =IFNA(VLOOKUP(B27,'Pivot Table Z'!$A$2:$C$30,2,false),0) -> 0 | H27: =IFNA(VLOOKUP(B27,'Pivot Table Z'!$A$2:$C$30,3,false),0) -> 0 | I27: =VLOOKUP(B27,'Pivot Table A'!$A$2:$C$30,2,false) -> 17 | J27: =VLOOKUP(B27,'Pivot Table A'!$A$2:$C$30,3,false) -> 17 | K27: =IFNA(VLOOKUP(B27,'Pivot Table B'!$A$2:$C$30,2,false),0) -> 21 | L27: =IFNA(VLOOKUP(B27,'Pivot Table B'!$A$2:$C$30,3,false),0) -> 21 | M27: =IFNA(VLOOKUP(B27,'Pivot Table C'!$A$2:$C$30,2,false),0) -> 2 | N27: =IFNA(VLOOKUP(B27,'Pivot Table C'!$A$2:$C$30,3,false),0) -> 2 | O27: =IFNA(VLOOKUP(B27,'Pivot Table D'!$A$2:$C$30,2,false),0) -> 2 | P27: =IFNA(VLOOKUP(B27,'Pivot Table D'!$A$2:$C$30,3,false),0) -> 2 | Q27: =IFERROR(100*(D27+F27+H27)/(C27+E27+G27),100) -> 100
B28: =Data!A21 -> 9607-PUNCAK | C28: =IFNA(VLOOKUP(B28,'Pivot Table X'!$A$2:$C$30,2,false),0) -> 0 | D28: =IFNA(VLOOKUP(B28,'Pivot Table X'!$A$2:$C$30,3,false),0) -> 0 | E28: =IFNA(VLOOKUP(B28,'Pivot Table Y'!$A$2:$C$30,2,false),0) -> 0 | F28: =IFNA(VLOOKUP(B28,'Pivot Table Y'!$A$2:$C$30,3,false),0) -> 0 | G28: =IFNA(VLOOKUP(B28,'Pivot Table Z'!$A$2:$C$30,2,false),0) -> 2 | H28: =IFNA(VLOOKUP(B28,'Pivot Table Z'!$A$2:$C$30,3,false),0) -> 2 | I28: =VLOOKUP(B28,'Pivot Table A'!$A$2:$C$30,2,false) -> 232 | J28: =VLOOKUP(B28,'Pivot Table A'!$A$2:$C$30,3,false) -> 232 | K28: =IFNA(VLOOKUP(B28,'Pivot Table B'!$A$2:$C$30,2,false),0) -> 45 | L28: =IFNA(VLOOKUP(B28,'Pivot Table B'!$A$2:$C$30,3,false),0) -> 45 | M28: =IFNA(VLOOKUP(B28,'Pivot Table C'!$A$2:$C$30,2,false),0) -> 2 | N28: =IFNA(VLOOKUP(B28,'Pivot Table C'!$A$2:$C$30,3,false),0) -> 2 | O28: =IFNA(VLOOKUP(B28,'Pivot Table D'!$A$2:$C$30,2,false),0) -> 4 | P28: =IFNA(VLOOKUP(B28,'Pivot Table D'!$A$2:$C$30,3,false),0) -> 4 | Q28: =IFERROR(100*(D28+F28+H28)/(C28+E28+G28),100) -> 100
B29: =Data!A22 -> 9608-PUNCAK JAYA | C29: =IFNA(VLOOKUP(B29,'Pivot Table X'!$A$2:$C$30,2,false),0) -> 0 | D29: =IFNA(VLOOKUP(B29,'Pivot Table X'!$A$2:$C$30,3,false),0) -> 0 | E29: =IFNA(VLOOKUP(B29,'Pivot Table Y'!$A$2:$C$30,2,false),0) -> 0 | F29: =IFNA(VLOOKUP(B29,'Pivot Table Y'!$A$2:$C$30,3,false),0) -> 0 | G29: =IFNA(VLOOKUP(B29,'Pivot Table Z'!$A$2:$C$30,2,false),0) -> 63 | H29: =IFNA(VLOOKUP(B29,'Pivot Table Z'!$A$2:$C$30,3,false),0) -> 63 | I29: =VLOOKUP(B29,'Pivot Table A'!$A$2:$C$30,2,false) -> 193 | J29: =VLOOKUP(B29,'Pivot Table A'!$A$2:$C$30,3,false) -> 193 | K29: =IFNA(VLOOKUP(B29,'Pivot Table B'!$A$2:$C$30,2,false),0) -> 102 | L29: =IFNA(VLOOKUP(B29,'Pivot Table B'!$A$2:$C$30,3,false),0) -> 102 | M29: =IFNA(VLOOKUP(B29,'Pivot Table C'!$A$2:$C$30,2,false),0) -> 0 | N29: =IFNA(VLOOKUP(B29,'Pivot Table C'!$A$2:$C$30,3,false),0) -> 0 | O29: =IFNA(VLOOKUP(B29,'Pivot Table D'!$A$2:$C$30,2,false),0) -> 11 | P29: =IFNA(VLOOKUP(B29,'Pivot Table D'!$A$2:$C$30,3,false),0) -> 11 | Q29: =IFERROR(100*(D29+F29+H29)/(C29+E29+G29),100) -> 100
B30: PAPUA TENGAH | C30: =SUM(C22:C29) -> 9 | D30: =SUM(D22:D29) -> 9 | E30: =SUM(E22:E29) -> 0 | F30: =SUM(F22:F29) -> 0 | G30: =SUM(G22:G29) -> 65 | H30: =SUM(H22:H29) -> 65 | I30: =SUM(I22:I29) -> 772 | J30: =SUM(J22:J29) -> 772 | ... P30: =SUM(P22:P29) -> 75 | Q30: =IFERROR(100*(D30+F30+H30)/(C30+E30+G30),100) -> 100
B31: =Data!A23 -> 9701-NDUGA | C31: =IFNA(VLOOKUP(B31,'Pivot Table X'!$A$2:$C$30,2,false),0) -> 0 | D31: =IFNA(VLOOKUP(B31,'Pivot Table X'!$A$2:$C$30,3,false),0) -> 0 | E31: =IFNA(VLOOKUP(B31,'Pivot Table Y'!$A$2:$C$30,2,false),0) -> 0 | F31: =IFNA(VLOOKUP(B31,'Pivot Table Y'!$A$2:$C$30,3,false),0) -> 0 | G31: =IFNA(VLOOKUP(B31,'Pivot Table Z'!$A$2:$C$30,2,false),0) -> 0 | H31: =IFNA(VLOOKUP(B31,'Pivot Table Z'!$A$2:$C$30,3,false),0) -> 0 | I31: =VLOOKUP(B31,'Pivot Table A'!$A$2:$C$30,2,false) -> 274 | J31: =VLOOKUP(B31,'Pivot Table A'!$A$2:$C$30,3,false) -> 274 | K31: =IFNA(VLOOKUP(B31,'Pivot Table B'!$A$2:$C$30,2,false),0) -> 28 | L31: =IFNA(VLOOKUP(B31,'Pivot Table B'!$A$2:$C$30,3,false),0) -> 28 | M31: =IFNA(VLOOKUP(B31,'Pivot Table C'!$A$2:$C$30,2,false),0) -> 1 | N31: =IFNA(VLOOKUP(B31,'Pivot Table C'!$A$2:$C$30,3,false),0) -> 1 | O31: =IFNA(VLOOKUP(B31,'Pivot Table D'!$A$2:$C$30,2,false),0) -> 9 | P31: =IFNA(VLOOKUP(B31,'Pivot Table D'!$A$2:$C$30,3,false),0) -> 9 | Q31: =IFERROR(100*(D31+F31+H31)/(C31+E31+G31),100) -> 100
B32: =Data!A24 -> 9702-JAYAWIJAYA | C32: =IFNA(VLOOKUP(B32,'Pivot Table X'!$A$2:$C$30,2,false),0) -> 0 | D32: =IFNA(VLOOKUP(B32,'Pivot Table X'!$A$2:$C$30,3,false),0) -> 0 | E32: =IFNA(VLOOKUP(B32,'Pivot Table Y'!$A$2:$C$30,2,false),0) -> 1 | F32: =IFNA(VLOOKUP(B32,'Pivot Table Y'!$A$2:$C$30,3,false),0) -> 1 | G32: =IFNA(VLOOKUP(B32,'Pivot Table Z'!$A$2:$C$30,2,false),0) -> 2 | H32: =IFNA(VLOOKUP(B32,'Pivot Table Z'!$A$2:$C$30,3,false),0) -> 2 | I32: =VLOOKUP(B32,'Pivot Table A'!$A$2:$C$30,2,false) -> 96 | J32: =VLOOKUP(B32,'Pivot Table A'!$A$2:$C$30,3,false) -> 96 | K32: =IFNA(VLOOKUP(B32,'Pivot Table B'!$A$2:$C$30,2,false),0) -> 66 | L32: =IFNA(VLOOKUP(B32,'Pivot Table B'!$A$2:$C$30,3,false),0) -> 66 | M32: =IFNA(VLOOKUP(B32,'Pivot Table C'!$A$2:$C$30,2,false),0) -> 8 | N32: =IFNA(VLOOKUP(B32,'Pivot Table C'!$A$2:$C$30,3,false),0) -> 8 | O32: =IFNA(VLOOKUP(B32,'Pivot Table D'!$A$2:$C$30,2,false),0) -> 38 | P32: =IFNA(VLOOKUP(B32,'Pivot Table D'!$A$2:$C$30,3,false),0) -> 38 | Q32: =IFERROR(100*(D32+F32+H32)/(C32+E32+G32),100) -> 100
B33: =Data!A25 -> 9703-LANNY JAYA | C33: =IFNA(VLOOKUP(B33,'Pivot Table X'!$A$2:$C$30,2,false),0) -> 0 | D33: =IFNA(VLOOKUP(B33,'Pivot Table X'!$A$2:$C$30,3,false),0) -> 0 | E33: =IFNA(VLOOKUP(B33,'Pivot Table Y'!$A$2:$C$30,2,false),0) -> 0 | F33: =IFNA(VLOOKUP(B33,'Pivot Table Y'!$A$2:$C$30,3,false),0) -> 0 | G33: =IFNA(VLOOKUP(B33,'Pivot Table Z'!$A$2:$C$30,2,false),0) -> 0 | H33: =IFNA(VLOOKUP(B33,'Pivot Table Z'!$A$2:$C$30,3,false),0) -> 0 | I33: =VLOOKUP(B33,'Pivot Table A'!$A$2:$C$30,2,false) -> 24 | J33: =VLOOKUP(B33,'Pivot Table A'!$A$2:$C$30,3,false) -> 24 | K33: =IFNA(VLOOKUP(B33,'Pivot Table B'!$A$2:$C$30,2,false),0) -> 24 | L33: =IFNA(VLOOKUP(B33,'Pivot Table B'!$A$2:$C$30,3,false),0) -> 24 | M33: =IFNA(VLOOKUP(B33,'Pivot Table C'!$A$2:$C$30,2,false),0) -> 0 | N33: =IFNA(VLOOKUP(B33,'Pivot Table C'!$A$2:$C$30,3,false),0) -> 0 | O33: =IFNA(VLOOKUP(B33,'Pivot Table D'!$A$2:$C$30,2,false),0) -> 23 | P33: =IFNA(VLOOKUP(B33,'Pivot Table D'!$A$2:$C$30,3,false),0) -> 23 | Q33: =IFERROR(100*(D33+F33+H33)/(C33+E33+G33),100) -> 100
B34: =Data!A26 -> 9704-TOLIKARA | C34: =IFNA(VLOOKUP(B34,'Pivot Table X'!$A$2:$C$30,2,false),0) -> 0 | D34: =IFNA(VLOOKUP(B34,'Pivot Table X'!$A$2:$C$30,3,false),0) -> 0 | E34: =IFNA(VLOOKUP(B34,'Pivot Table Y'!$A$2:$C$30,2,false),0) -> 0 | F34: =IFNA(VLOOKUP(B34,'Pivot Table Y'!$A$2:$C$30,3,false),0) -> 0 | G34: =IFNA(VLOOKUP(B34,'Pivot Table Z'!$A$2:$C$30,2,false),0) -> 0 | H34: =IFNA(VLOOKUP(B34,'Pivot Table Z'!$A$2:$C$30,3,false),0) -> 0 | I34: =VLOOKUP(B34,'Pivot Table A'!$A$2:$C$30,2,false) -> 131 | J34: =VLOOKUP(B34,'Pivot Table A'!$A$2:$C$30,3,false) -> 131 | K34: =IFNA(VLOOKUP(B34,'Pivot Table B'!$A$2:$C$30,2,false),0) -> 3 | L34: =IFNA(VLOOKUP(B34,'Pivot Table B'!$A$2:$C$30,3,false),0) -> 3 | M34: =IFNA(VLOOKUP(B34,'Pivot Table C'!$A$2:$C$30,2,false),0) -> 0 | N34: =IFNA(VLOOKUP(B34,'Pivot Table C'!$A$2:$C$30,3,false),0) -> 0 | O34: =IFNA(VLOOKUP(B34,'Pivot Table D'!$A$2:$C$30,2,false),0) -> 21 | P34: =IFNA(VLOOKUP(B34,'Pivot Table D'!$A$2:$C$30,3,false),0) -> 21 | Q34: =IFERROR(100*(D34+F34+H34)/(C34+E34+G34),100) -> 100
B35: =Data!A27 -> 9705-MAMBERAMO TENGAH | C35: =IFNA(VLOOKUP(B35,'Pivot Table X'!$A$2:$C$30,2,false),0) -> 0 | D35: =IFNA(VLOOKUP(B35,'Pivot Table X'!$A$2:$C$30,3,false),0) -> 0 | E35: =IFNA(VLOOKUP(B35,'Pivot Table Y'!$A$2:$C$30,2,false),0) -> 0 | F35: =IFNA(VLOOKUP(B35,'Pivot Table Y'!$A$2:$C$30,3,false),0) -> 0 | G35: =IFNA(VLOOKUP(B35,'Pivot Table Z'!$A$2:$C$30,2,false),0) -> 0 | H35: =IFNA(VLOOKUP(B35,'Pivot Table Z'!$A$2:$C$30,3,false),0) -> 0 | I35: =VLOOKUP(B35,'Pivot Table A'!$A$2:$C$30,2,false) -> 2 | J35: =VLOOKUP(B35,'Pivot Table A'!$A$2:$C$30,3,false) -> 2 | K35: =IFNA(VLOOKUP(B35,'Pivot Table B'!$A$2:$C$30,2,false),0) -> 34 | L35: =IFNA(VLOOKUP(B35,'Pivot Table B'!$A$2:$C$30,3,false),0) -> 34 | M35: =IFNA(VLOOKUP(B35,'Pivot Table C'!$A$2:$C$30,2,false),0) -> 0 | N35: =IFNA(VLOOKUP(B35,'Pivot Table C'!$A$2:$C$30,3,false),0) -> 0 | O35: =IFNA(VLOOKUP(B35,'Pivot Table D'!$A$2:$C$30,2,false),0) -> 11 | P35: =IFNA(VLOOKUP(B35,'Pivot Table D'!$A$2:$C$30,3,false),0) -> 11 | Q35: =IFERROR(100*(D35+F35+H35)/(C35+E35+G35),100) -> 100
B36: =Data!A28 -> 9706-YALIMO | C36: =IFNA(VLOOKUP(B36,'Pivot Table X'!$A$2:$C$30,2,false),0) -> 0 | D36: =IFNA(VLOOKUP(B36,'Pivot Table X'!$A$2:$C$30,3,false),0) -> 0 | E36: =IFNA(VLOOKUP(B36,'Pivot Table Y'!$A$2:$C$30,2,false),0) -> 0 | F36: =IFNA(VLOOKUP(B36,'Pivot Table Y'!$A$2:$C$30,3,false),0) -> 0 | G36: =IFNA(VLOOKUP(B36,'Pivot Table Z'!$A$2:$C$30,2,false),0) -> 1 | H36: =IFNA(VLOOKUP(B36,'Pivot Table Z'!$A$2:$C$30,3,false),0) -> 1 | I36: =VLOOKUP(B36,'Pivot Table A'!$A$2:$C$30,2,false) -> 35 | J36: =VLOOKUP(B36,'Pivot Table A'!$A$2:$C$30,3,false) -> 35 | K36: =IFNA(VLOOKUP(B36,'Pivot Table B'!$A$2:$C$30,2,false),0) -> 59 | L36: =IFNA(VLOOKUP(B36,'Pivot Table B'!$A$2:$C$30,3,false),0) -> 59 | M36: =IFNA(VLOOKUP(B36,'Pivot Table C'!$A$2:$C$30,2,false),0) -> 3 | N36: =IFNA(VLOOKUP(B36,'Pivot Table C'!$A$2:$C$30,3,false),0) -> 3 | O36: =IFNA(VLOOKUP(B36,'Pivot Table D'!$A$2:$C$30,2,false),0) -> 32 | P36: =IFNA(VLOOKUP(B36,'Pivot Table D'!$A$2:$C$30,3,false),0) -> 32 | Q36: =IFERROR(100*(D36+F36+H36)/(C36+E36+G36),100) -> 100
B37: =Data!A29 -> 9707-YAHUKIMO | C37: =IFNA(VLOOKUP(B37,'Pivot Table X'!$A$2:$C$30,2,false),0) -> 0 | D37: =IFNA(VLOOKUP(B37,'Pivot Table X'!$A$2:$C$30,3,false),0) -> 0 | E37: =IFNA(VLOOKUP(B37,'Pivot Table Y'!$A$2:$C$30,2,false),0) -> 0 | F37: =IFNA(VLOOKUP(B37,'Pivot Table Y'!$A$2:$C$30,3,false),0) -> 0 | G37: =IFNA(VLOOKUP(B37,'Pivot Table Z'!$A$2:$C$30,2,false),0) -> 0 | H37: =IFNA(VLOOKUP(B37,'Pivot Table Z'!$A$2:$C$30,3,false),0) -> 0 | I37: =VLOOKUP(B37,'Pivot Table A'!$A$2:$C$30,2,false) -> 246 | J37: =VLOOKUP(B37,'Pivot Table A'!$A$2:$C$30,3,false) -> 246 | K37: =IFNA(VLOOKUP(B37,'Pivot Table B'!$A$2:$C$30,2,false),0) -> 58 | L37: =IFNA(VLOOKUP(B37,'Pivot Table B'!$A$2:$C$30,3,false),0) -> 58 | M37: =IFNA(VLOOKUP(B37,'Pivot Table C'!$A$2:$C$30,2,false),0) -> 0 | N37: =IFNA(VLOOKUP(B37,'Pivot Table C'!$A$2:$C$30,3,false),0) -> 0 | O37: =IFNA(VLOOKUP(B37,'Pivot Table D'!$A$2:$C$30,2,false),0) -> 29 | P37: =IFNA(VLOOKUP(B37,'Pivot Table D'!$A$2:$C$30,3,false),0) -> 29 | Q37: =IFERROR(100*(D37+F37+H37)/(C37+E37+G37),100) -> 100
B38: =Data!A30 -> 9708-PEGUNUNGAN BINTANG | C38: =IFNA(VLOOKUP(B38,'Pivot Table X'!$A$2:$C$30,2,false),0) -> 0 | D38: =IFNA(VLOOKUP(B38,'Pivot Table X'!$A$2:$C$30,3,false),0) -> 0 | E38: =IFNA(VLOOKUP(B38,'Pivot Table Y'!$A$2:$C$30,2,false),0) -> 0 | F38: =IFNA(VLOOKUP(B38,'Pivot Table Y'!$A$2:$C$30,3,false),0) -> 0 | G38: =IFNA(VLOOKUP(B38,'Pivot Table Z'!$A$2:$C$30,2,false),0) -> 0 | H38: =IFNA(VLOOKUP(B38,'Pivot Table Z'!$A$2:$C$30,3,false),0) -> 0 | I38: =VLOOKUP(B38,'Pivot Table A'!$A$2:$C$30,2,false) -> 216 | J38: =VLOOKUP(B38,'Pivot Table A'!$A$2:$C$30,3,false) -> 216 | K38: =IFNA(VLOOKUP(B38,'Pivot Table B'!$A$2:$C$30,2,false),0) -> 0 | L38: =IFNA(VLOOKUP(B38,'Pivot Table B'!$A$2:$C$30,3,false),0) -> 0 | M38: =IFNA(VLOOKUP(B38,'Pivot Table C'!$A$2:$C$30,2,false),0) -> 5 | N38: =IFNA(VLOOKUP(B38,'Pivot Table C'!$A$2:$C$30,3,false),0) -> 5 | O38: =IFNA(VLOOKUP(B38,'Pivot Table D'!$A$2:$C$30,2,false),0) -> 0 | P38: =IFNA(VLOOKUP(B38,'Pivot Table D'!$A$2:$C$30,3,false),0) -> 0 | Q38: =IFERROR(100*(D38+F38+H38)/(C38+E38+G38),100) -> 100
B39: PAPUA PEGUNUNGAN | C39: =SUM(C31:C38) -> 0 | D39: =SUM(D31:D38) -> 0 | E39: =SUM(E31:E38) -> 1 | F39: =SUM(F31:F38) -> 1 | G39: =SUM(G31:G38) -> 3 | H39: =SUM(H31:H38) -> 3 | I39: =SUM(I31:I38) -> 1024 | J39: =SUM(J31:J38) -> 1024 | ... P39: =SUM(P31:P38) -> 163 | Q39: =IFERROR(100*(D39+F39+H39)/(C39+E39+G39),100) -> 100
B40: TOTAL | C40: =C16+C21+C30+C39 -> 14 | D40: =D16+D21+D30+D39 -> 14 | E40: =E16+E21+E30+E39 -> 2 | F40: =F16+F21+F30+F39 -> 2 | G40: =G16+G21+G30+G39 -> 80 | H40: =H16+H21+H30+H39 -> 80 | I40: =I16+I21+I30+I39 -> 3565 | J40: =J16+J21+J30+J39 -> 3565 | ... P40: =P16+P21+P30+P39 -> 407 | Q40: =IFERROR(100*(D40+F40+H40)/(C40+E40+G40),100) -> 100

Sheet Data
A1: Kabupaten | B1: KODE KAB
A2: 9403-JAYAPURA | B2: 9403
A3: 9408-KEPULAUAN YAPEN | B3: 9408
A4: 9409-BIAK NUMFOR | B4: 9409
A5: 9419-SARMI | B5: 9419
A6: 9420-KEEROM | B6: 9420
A7: 9426-WAROPEN | B7: 9426
A8: 9427-SUPIORI | B8: 9427
A9: 9428-MAMBERAMO RAYA | B9: 9428
A10: 9471-JAYAPURA | B10: 9471
A11: 9501-MERAUKE | B11: 9501
A12: 9502-BOVEN DIGOEL | B12: 9502
... A33: WAKTU | B33: 17:27 WIT

Sheet Pivot Table A

Sheet Pivot Table B

Sheet Pivot Table C

Sheet konsistensi_warning_kirim3
A1: url | B1: kode_desa | C1: nama_prov | D1: nama_kab | E1: nama_kec | F1: nama_desa | G1: progres | H1: catatan | I1: nama_sheet | J1: kode_kab | K1: konfirmasi
A2: https://fasih-sm.bps.go.id/survey-collection/assignment-detail/a1cd21b5-cbcc-409a-a8a8-41e85a7e4c1c/345cbe9e-45b8-42c2-bc4a-c76fe52a97ea | B2: 9403080004 | C2: PAPUA | D2: JAYAPURA | E2: KAUREH | F2: SOSKOTEK | G2: 100 | I2: W1_r305b | J2: =CONCATENATE(LEFT(B2,4),"-",D2) -> 9403-JAYAPURA | K2: =IF(G2>0,1,0) -> 1
A3: https://fasih-sm.bps.go.id/survey-collection/assignment-detail/b378cd1c-935b-4b13-bb62-9f9e1f6fcf18/345cbe9e-45b8-42c2-bc4a-c76fe52a97ea | B3: 9403080006 | C3: PAPUA | D3: JAYAPURA | E3: KAUREH | F3: SEBUM | G3: 100 | I3: W1_r305b | J3: =CONCATENATE(LEFT(B3,4),"-",D3) -> 9403-JAYAPURA | K3: =IF(G3>0,1,0) -> 1
A4: https://fasih-sm.bps.go.id/survey-collection/assignment-detail/e885bab5-d23a-4c7f-b851-c5f4c7cbfe27/345cbe9e-45b8-42c2-bc4a-c76fe52a97ea | B4: 9403080007 | C4: PAPUA | D4: JAYAPURA | E4: KAUREH | F4: UMBRON | G4: 100 | I4: W1_r305b | J4: =CONCATENATE(LEFT(B4,4),"-",D4) -> 9403-JAYAPURA | K4: =IF(G4>0,1,0) -> 1
A5: https://fasih-sm.bps.go.id/survey-collection/assignment-detail/2678e819-8e41-4292-bdb9-4b5626aea048/345cbe9e-45b8-42c2-bc4a-c76fe52a97ea | B5: 9403081001 | C5: PAPUA | D5: JAYAPURA | E5: AIRU | F5: PAGAI | G5: 100 | I5: W1_r305b | J5: =CONCATENATE(LEFT(B5,4),"-",D5) -> 9403-JAYAPURA | K5: =IF(G5>0,1,0) -> 1
A6: https://fasih-sm.bps.go.id/survey-collection/assignment-detail/a8234ccc-97fa-4079-b1bc-5ab2d41c9cf3/345cbe9e-45b8-42c2-bc4a-c76fe52a97ea | B6: 9403081005 | C6: PAPUA | D6: JAYAPURA | E6: AIRU | F6: KAMIKARU | G6: 100 | I6: W1_r305b | J6: =CONCATENATE(LEFT(B6,4),"-",D6) -> 9403-JAYAPURA | K6: =IF(G6>0,1,0) -> 1
A7: https://fasih-sm.bps.go.id/survey-collection/assignment-detail/8c667c4f-bc33-4274-a37f-3ca112ccd5bf/345cbe9e-45b8-42c2-bc4a-c76fe52a97ea | B7: 9403082004 | C7: PAPUA | D7: JAYAPURA | E7: YAPSI | F7: BUMI SAHAJA | G7: 100 | I7: W1_r305b | J7: =CONCATENATE(LEFT(B7,4),"-",D7) -> 9403-JAYAPURA | K7: =IF(G7>0,1,0) -> 1
A8: https://fasih-sm.bps.go.id/survey-collection/assignment-detail/be92f188-cf2f-47cf-8180-78fe07f1d056/345cbe9e-45b8-42c2-bc4a-c76fe52a97ea | B8: 9403082005 | C8: PAPUA | D8: JAYAPURA | E8: YAPSI | F8: NAWA MULYA | G8: 100 | I8: W1_r305b | J8: =CONCATENATE(LEFT(B8,4),"-",D8) -> 9403-JAYAPURA | K8: =IF(G8>0,1,0) -> 1
A9: https://fasih-sm.bps.go.id/survey-collection/assignment-detail/ac26b5c5-1d3f-4c70-bdb7-32eaed685890/345cbe9e-45b8-42c2-bc4a-c76fe52a97ea | B9: 9403082006 | C9: PAPUA | D9: JAYAPURA | E9: YAPSI | F9: NAWA MUKTI | G9: 100 | I9: W1_r305b | J9: =CONCATENATE(LEFT(B9,4),"-",D9) -> 9403-JAYAPURA | K9: =IF(G9>0,1,0) -> 1
A10: https://fasih-sm.bps.go.id/survey-collection/assignment-detail/17b36ed7-d9aa-4ea2-861a-a9f8c7b5c0ca/345cbe9e-45b8-42c2-bc4a-c76fe52a97ea | B10: 9403082007 | C10: PAPUA | D10: JAYAPURA | E10: YAPSI | F10: TAKWA BANGUN | G10: 100 | I10: W1_r305b | J10: =CONCATENATE(LEFT(B10,4),"-",D10) -> 9403-JAYAPURA | K10: =IF(G10>0,1,0) -> 1
A11: https://fasih-sm.bps.go.id/survey-collection/assignment-detail/0bbf06b7-078b-4ea2-b6c3-35280acaa40a/345cbe9e-45b8-42c2-bc4a-c76fe52a97ea | B11: 9403082008 | C11: PAPUA | D11: JAYAPURA | E11: YAPSI | F11: PURNAWA JATI | G11: 100 | I11: W1_r305b | J11: =CONCATENATE(LEFT(B11,4),"-",D11) -> 9403-JAYAPURA | K11: =IF(G11>0,1,0) -> 1
A12: https://fasih-sm.bps.go.id/survey-collection/assignment-detail/ff0b0cb4-7e60-4789-b1f0-c724e7a90d9e/345cbe9e-45b8-42c2-bc4a-c76fe52a97ea | B12: 9403140008 | C12: PAPUA | D12: JAYAPURA | E12: KEMTUK | F12: SABEAB KECIL | G12: 100 | I12: W1_r305b | J12: =CONCATENATE(LEFT(B12,4),"-",D12) -> 9403-JAYAPURA | K12: =IF(G12>0,1,0) -> 1
A13: https://fasih-sm.bps.go.id/survey-collection/assignment-detail/51f9d40c-682a-48ca-a4c5-8a95d0f7c705/345cbe9e-45b8-42c2-bc4a-c76fe52a97ea | B13: 9403140009 | C13: PAPUA | D13: JAYAPURA | E13: KEMTUK | F13: SEKORI | G13: 100 | I13: W1_r305b | J13: =CONCATENATE(LEFT(B13,4),"-",D13) -> 9403-JAYAPURA | K13: =IF(G13>0,1,0) -> 1
... A591: https://fasih-sm.bps.go.id/survey-collection/assignment-detail/0476f665-523e-49b6-9a18-6849626f5867/345cbe9e-45b8-42c2-bc4a-c76fe52a97ea | B591: 9605180001 | C591: PAPUA TENGAH | D591: PANIAI | E591: EKADIDE | F591: MAKIDIMI | G591: 100 | I591: W1_401c | J591: =CONCATENATE(LEFT(B591,4),"-",D591) -> 9605-PANIAI | K591: =IF(G591>0,1,0) -> 1
A592: https://fasih-sm.bps.go.id/survey-collection/assignment-detail/df85f193-d2dd-469e-8bc8-609d897ce4a2/345cbe9e-45b8-42c2-bc4a-c76fe52a97ea | B592: 9607040002 | C592: PAPUA TENGAH | D592: PUNCAK | E592: GOME | F592: MISIMAGA | G592: 100 | H592: Sesuai dengan kondisi lapangan | I592: W1_401c | J592: =CONCATENATE(LEFT(B592,4),"-",D592) -> 9607-PUNCAK | K592: =IF(G592>0,1,0) -> 1
A593: https://fasih-sm.bps.go.id/survey-collection/assignment-detail/850da825-3264-4069-931e-c227012712ad/345cbe9e-45b8-42c2-bc4a-c76fe52a97ea | B593: 9607040007 | C593: PAPUA TENGAH | D593: PUNCAK | E593: GOME | F593: TEGELOBAK | G593: 100 | H593: Sesuai dengan kondisi lapangan | I593: W1_401c | J593: =CONCATENATE(LEFT(B593,4),"-",D593) -> 9607-PUNCAK | K593: =IF(G593>0,1,0) -> 1
A594: https://fasih-sm.bps.go.id/survey-collection/assignment-detail/ffd36f97-8306-4e1f-bb6f-8aa9e8dedf89/345cbe9e-45b8-42c2-bc4a-c76fe52a97ea | B594: 9607060002 | C594: PAPUA TENGAH | D594: PUNCAK | E594: GOME UTARA | F594: TOWENGGI II | G594: 100 | H594: Sesuai dengan kondisi lapangan | I594: W1_401c | J594: =CONCATENATE(LEFT(B594,4),"-",D594) -> 9607-PUNCAK | K594: =IF(G594>0,1,0) -> 1
A595: https://fasih-sm.bps.go.id/survey-collection/assignment-detail/01246ffe-9b6f-41d7-aee0-69770856c66c/345cbe9e-45b8-42c2-bc4a-c76fe52a97ea | B595: 9607070004 | C595: PAPUA TENGAH | D595: PUNCAK | E595: ERELMAKAWIA | F595: BOMOGIN | G595: 100 | H595: Sesuai dengan kondisi lapangan | I595: W1_401c | J595: =CONCATENATE(LEFT(B595,4),"-",D595) -> 9607-PUNCAK | K595: =IF(G595>0,1,0) -> 1
A596: https://fasih-sm.bps.go.id/survey-collection/assignment-detail/933d2640-ef76-4c13-8e87-e292760bac4d/345cbe9e-45b8-42c2-bc4a-c76fe52a97ea | B596: 9607070009 | C596: PAPUA TENGAH | D596: PUNCAK | E596: ERELMAKAWIA | F596: AI ARAMA | G596: 100 | H596: Sesuai dengan kondisi lapangan | I596: W1_401c | J596: =CONCATENATE(LEFT(B596,4),"-",D596) -> 9607-PUNCAK | K596: =IF(G596>0,1,0) -> 1
A597: https://fasih-sm.bps.go.id/survey-collection/assignment-detail/fb114239-07d1-43ad-a148-975929497d4d/345cbe9e-45b8-42c2-bc4a-c76fe52a97ea | B597: 9607080004 | C597: PAPUA TENGAH | D597: PUNCAK | E597: ILAGA | F597: NIPURALOME | G597: 100 | H597: Sesuai dengan kondisi lapangan | I597: W1_401c | J597: =CONCATENATE(LEFT(B597,4),"-",D597) -> 9607-PUNCAK | K597: =IF(G597>0,1,0) -> 1
A598: https://fasih-sm.bps.go.id/survey-collection/assignment-detail/0f30d5eb-7e3c-4792-9850-1fda91a29a06/345cbe9e-45b8-42c2-bc4a-c76fe52a97ea | B598: 9706010037 | C598: PAPUA PEGUNUNGAN | D598: YALIMO | E598: WELAREK | F598: PUNUI | G598: 100 | I598: W1_401c | J598: =CONCATENATE(LEFT(B598,4),"-",D598) -> 9706-YALIMO | K598: =IF(G598>0,1,0) -> 1
A599: https://fasih-sm.bps.go.id/survey-collection/assignment-detail/68625d7e-2dc3-4197-b576-1190b7425ef1/345cbe9e-45b8-42c2-bc4a-c76fe52a97ea | B599: 9403230011 | C599: PAPUA | D599: JAYAPURA | E599: SENTANI | F599: IFAR BESAR | G599: 100 | I599: W2_401c | J599: =CONCATENATE(LEFT(B599,4),"-",D599) -> 9403-JAYAPURA | K599: =IF(G599>0,1,0) -> 1
A600: https://fasih-sm.bps.go.id/survey-collection/assignment-detail/3e258466-249c-47a7-b76f-5f1a2fd79e81/345cbe9e-45b8-42c2-bc4a-c76fe52a97ea | B600: 9408041005 | C600: PAPUA | D600: KEPULAUAN YAPEN | E600: PANTURA YAPEN | F600: SAMBRAWAI | G600: 100 | H600: sudah sesuai kondisi lapangan | I600: W2_401c | J600: =CONCATENATE(LEFT(B600,4),"-",D600) -> 9408-KEPULAUAN YAPEN | K600: =IF(G600>0,1,0) -> 1
A601: https://fasih-sm.bps.go.id/survey-collection/assignment-detail/b585e3dc-a580-455c-a6ce-a89f24215153/345cbe9e-45b8-42c2-bc4a-c76fe52a97ea | B601: 9409050005 | C601: PAPUA | D601: BIAK NUMFOR | E601: BIAK KOTA | F601: BUROKUB | G601: 100 | I601: W2_401c | J601: =CONCATENATE(LEFT(B601,4),"-",D601) -> 9409-BIAK NUMFOR | K601: =IF(G601>0,1,0) -> 1
A602: https://fasih-sm.bps.go.id/survey-collection/assignment-detail/e63a6bcc-fdd1-48b2-868c-8fe776c5aa74/345cbe9e-45b8-42c2-bc4a-c76fe52a97ea | B602: 9409050016 | C602: PAPUA | D602: BIAK NUMFOR | E602: BIAK KOTA | F602: INGGUPI | G602: 100 | I602: W2_401c | J602: =CONCATENATE(LEFT(B602,4),"-",D602) -> 9409-BIAK NUMFOR | K602: =IF(G602>0,1,0) -> 1
A603: https://fasih-sm.bps.go.id/survey-collection/assignment-detail/4c9df265-a31c-4ae7-8b4d-990ac766791d/345cbe9e-45b8-42c2-bc4a-c76fe52a97ea | B603: 9420041002 | C603: PAPUA | D603: KEEROM | E603: ARSO TIMUR | F603: KRIKU | G603: 100 | I603: W2_401c | J603: =CONCATENATE(LEFT(B603,4),"-",D603) -> 9420-KEEROM | K603: =IF(G603>0,1,0) -> 1
A604: https://fasih-sm.bps.go.id/survey-collection/assignment-detail/fc0cd1e0-359f-4588-8efa-8f12a62146c7/345cbe9e-45b8-42c2-bc4a-c76fe52a97ea | B604: 9426011010 | C604: PAPUA | D604: WAROPEN | E604: INGGERUS | F604: OTODEMO | G604: 100 | I604: W2_401c | J604: =CONCATENATE(LEFT(B604,4),"-",D604) -> 9426-WAROPEN | K604: =IF(G604>0,1,0) -> 1
A605: https://fasih-sm.bps.go.id/survey-collection/assignment-detail/4d1bf0f9-197b-4153-b221-cf9f4ab80976/345cbe9e-45b8-42c2-bc4a-c76fe52a97ea | B605: 9426012007 | C605: PAPUA | D605: WAROPEN | E605: UREI FAISEI | F605: UREI FAISEI SATU/SANGGEI | G605: 100 | I605: W2_401c | J605: =CONCATENATE(LEFT(B605,4),"-",D605) -> 9426-WAROPEN | K605: =IF(G605>0,1,0) -> 1
A606: https://fasih-sm.bps.go.id/survey-collection/assignment-detail/630da270-ac10-43e1-8aa7-1be36ef3cecf/345cbe9e-45b8-42c2-bc4a-c76fe52a97ea | B606: 9426023004 | C606: PAPUA | D606: WAROPEN | E606: SOYOI MAMBAI | F606: DAIMBOA | G606: 100 | I606: W2_401c | J606: =CONCATENATE(LEFT(B606,4),"-",D606) -> 9426-WAROPEN | K606: =IF(G606>0,1,0) -> 1
A607: https://fasih-sm.bps.go.id/survey-collection/assignment-detail/c705fb7a-229b-41c6-a218-400c67b05a51/345cbe9e-45b8-42c2-bc4a-c76fe52a97ea | B607: 9426030005 | C607: PAPUA | D607: WAROPEN | E607: WALANI | F607: OYETADI | G607: 100 | I607: W2_401c | J607: =CONCATENATE(LEFT(B607,4),"-",D607) -> 9426-WAROPEN | K607: =IF(G607>0,1,0) -> 1
A608: https://fasih-sm.bps.go.id/survey-collection/assignment-detail/7c6d51df-a42a-408a-8cf4-a65737dd6d9e/345cbe9e-45b8-42c2-bc4a-c76fe52a97ea | B608: 9426040002 | C608: PAPUA | D608: WAROPEN | E608: KIRIHI | F608: SPOIRI | G608: 100 | I608: W2_401c | J608: =CONCATENATE(LEFT(B608,4),"-",D608) -> 9426-WAROPEN | K608: =IF(G608>0,1,0) -> 1
A609: https://fasih-sm.bps.go.id/survey-collection/assignment-detail/eef11875-0d7b-46e5-9d21-d57da2c2e3c1/345cbe9e-45b8-42c2-bc4a-c76fe52a97ea | B609: 9426040005 | C609: PAPUA | D609: WAROPEN | E609: KIRIHI | F609: KAWARI | G609: 100 | I609: W2_401c | J609: =CONCATENATE(LEFT(B609,4),"-",D609) -> 9426-WAROPEN | K609: =IF(G609>0,1,0) -> 1
A610: https://fasih-sm.bps.go.id/survey-collection/assignment-detail/35993b7e-1ebd-4de2-81c3-fd6f4be3ba18/345cbe9e-45b8-42c2-bc4a-c76fe52a97ea | B610: 9426040009 | C610: PAPUA | D610: WAROPEN | E610: KIRIHI | F610: ANTU ARU | G610: 100 | I610: W2_401c | J610: =CONCATENATE(LEFT(B610,4),"-",D610) -> 9426-WAROPEN | K610: =IF(G610>0,1,0) -> 1
A611: https://fasih-sm.bps.go.id/survey-collection/assignment-detail/b43f7d09-a5cc-4d5e-9b52-31e4e2264d72/345cbe9e-45b8-42c2-bc4a-c76fe52a97ea | B611: 9426040010 | C611: PAPUA | D611: WAROPEN | E611: KIRIHI | F611: WAFUKA | G611: 100 | I611: W2_401c | J611: =CONCATENATE(LEFT(B611,4),"-",D611) -> 9426-WAROPEN | K611: =IF(G611>0,1,0) -> 1
A612: https://fasih-sm.bps.go.id/survey-collection/assignment-detail/e0698b60-9048-4224-9276-69c7ba117cde/345cbe9e-45b8-42c2-bc4a-c76fe52a97ea | B612: 9471010001 | C612: PAPUA | D612: JAYAPURA | E612: MUARA TAMI | F612: KOYA BARAT | G612: 100 | I612: W2_401c | J612: =CONCATENATE(LEFT(B612,4),"-",D612) -> 9471-JAYAPURA | K612: =IF(G612>0,1,0) -> 1
... A634: https://fasih-sm.bps.go.id/survey-collection/assignment-detail/4661dd33-b338-4b81-9515-b7874f62099b/345cbe9e-45b8-42c2-bc4a-c76fe52a97ea | B634: 9706050016 | C634: PAPUA PEGUNUNGAN | D634: YALIMO | E634: BENAWA | F634: LAWE | G634: 100 | I634: W2_401c | J634: =CONCATENATE(LEFT(B634,4),"-",D634) -> 9706-YALIMO | K634: =IF(G634>0,1,0) -> 1
A635: https://fasih-sm.bps.go.id/survey-collection/assignment-detail/39b09869-b46f-421d-bc35-92838265b334/345cbe9e-45b8-42c2-bc4a-c76fe52a97ea | B635: 9707010004 | C635: PAPUA PEGUNUNGAN | D635: YAHUKIMO | E635: KURIMA | F635: OBOLMA | G635: 75 | H635: r401c jadi 60+110=170? | I635: W2_r501 | J635: =CONCATENATE(LEFT(B635,4),"-",D635) -> 9707-YAHUKIMO | K635: =IF(G635>0,1,0) -> 1
A636: https://fasih-sm.bps.go.id/survey-collection/assignment-detail/d233232c-ce76-4e19-94a0-7e49f748273e/345cbe9e-45b8-42c2-bc4a-c76fe52a97ea | B636: 9501050002 | C636: PAPUA SELATAN | D636: MERAUKE | E636: KONTUAR | F636: WANTARMA | G636: 75 | I636: W_r502a | J636: =CONCATENATE(LEFT(B636,4),"-",D636) -> 9501-MERAUKE | K636: =IF(G636>0,1,0) -> 1
A637: https://fasih-sm.bps.go.id/survey-collection/assignment-detail/739ef1e0-3741-4b29-b6e6-ae4c6235f802/345cbe9e-45b8-42c2-bc4a-c76fe52a97ea | B637: 9702020006 | C637: PAPUA PEGUNUNGAN | D637: JAYAWIJAYA | E637: ASOLOKOBAL | F637: SINATA | G637: 75 | I637: W_r502a | J637: =CONCATENATE(LEFT(B637,4),"-",D637) -> 9702-JAYAWIJAYA | K637: =IF(G637>0,1,0) -> 1
A638: https://fasih-sm.bps.go.id/survey-collection/assignment-detail/dbb68a8d-9405-49a2-841f-433f663a28c4/345cbe9e-45b8-42c2-bc4a-c76fe52a97ea | B638: 9701050005 | C638: PAPUA PEGUNUNGAN | D638: NDUGA | E638: KENYAM | F638: YIKE | G638: 100 | I638: W1_r501 | J638: =CONCATENATE(LEFT(B638,4),"-",D638) -> 9701-NDUGA | K638: =IF(G638>0,1,0) -> 1
...

Sheet konsistensi3_kirim
A1: url | B1: kode_desa | C1: nama_prov | D1: nama_kab | E1: nama_kec | F1: nama_desa | G1: progres | H1: catatan | I1: nama_sheet | J1: kode_kab | K1: konfirmasi
A2: https://fasih-sm.bps.go.id/survey-collection/assignment-detail/3dcad188-c95c-4963-8ccd-647a11968df6/345cbe9e-45b8-42c2-bc4a-c76fe52a97ea | B2: 9502160004 | C2: PAPUA SELATAN | D2: BOVEN DIGOEL | E2: FIRIWAGE | F2: KABUWAGE | G2: 20 | H2: karena isian 902ak2nya berubah maka isian 902ak3 dan 4nya dibuat missing | I2: E_r902ak2 | J2: =CONCATENATE(LEFT(B2,4),"-",D2) -> 9502-BOVEN DIGOEL | K2: =IF(G2>0,1,0) -> 1
A3: https://fasih-sm.bps.go.id/survey-collection/assignment-detail/606b2b75-7caf-45b4-826d-464610b3632b/345cbe9e-45b8-42c2-bc4a-c76fe52a97ea | B3: 9607110011 | C3: PAPUA TENGAH | D3: PUNCAK | E3: OMUKIA | F3: DOMAOA | G3: 40 | H3: karena isian 902ak2nya berubah maka isian 902ak3 dan 4nya dibuat missing | I3: E_r902ak2 | J3: =CONCATENATE(LEFT(B3,4),"-",D3) -> 9607-PUNCAK | K3: =IF(G3>0,1,0) -> 1
A4: https://fasih-sm.bps.go.id/survey-collection/assignment-detail/47c8efcc-4e11-40aa-a55b-f864cb36a6c7/345cbe9e-45b8-42c2-bc4a-c76fe52a97ea | B4: 9607110012 | C4: PAPUA TENGAH | D4: PUNCAK | E4: OMUKIA | F4: PUNGTRAMA | G4: 40 | H4: karena isian 902ak2nya berubah maka isian 902ak3 dan 4nya dibuat missing | I4: E_r902ak2 | J4: =CONCATENATE(LEFT(B4,4),"-",D4) -> 9607-PUNCAK | K4: =IF(G4>0,1,0) -> 1
A5: https://fasih-sm.bps.go.id/survey-collection/assignment-detail/2223a040-1419-4b80-988d-dbbc3fa89a37/345cbe9e-45b8-42c2-bc4a-c76fe52a97ea | B5: 9607110013 | C5: PAPUA TENGAH | D5: PUNCAK | E5: OMUKIA | F5: BALAMAGALAMA | G5: 40 | H5: karena isian 902ak2nya berubah maka isian 902ak3 dan 4nya dibuat missing | I5: E_r902ak2 | J5: =CONCATENATE(LEFT(B5,4),"-",D5) -> 9607-PUNCAK | K5: =IF(G5>0,1,0) -> 1
A6: https://fasih-sm.bps.go.id/survey-collection/assignment-detail/6026e2b6-0e94-4c88-8920-fa029ddb78be/345cbe9e-45b8-42c2-bc4a-c76fe52a97ea | B6: 9702250003 | C6: PAPUA PEGUNUNGAN | D6: JAYAWIJAYA | E6: LIBAREK | F6: KILUBAGA | G6: 40 | H6: karena isian 902ak2nya berubah maka isian 902ak3 dan 4nya dibuat missing | I6: E_r902ak2 | J6: =CONCATENATE(LEFT(B6,4),"-",D6) -> 9702-JAYAWIJAYA | K6: =IF(G6>0,1,0) -> 1
A7: https://fasih-sm.bps.go.id/survey-collection/assignment-detail/3ea90f05-e752-4864-a521-eede18d8f7cd/345cbe9e-45b8-42c2-bc4a-c76fe52a97ea | B7: 9702250004 | C7: PAPUA PEGUNUNGAN | D7: JAYAWIJAYA | E7: LIBAREK | F7: MUSALFAK | G7: 40 | H7: karena isian 902ak2nya berubah maka isian 902ak3 dan 4nya dibuat missing | I7: E_r902ak2 | J7: =CONCATENATE(LEFT(B7,4),"-",D7) -> 9702-JAYAWIJAYA | K7: =IF(G7>0,1,0) -> 1
A8: https://fasih-sm.bps.go.id/survey-collection/assignment-detail/07aa287c-f53f-4e3a-98c1-e611fbdc0ead/345cbe9e-45b8-42c2-bc4a-c76fe52a97ea | B8: 9420040021 | C8: PAPUA | D8: KEEROM | E8: ARSO | F8: SAWABUM | G8: 50 | H8: jalan kaki tidak boleh ada biaya, apakah ada menggunakan transportasi lain? | I8: E1_r902ak7 | J8: =CONCATENATE(LEFT(B8,4),"-",D8) -> 9420-KEEROM | K8: =IF(G8>0,1,0) -> 1
A9: https://fasih-sm.bps.go.id/survey-collection/assignment-detail/61c7bc05-833b-4dee-ad28-a253b0db1435/345cbe9e-45b8-42c2-bc4a-c76fe52a97ea | B9: 9504080004 | C9: PAPUA SELATAN | D9: ASMAT | E9: BECTBAMU | F9: BIWAR LAUT | G9: 25 | H9: r902ak2 wajib ada isian | I9: E1_r902ak7 | J9: =CONCATENATE(LEFT(B9,4),"-",D9) -> 9504-ASMAT | K9: =IF(G9>0,1,0) -> 1
A10: https://fasih-sm.bps.go.id/survey-collection/assignment-detail/2f8fd59d-a3e3-4013-b94d-213bf18bad36/345cbe9e-45b8-42c2-bc4a-c76fe52a97ea | B10: 9504090002 | C10: PAPUA SELATAN | D10: ASMAT | E10: ATSY | F10: YASIU/YAISU | G10: 25 | H10: r902ak2 wajib ada isian | I10: E1_r902ak7 | J10: =CONCATENATE(LEFT(B10,4),"-",D10) -> 9504-ASMAT | K10: =IF(G10>0,1,0) -> 1
A11: https://fasih-sm.bps.go.id/survey-collection/assignment-detail/e6e71bc5-62cb-4b25-b1c7-4f1ce5503a9a/345cbe9e-45b8-42c2-bc4a-c76fe52a97ea | B11: 9504160004 | C11: PAPUA SELATAN | D11: ASMAT | E11: JOERAT | F11: ONAVAI | G11: 50 | I11: E1_r902ak7 | J11: =CONCATENATE(LEFT(B11,4),"-",D11) -> 9504-ASMAT | K11: =IF(G11>0,1,0) -> 1
A12: https://fasih-sm.bps.go.id/survey-collection/assignment-detail/99d399f8-e88b-46ef-9bb7-84768e113de2/345cbe9e-45b8-42c2-bc4a-c76fe52a97ea | B12: 9604030004 | C12: PAPUA TENGAH | D12: NABIRE | E12: SIRIWO | F12: SIRIWO/ UNIPO | G12: 50 | H12: jalan kaki tidak boleh ada biaya, apakah ada menggunakan transportasi lain? | I12: E1_r902ak7 | J12: =CONCATENATE(LEFT(B12,4),"-",D12) -> 9604-NABIRE | K12: =IF(G12>0,1,0) -> 1
A13: https://fasih-sm.bps.go.id/survey-collection/assignment-detail/9d70fd11-d051-4dae-be80-94773d53175b/345cbe9e-45b8-42c2-bc4a-c76fe52a97ea | B13: 9701180005 | C13: PAPUA PEGUNUNGAN | D13: NDUGA | E13: MUGI | F13: WUNDUI | G13: 50 | I13: E1_r902ak7 | J13: =CONCATENATE(LEFT(B13,4),"-",D13) -> 9701-NDUGA | K13: =IF(G13>0,1,0) -> 1
A14: https://fasih-sm.bps.go.id/survey-collection/assignment-detail/d1c3ae71-696c-466d-a9b6-6e9a87200106/345cbe9e-45b8-42c2-bc4a-c76fe52a97ea | B14: 9702040001 | C14: PAPUA PEGUNUNGAN | D14: JAYAWIJAYA | E14: TRIKORA | F14: TRIKORA | G14: 50 | I14: E1_r902ak7 | J14: =CONCATENATE(LEFT(B14,4),"-",D14) -> 9702-JAYAWIJAYA | K14: =IF(G14>0,1,0) -> 1
A15: https://fasih-sm.bps.go.id/survey-collection/assignment-detail/b279538e-e788-426a-ac9f-0693b49d3243/345cbe9e-45b8-42c2-bc4a-c76fe52a97ea | B15: 9702040002 | C15: PAPUA PEGUNUNGAN | D15: JAYAWIJAYA | E15: TRIKORA | F15: NANGGO | G15: 50 | I15: E1_r902ak7 | J15: =CONCATENATE(LEFT(B15,4),"-",D15) -> 9702-JAYAWIJAYA | K15: =IF(G15>0,1,0) -> 1
A16: https://fasih-sm.bps.go.id/survey-collection/assignment-detail/fc6ee309-15ee-48e6-b2e2-484b2d7e9b92/345cbe9e-45b8-42c2-bc4a-c76fe52a97ea | B16: 9702040003 | C16: PAPUA PEGUNUNGAN | D16: JAYAWIJAYA | E16: TRIKORA | F16: DINGGILMO | G16: 50 | I16: E1_r902ak7 | J16: =CONCATENATE(LEFT(B16,4),"-",D16) -> 9702-JAYAWIJAYA | K16: =IF(G16>0,1,0) -> 1
A17: https://fasih-sm.bps.go.id/survey-collection/assignment-detail/7c082a71-c92d-4c5e-893f-91c4db3483fa/345cbe9e-45b8-42c2-bc4a-c76fe52a97ea | B17: 9702040004 | C17: PAPUA PEGUNUNGAN | D17: JAYAWIJAYA | E17: TRIKORA | F17: KORA JAYA | G17: 50 | I17: E1_r902ak7 | J17: =CONCATENATE(LEFT(B17,4),"-",D17) -> 9702-JAYAWIJAYA | K17: =IF(G17>0,1,0) -> 1
A18: https://fasih-sm.bps.go.id/survey-collection/assignment-detail/58fef605-9db4-48e7-8154-28a45be6563a/345cbe9e-45b8-42c2-bc4a-c76fe52a97ea | B18: 9702040005 | C18: PAPUA PEGUNUNGAN | D18: JAYAWIJAYA | E18: TRIKORA | F18: KORAMBIRIK | G18: 50 | I18: E1_r902ak7 | J18: =CONCATENATE(LEFT(B18,4),"-",D18) -> 9702-JAYAWIJAYA | K18: =IF(G18>0,1,0) -> 1
A19: https://fasih-sm.bps.go.id/survey-collection/assignment-detail/03014e21-a9a1-4f80-8c23-d2a8be7afe35/345cbe9e-45b8-42c2-bc4a-c76fe52a97ea | B19: 9702040006 | C19: PAPUA PEGUNUNGAN | D19: JAYAWIJAYA | E19: TRIKORA | F19: ANGGULPA | G19: 50 | I19: E1_r902ak7 | J19: =CONCATENATE(LEFT(B19,4),"-",D19) -> 9702-JAYAWIJAYA | K19: =IF(G19>0,1,0) -> 1
A20: https://fasih-sm.bps.go.id/survey-collection/assignment-detail/80c126c1-efab-440a-8945-eb5d1784eda5/345cbe9e-45b8-42c2-bc4a-c76fe52a97ea | B20: 9702210001 | C20: PAPUA PEGUNUNGAN | D20: JAYAWIJAYA | E20: WAME | F20: DOGONAME | G20: 50 | I20: E1_r902ak7 | J20: =CONCATENATE(LEFT(B20,4),"-",D20) -> 9702-JAYAWIJAYA | K20: =IF(G20>0,1,0) -> 1
A21: https://fasih-sm.bps.go.id/survey-collection/assignment-detail/3d5e21b3-83e6-44e8-a3e1-b6d9b1272afe/345cbe9e-45b8-42c2-bc4a-c76fe52a97ea | B21: 9702210002 | C21: PAPUA PEGUNUNGAN | D21: JAYAWIJAYA | E21: WAME | F21: YANENGGAME | G21: 50 | I21: E1_r902ak7 | J21: =CONCATENATE(LEFT(B21,4),"-",D21) -> 9702-JAYAWIJAYA | K21: =IF(G21>0,1,0) -> 1
A22: https://fasih-sm.bps.go.id/survey-collection/assignment-detail/9087ed92-7b18-4b93-9482-44c6164aabfa/345cbe9e-45b8-42c2-bc4a-c76fe52a97ea | B22: 9702210004 | C22: PAPUA PEGUNUNGAN | D22: JAYAWIJAYA | E22: WAME | F22: WAME | G22: 50 | I22: E1_r902ak7 | J22: =CONCATENATE(LEFT(B22,4),"-",D22) -> 9702-JAYAWIJAYA | K22: =IF(G22>0,1,0) -> 1
A23: https://fasih-sm.bps.go.id/survey-collection/assignment-detail/4a4f92b1-48d4-4a91-a025-5ff0c5a7ed63/345cbe9e-45b8-42c2-bc4a-c76fe52a97ea | B23: 9702220001 | C23: PAPUA PEGUNUNGAN | D23: JAYAWIJAYA | E23: KURULU | F23: OBYA | G23: 50 | I23: E1_r902ak7 | J23: =CONCATENATE(LEFT(B23,4),"-",D23) -> 9702-JAYAWIJAYA | K23: =IF(G23>0,1,0) -> 1
A24: https://fasih-sm.bps.go.id/survey-collection/assignment-detail/8e6a3cb3-5a24-4fc4-9b78-5fdb5a0936f0/345cbe9e-45b8-42c2-bc4a-c76fe52a97ea | B24: 9702220002 | C24: PAPUA PEGUNUNGAN | D24: JAYAWIJAYA | E24: KURULU | F24: MEBAGAIMA | G24: 50 | I24: E1_r902ak7 | J24: =CONCATENATE(LEFT(B24,4),"-",D24) -> 9702-JAYAWIJAYA | K24: =IF(G24>0,1,0) -> 1
... A163: https://fasih-sm.bps.go.id/survey-collection/assignment-detail/e85d4b5a-19b2-4d01-85be-170e64389c0d/345cbe9e-45b8-42c2-bc4a-c76fe52a97ea | B163: 9703380003 | C163: PAPUA PEGUNUNGAN | D163: LANNY JAYA | E163: POGA | F163: BINIPAGA | G163: 40 | I163: E_r902bk2 | J163: =CONCATENATE(LEFT(B163,4),"-",D163) -> 9703-LANNY JAYA | K163: =IF(G163>0,1,0) -> 1
A164: https://fasih-sm.bps.go.id/survey-collection/assignment-detail/8b58fcfb-75c4-4838-a86a-8191edacffd1/345cbe9e-45b8-42c2-bc4a-c76fe52a97ea | B164: 9706010001 | C164: PAPUA PEGUNUNGAN | D164: YALIMO | E164: WELAREK | F164: SALY | G164: 100 | H164: r901c2 harusnya terisi kode jawaban 1 atau 2 | I164: E_r902bk2 | J164: =CONCATENATE(LEFT(B164,4),"-",D164) -> 9706-YALIMO | K164: =IF(G164>0,1,0) -> 1
A165: https://fasih-sm.bps.go.id/survey-collection/assignment-detail/9553cbe9-90f4-4708-9ddb-a066e0398cd3/345cbe9e-45b8-42c2-bc4a-c76fe52a97ea | B165: 9706010002 | C165: PAPUA PEGUNUNGAN | D165: YALIMO | E165: WELAREK | F165: MABUALEM | G165: 100 | H165: r901c2 harusnya terisi kode jawaban 1 atau 3 | I165: E_r902bk2 | J165: =CONCATENATE(LEFT(B165,4),"-",D165) -> 9706-YALIMO | K165: =IF(G165>0,1,0) -> 1
A166: https://fasih-sm.bps.go.id/survey-collection/assignment-detail/b2b6cc22-0b82-4ddd-98da-08a32cc07cbd/345cbe9e-45b8-42c2-bc4a-c76fe52a97ea | B166: 9706010003 | C166: PAPUA PEGUNUNGAN | D166: YALIMO | E166: WELAREK | F166: WERENGGIK | G166: 100 | H166: r901c2 harusnya terisi kode jawaban 1 atau 4 | I166: E_r902bk2 | J166: =CONCATENATE(LEFT(B166,4),"-",D166) -> 9706-YALIMO | K166: =IF(G166>0,1,0) -> 1
A167: https://fasih-sm.bps.go.id/survey-collection/assignment-detail/c1b22733-a1c8-47bd-930f-1d8cd40325fe/345cbe9e-45b8-42c2-bc4a-c76fe52a97ea | B167: 9706010005 | C167: PAPUA PEGUNUNGAN | D167: YALIMO | E167: WELAREK | F167: PISANGGO | G167: 100 | H167: r901c2 harusnya terisi kode jawaban 1 atau 5 | I167: E_r902bk2 | J167: =CONCATENATE(LEFT(B167,4),"-",D167) -> 9706-YALIMO | K167: =IF(G167>0,1,0) -> 1
A168: https://fasih-sm.bps.go.id/survey-collection/assignment-detail/589fd0f0-249b-476e-859a-67dc607dc11a/345cbe9e-45b8-42c2-bc4a-c76fe52a97ea | B168: 9706010006 | C168: PAPUA PEGUNUNGAN | D168: YALIMO | E168: WELAREK | F168: SALEMA | G168: 100 | H168: r901c2 harusnya terisi kode jawaban 1 atau 6 | I168: E_r902bk2 | J168: =CONCATENATE(LEFT(B168,4),"-",D168) -> 9706-YALIMO | K168: =IF(G168>0,1,0) -> 1
A169: https://fasih-sm.bps.go.id/survey-collection/assignment-detail/0f0da682-c558-424a-864e-ee375676bf0d/345cbe9e-45b8-42c2-bc4a-c76fe52a97ea | B169: 9706010010 | C169: PAPUA PEGUNUNGAN | D169: YALIMO | E169: WELAREK | F169: PIRANG | G169: 100 | H169: r901c2 harusnya terisi kode jawaban 1 atau 7 | I169: E_r902bk2 | J169: =CONCATENATE(LEFT(B169,4),"-",D169) -> 9706-YALIMO | K169: =IF(G169>0,1,0) -> 1
A170: https://fasih-sm.bps.go.id/survey-collection/assignment-detail/0f6d0cdc-5ad5-40dd-a0e7-08a9874976ac/345cbe9e-45b8-42c2-bc4a-c76fe52a97ea | B170: 9706010013 | C170: PAPUA PEGUNUNGAN | D170: YALIMO | E170: WELAREK | F170: IRAREK | G170: 100 | H170: r901c2 harusnya terisi kode jawaban 1 atau 8 | I170: E_r902bk2 | J170: =CONCATENATE(LEFT(B170,4),"-",D170) -> 9706-YALIMO | K170: =IF(G170>0,1,0) -> 1
A171: https://fasih-sm.bps.go.id/survey-collection/assignment-detail/529a445d-cfec-46c1-973f-eb19c05698e3/345cbe9e-45b8-42c2-bc4a-c76fe52a97ea | B171: 9706010016 | C171: PAPUA PEGUNUNGAN | D171: YALIMO | E171: WELAREK | F171: ULUM | G171: 100 | H171: r901c2 harusnya terisi kode jawaban 1 atau 9 | I171: E_r902bk2 | J171: =CONCATENATE(LEFT(B171,4),"-",D171) -> 9706-YALIMO | K171: =IF(G171>0,1,0) -> 1
A172: https://fasih-sm.bps.go.id/survey-collection/assignment-detail/b97f79be-cdd8-4535-8115-73417ee357f7/345cbe9e-45b8-42c2-bc4a-c76fe52a97ea | B172: 9706010022 | C172: PAPUA PEGUNUNGAN | D172: YALIMO | E172: WELAREK | F172: SILFAL | G172: 100 | H172: r901c2 harusnya terisi kode jawaban 1 atau 10 | I172: E_r902bk2 | J172: =CONCATENATE(LEFT(B172,4),"-",D172) -> 9706-YALIMO | K172: =IF(G172>0,1,0) -> 1
