Workbook
Name Grades: Dashboard!$M$5:$M$40
Name ClassAvgPoints: #REF!
Name Grades: 'Copy of Dashboard'!$F$6:$F$11
Name GradeRange: 'Copy of Dashboard'!$D$6:$D$11
Name StudentGrades: #REF!
Name TotalPoints: #REF!
Name PointValues: #REF!
Name GradeRange: Dashboard!$J$5:$J$40

Sheet Dashboard
B1: MONITORING LK PERBAIKAN DATA PODES 2026
B3: =CONCATENATE("MONITORING LK PERBAIKAN DATA PODES 2026 PER TANGGAL ",Data!B32," ",Data!B33) -> MONITORING LK PERBAIKAN DATA PODES 2026 PER TANGGAL 10-08-2026 17:27 WIT
B4: per kabupaten
B5: KABUPATEN | C5: Target LK konsistensi | D5: Progres LK konsistensi | E5: Target LK konsistensi warning | F5: Progres LK konsistensi warning | G5: Target Konfirmasi hasil perbaikan LK error+warning | H5: Progres Konfirmasi hasil perbaikan LK error+warning | I5: Target konsistensi_warning_kirim3 | J5: Progres konsistensi_warning_kirim3 | K5: Target konsistensi3_kirim | L5: Progres konsistensi3_kirim | M5: Target range_kirim | N5: Progres range_kirim | O5: Target infra | P5: Progres infra | Q5: % Progres Total Perbaikan
B6: (1) | C6: (2) | D6: (3) | E6: (4) | F6: (5) | G6: (6) | H6: (7) | I6: (2) | J6: (3) | K6: (4) | L6: (5) | M6: (6) | N6: (7) | O6: (8) | P6: (9) | Q6: (8)
B7: =Data!A2 -> 9403-JAYAPURA | C7: =IFNA(VLOOKUP(B7,'Pivot Table X'!$A$2:$C$30,2,false),0) -> 0 | D7: =IFNA(VLOOKUP(B7,'Pivot Table X'!$A$2:$C$30,3,false),0) -> 0 | E7: =IFNA(VLOOKUP(B7,'Pivot Table Y'!$A$2:$C$30,2,false),0) -> 0 | F7: =IFNA(VLOOKUP(B7,'Pivot Table Y'!$A$2:$C$30,3,false),0) -> 0 | G7: =IFNA(VLOOKUP(B7,'Pivot Table Z'!$A$2:$C$30,2,false),0) -> 0 | H7: =IFNA(VLOOKUP(B7,'Pivot Table Z'!$A$2:$C$30,3,false),0) -> 0 | I7: =VLOOKUP(B7,'Pivot Table A'!$A$2:$C$30,2,false) -> 112 | J7: =VLOOKUP(B7,'Pivot Table A'!$A$2:$C$30,3,false) -> 112 | K7: =IFNA(VLOOKUP(B7,'Pivot Table B'!$A$2:$C$30,2,false),0) -> 3 | L7: =IFNA(VLOOKUP(B7,'Pivot Table B'!$A$2:$C$30,3,false),0) -> 3 | M7: =IFNA(VLOOKUP(B7,'Pivot Table C'!$A$2:$C$30,2,false),0) -> 0 | N7: =IFNA(VLOOKUP(B7,'Pivot Table C'!$A$2:$C$30,3,false),0) -> 0 | O7: =IFNA(VLOOKUP(B7,'Pivot Table D'!$A$2:$C$30,2,false),0) -> 10 | P7: =IFNA(VLOOKUP(B7,'Pivot Table D'!$A$2:$C$30,3,false),0) -> 10 | Q7: =IFERROR(100*(D7+F7+H7)/(C7+E7+G7),100) -> 100
B8: =Data!A3 -> 9408-KEPULAUAN YAPEN | C8: =IFNA(VLOOKUP(B8,'Pivot Table X'!$A$2:$C$30,2,false),0) -> 0 | D8: =IFNA(VLOOKUP(B8,'Pivot Table X'!$A$2:$C$30,3,false),0) -> 0 | E8: =IFNA(VLOOKUP(B8,'Pivot Table Y'!$A$2:$C$30,2,false),0) -> 0 | F8: =IFNA(VLOOKUP(B8,'Pivot Table Y'!$A$2:$C$30,3,false),0) -> 0 | G8: =IFNA(VLOOKUP(B8,'Pivot Table Z'!$A$2:$C$30,2,false),0) -> 0 | H8: =IFNA(VLOOKUP(B8,'Pivot Table Z'!$A$2:$C$30,3,false),0) -> 0 | I8: =VLOOKUP(B8,'Pivot Table A'!$A$2:$C$30,2,false) -> 113 | J8: =VLOOKUP(B8,'Pivot Table A'!$A$2:$C$30,3,false) -> 113 | K8: =IFNA(VLOOKUP(B8,'Pivot Table B'!$A$2:$C$30,2,false),0) -> 21 | L8: =IFNA(VLOOKUP(B8,'Pivot Table B'!$A$2:$C$30,3,false),0) -> 21 | M8: =IFNA(VLOOKUP(B8,'Pivot Table C'!$A$2:$C$30,2,false),0) -> 0 | N8: =IFNA(VLOOKUP(B8,'Pivot Table C'!$A$2:$C$30,3,false),0) -> 0 | O8: =IFNA(VLOOKUP(B8,'Pivot Table D'!$A$2:$C$30,2,false),0) -> 31 | P8: =IFNA(VLOOKUP(B8,'Pivot Table D'!$A$2:$C$30,3,false),0) -> 31 | Q8: =IFERROR(100*(D8+F8+H8)/(C8+E8+G8),100) -> 100
B9: =Data!A4 -> 9409-BIAK NUMFOR | C9: =IFNA(VLOOKUP(B9,'Pivot Table X'!$A$2:$C$30,2,false),0) -> 0 | D9: =IFNA(VLOOKUP(B9,'Pivot Table X'!$A$2:$C$30,3,false),0) -> 0 | E9: =IFNA(VLOOKUP(B9,'Pivot Table Y'!$A$2:$C$30,2,false),0) -> 0 | F9: =IFNA(VLOOKUP(B9,'Pivot Table Y'!$A$2:$C$30,3,false),0) -> 0 | G9: =IFNA(VLOOKUP(B9,'Pivot Table Z'!$A$2:$C$30,2,false),0) -> 4 | H9: =IFNA(VLOOKUP(B9,'Pivot Table Z'!$A$2:$C$30,3,false),0) -> 4 | I9: =VLOOKUP(B9,'Pivot Table A'!$A$2:$C$30,2,false) -> 117 | J9: =VLOOKUP(B9,'Pivot Table A'!$A$2:$C$30,3,false) -> 117 | K9: =IFNA(VLOOKUP(B9,'Pivot Table B'!$A$2:$C$30,2,false),0) -> 17 | L9: =IFNA(VLOOKUP(B9,'Pivot Table B'!$A$2:$C$30,3,false),0) -> 17 | M9: =IFNA(VLOOKUP(B9,'Pivot Table C'!$A$2:$C$30,2,false),0) -> 0 | N9: =IFNA(VLOOKUP(B9,'Pivot Table C'!$A$2:$C$30,3,false),0) -> 0 | O9: =IFNA(VLOOKUP(B9,'Pivot Table D'!$A$2:$C$30,2,false),0) -> 9 | P9: =IFNA(VLOOKUP(B9,'Pivot Table D'!$A$2:$C$30,3,false),0) -> 9 | Q9: =IFERROR(100*(D9+F9+H9)/(C9+E9+G9),100) -> 100
B10: =Data!A5 -> 9419-SARMI | C10: =IFNA(VLOOKUP(B10,'Pivot Table X'!$A$2:$C$30,2,false),0) -> 0 | D10: =IFNA(VLOOKUP(B10,'Pivot Table X'!$A$2:$C$30,3,false),0) -> 0 | E10: =IFNA(VLOOKUP(B10,'Pivot Table Y'!$A$2:$C$30,2,false),0) -> 0 | F10: =IFNA(VLOOKUP(B10,'Pivot Table Y'!$A$2:$C$30,3,false),0) -> 0 | G10: =IFNA(VLOOKUP(B10,'Pivot Table Z'!$A$2:$C$30,2,false),0) -> 0 | H10: =IFNA(VLOOKUP(B10,'Pivot Table Z'!$A$2:$C$30,3,false),0) -> 0 | I10: =VLOOKUP(B10,'Pivot Table A'!$A$2:$C$30,2,false) -> 64 | J10: =VLOOKUP(B10,'Pivot Table A'!$A$2:$C$30,3,false) -> 64 | K10: =IFNA(VLOOKUP(B10,'Pivot Table B'!$A$2:$C$30,2,false),0) -> 2 | L10: =IFNA(VLOOKUP(B10,'Pivot Table B'!$A$2:$C$30,3,false),0) -> 2 | M10: =IFNA(VLOOKUP(B10,'Pivot Table C'!$A$2:$C$30,2,false),0) -> 0 | N10: =IFNA(VLOOKUP(B10,'Pivot Table C'!$A$2:$C$30,3,false),0) -> 0 | O10: =IFNA(VLOOKUP(B10,'Pivot Table D'!$A$2:$C$30,2,false),0) -> 7 | P10: =IFNA(VLOOKUP(B10,'Pivot Table D'!$A$2:$C$30,3,false),0) -> 7 | Q10: =IFERROR(100*(D10+F10+H10)/(C10+E10+G10),100) -> 100
B11: =Data!A6 -> 9420-KEEROM | C11: =IFNA(VLOOKUP(B11,'Pivot Table X'!$A$2:$C$30,2,false),0) -> 2 | D11: =IFNA(VLOOKUP(B11,'Pivot Table X'!$A$2:$C$30,3,false),0) -> 2 | E11: =IFNA(VLOOKUP(B11,'Pivot Table Y'!$A$2:$C$30,2,false),0) -> 0 | F11: =IFNA(VLOOKUP(B11,'Pivot Table Y'!$A$2:$C$30,3,false),0) -> 0 | G11: =IFNA(VLOOKUP(B11,'Pivot Table Z'!$A$2:$C$30,2,false),0) -> 0 | H11: =IFNA(VLOOKUP(B11,'Pivot Table Z'!$A$2:$C$30,3,false),0) -> 0 | I11: =VLOOKUP(B11,'Pivot Table A'!$A$2:$C$30,2,false) -> 88 | J11: =VLOOKUP(B11,'Pivot Table A'!$A$2:$C$30,3,false) -> 88 | K11: =IFNA(VLOOKUP(B11,'Pivot Table B'!$A$2:$C$30,2,false),0) -> 21 | L11: =IFNA(VLOOKUP(B11,'Pivot Table B'!$A$2:$C$30,3,false),0) -> 21 | M11: =IFNA(VLOOKUP(B11,'Pivot Table C'!$A$2:$C$30,2,false),0) -> 0 | N11: =IFNA(VLOOKUP(B11,'Pivot Table C'!$A$2:$C$30,3,false),0) -> 0 | O11: =IFNA(VLOOKUP(B11,'Pivot Table D'!$A$2:$C$30,2,false),0) -> 8 | P11: =IFNA(VLOOKUP(B11,'Pivot Table D'!$A$2:$C$30,3,false),0) -> 8 | Q11: =IFERROR(100*(D11+F11+H11)/(C11+E11+G11),100) -> 100
B12: =Data!A7 -> 9426-WAROPEN | C12: =IFNA(VLOOKUP(B12,'Pivot Table X'!$A$2:$C$30,2,false),0) -> 0 | D12: =IFNA(VLOOKUP(B12,'Pivot Table X'!$A$2:$C$30,3,false),0) -> 0 | E12: =IFNA(VLOOKUP(B12,'Pivot Table Y'!$A$2:$C$30,2,false),0) -> 0 | F12: =IFNA(VLOOKUP(B12,'Pivot Table Y'!$A$2:$C$30,3,false),0) -> 0 | G12: =IFNA(VLOOKUP(B12,'Pivot Table Z'!$A$2:$C$30,2,false),0) -> 2 | H12: =IFNA(VLOOKUP(B12,'Pivot Table Z'!$A$2:$C$30,3,false),0) -> 2 | I12: =VLOOKUP(B12,'Pivot Table A'!$A$2:$C$30,2,false) -> 132 | J12: =VLOOKUP(B12,'Pivot Table A'!$A$2:$C$30,3,false) -> 132 | K12: =IFNA(VLOOKUP(B12,'Pivot Table B'!$A$2:$C$30,2,false),0) -> 17 | L12: =IFNA(VLOOKUP(B12,'Pivot Table B'!$A$2:$C$30,3,false),0) -> 17 | M12: =IFNA(VLOOKUP(B12,'Pivot Table C'!$A$2:$C$30,2,false),0) -> 1 | N12: =IFNA(VLOOKUP(B12,'Pivot Table C'!$A$2:$C$30,3,false),0) -> 1 | O12: =IFNA(VLOOKUP(B12,'Pivot Table D'!$A$2:$C$30,2,false),0) -> 17 | P12: =IFNA(VLOOKUP(B12,'Pivot Table D'!$A$2:$C$30,3,false),0) -> 17 | Q12: =IFERROR(100*(D12+F12+H12)/(C12+E12+G12),100) -> 100
B13: =Data!A8 -> 9427-SUPIORI | C13: =IFNA(VLOOKUP(B13,'Pivot Table X'!$A$2:$C$30,2,false),0) -> 0 | D13: =IFNA(VLOOKUP(B13,'Pivot Table X'!$A$2:$C$30,3,false),0) -> 0 | E13: =IFNA(VLOOKUP(B13,'Pivot Table Y'!$A$2:$C$30,2,false),0) -> 0 | F13: =IFNA(VLOOKUP(B13,'Pivot Table Y'!$A$2:$C$30,3,false),0) -> 0 | G13: =IFNA(VLOOKUP(B13,'Pivot Table Z'!$A$2:$C$30,2,false),0) -> 0 | H13: =IFNA(VLOOKUP(B13,'Pivot Table Z'!$A$2:$C$30,3,false),0) -> 0 | I13: =VLOOKUP(B13,'Pivot Table A'!$A$2:$C$30,2,false) -> 16 | J13: =VLOOKUP(B13,'Pivot Table A'!$A$2:$C$30,3,false) -> 16 | K13: =IFNA(VLOOKUP(B13,'Pivot Table B'!$A$2:$C$30,2,false),0) -> 3 | L13: =IFNA(VLOOKUP(B13,'Pivot Table B'!$A$2:$C$30,3,false),0) -> 3 | M13: =IFNA(VLOOKUP(B13,'Pivot Table C'!$A$2:$C$30,2,false),0) -> 0 | N13: =IFNA(VLOOKUP(B13,'Pivot Table C'!$A$2:$C$30,3,false),0) -> 0 | O13: =IFNA(VLOOKUP(B13,'Pivot Table D'!$A$2:$C$30,2,false),0) -> 4 | P13: =IFNA(VLOOKUP(B13,'Pivot Table D'!$A$2:$C$30,3,false),0) -> 4 | Q13: =IFERROR(100*(D13+F13+H13)/(C13+E13+G13),100) -> 100
B14: =Data!A9 -> 9428-MAMBERAMO RAYA | C14: =IFNA(VLOOKUP(B14,'Pivot Table X'!$A$2:$C$30,2,false),0) -> 0 | D14: =IFNA(VLOOKUP(B14,'Pivot Table X'!$A$2:$C$30,3,false),0) -> 0 | E14: =IFNA(VLOOKUP(B14,'Pivot Table Y'!$A$2:$C$30,2,false),0) -> 0 | F14: =IFNA(VLOOKUP(B14,'Pivot Table Y'!$A$2:$C$30,3,false),0) -> 0 | G14: =IFNA(VLOOKUP(B14,'Pivot Table Z'!$A$2:$C$30,2,false),0) -> 0 | H14: =IFNA(VLOOKUP(B14,'Pivot Table Z'!$A$2:$C$30,3,false),0) -> 0 | I14: =VLOOKUP(B14,'Pivot Table A'!$A$2:$C$30,2,false) -> 75 | J14: =VLOOKUP(B14,'Pivot Table A'!$A$2:$C$30,3,false) -> 75 | K14: =IFNA(VLOOKUP(B14,'Pivot Table B'!$A$2:$C$30,2,false),0) -> 15 | L14: =IFNA(VLOOKUP(B14,'Pivot Table B'!$A$2:$C$30,3,false),0) -> 15 | M14: =IFNA(VLOOKUP(B14,'Pivot Table C'!$A$2:$C$30,2,false),0) -> 0 | N14: =IFNA(VLOOKUP(B14,'Pivot Table C'!$A$2:$C$30,3,false),0) -> 0 | O14: =IFNA(VLOOKUP(B14,'Pivot Table D'!$A$2:$C$30,2,false),0) -> 6 | P14: =IFNA(VLOOKUP(B14,'Pivot Table D'!$A$2:$C$30,3,false),0) -> 6 | Q14: =IFERROR(100*(D14+F14+H14)/(C14+E14+G14),100) -> 100
B15: =Data!A10 -> 9471-JAYAPURA | C15: =IFNA(VLOOKUP(B15,'Pivot Table X'!$A$2:$C$30,2,false),0) -> 0 | D15: =IFNA(VLOOKUP(B15,'Pivot Table X'!$A$2:$C$30,3,false),0) -> 0 | E15: =IFNA(VLOOKUP(B15,'Pivot Table Y'!$A$2:$C$30,2,false),0) -> 0 | F15: =IFNA(VLOOKUP(B15,'Pivot Table Y'!$A$2:$C$30,3,false),0) -> 0 | G15: =IFNA(VLOOKUP(B15,'Pivot Table Z'!$A$2:$C$30,2,false),0) -> 3 | H15: =IFNA(VLOOKUP(B15,'Pivot Table Z'!$A$2:$C$30,3,false),0) -> 3 | I15: =VLOOKUP(B15,'Pivot Table A'!$A$2:$C$30,2,false) -> 20 | J15: =VLOOKUP(B15,'Pivot Table A'!$A$2:$C$30,3,false) -> 20 | K15: =IFNA(VLOOKUP(B15,'Pivot Table B'!$A$2:$C$30,2,false),0) -> 2 | L15: =IFNA(VLOOKUP(B15,'Pivot Table B'!$A$2:$C$30,3,false),0) -> 2 | M15: =IFNA(VLOOKUP(B15,'Pivot Table C'!$A$2:$C$30,2,false),0) -> 0 | N15: =IFNA(VLOOKUP(B15,'Pivot Table C'!$A$2:$C$30,3,false),0) -> 0 | O15: =IFNA(VLOOKUP(B15,'Pivot Table D'!$A$2:$C$30,2,false),0) -> 10 | P15: =IFNA(VLOOKUP(B15,'Pivot Table D'!$A$2:$C$30,3,false),0) -> 10 | Q15: =IFERROR(100*(D15+F15+H15)/(C15+E15+G15),100) -> 100
B16: PAPUA | C16: =SUM(C7:C15) -> 2 | D16: =SUM(D7:D15) -> 2 | E16: =SUM(E7:E15) -> 0 | F16: =SUM(F7:F15) -> 0 | G16: =SUM(G7:G15) -> 9 | H16: =SUM(H7:H15) -> 9 | I16: =SUM(I7:I15) -> 737 | J16: =SUM(J7:J15) -> 737 | ... P16: =SUM(P7:P15) -> 102 | Q16: =IFERROR(100*(D16+F16+H16)/(C16+E16+G16),100) -> 100
B17: =Data!A11 -> 9501-MERAUKE | C17: =IFNA(VLOOKUP(B17,'Pivot Table X'!$A$2:$C$30,2,false),0) -> 0 | D17: =IFNA(VLOOKUP(B17,'Pivot Table X'!$A$2:$C$30,3,false),0) -> 0 | E17: =IFNA(VLOOKUP(B17,'Pivot Table Y'!$A$2:$C$30,2,false),0) -> 1 | F17: =IFNA(VLOOKUP(B17,'Pivot Table Y'!$A$2:$C$30,3,false),0) -> 1 | G17: =IFNA(VLOOKUP(B17,'Pivot Table Z'!$A$2:$C$30,2,false),0) -> 3 | H17: =IFNA(VLOOKUP(B17,'Pivot Table Z'!$A$2:$C$30,3,false),0) -> 3 | I17: =VLOOKUP(B17,'Pivot Table A'!$A$2:$C$30,2,false) -> 287 | J17: =VLOOKUP(B17,'Pivot Table A'!$A$2:$C$30,3,false) -> 287 | K17: =IFNA(VLOOKUP(B17,'Pivot Table B'!$A$2:$C$30,2,false),0) -> 9 | L17: =IFNA(VLOOKUP(B17,'Pivot Table B'!$A$2:$C$30,3,false),0) -> 9 | M17: =IFNA(VLOOKUP(B17,'Pivot Table C'!$A$2:$C$30,2,false),0) -> 1 | N17: =IFNA(VLOOKUP(B17,'Pivot Table C'!$A$2:$C$30,3,false),0) -> 1 | O17: =IFNA(VLOOKUP(B17,'Pivot Table D'!$A$2:$C$30,2,false),0) -> 36 | P17: =IFNA(VLOOKUP(B17,'Pivot Table D'!$A$2:$C$30,3,false),0) -> 36 | Q17: =IFERROR(100*(D17+F17+H17)/(C17+E17+G17),100) -> 100
B18: =Data!A12 -> 9502-BOVEN DIGOEL | C18: =IFNA(VLOOKUP(B18,'Pivot Table X'!$A$2:$C$30,2,false),0) -> 0 | D18: =IFNA(VLOOKUP(B18,'Pivot Table X'!$A$2:$C$30,3,false),0) -> 0 | E18: =IFNA(VLOOKUP(B18,'Pivot Table Y'!$A$2:$C$30,2,false),0) -> 0 | F18: =IFNA(VLOOKUP(B18,'Pivot Table Y'!$A$2:$C$30,3,false),0) -> 0 | G18: =IFNA(VLOOKUP(B18,'Pivot Table Z'!$A$2:$C$30,2,false),0) -> 0 | H18: =IFNA(VLOOKUP(B18,'Pivot Table Z'!$A$2:$C$30,3,false),0) -> 0 | I18: =VLOOKUP(B18,'Pivot Table A'!$A$2:$C$30,2,false) -> 163 | J18: =VLOOKUP(B18,'Pivot Table A'!$A$2:$C$30,3,false) -> 163 | K18: =IFNA(VLOOKUP(B18,'Pivot Table B'!$A$2:$C$30,2,false),0) -> 7 | L18: =IFNA(VLOOKUP(B18,'Pivot Table B'!$A$2:$C$30,3,false),0) -> 7 | M18: =IFNA(VLOOKUP(B18,'Pivot Table C'!$A$2:$C$30,2,false),0) -> 0 | N18: =IFNA(VLOOKUP(B18,'Pivot Table C'!$A$2:$C$30,3,false),0) -> 0 | O18: =IFNA(VLOOKUP(B18,'Pivot Table D'!$A$2:$C$30,2,false),0) -> 12 | P18: =IFNA(VLOOKUP(B18,'Pivot Table D'!$A$2:$C$30,3,false),0) -> 12 | Q18: =IFERROR(100*(D18+F18+H18)/(C18+E18+G18),100) -> 100
B19: =Data!A13 -> 9503-MAPPI | C19: =IFNA(VLOOKUP(B19,'Pivot Table X'!$A$2:$C$30,2,false),0) -> 0 | D19: =IFNA(VLOOKUP(B19,'Pivot Table X'!$A$2:$C$30,3,false),0) -> 0 | E19: =IFNA(VLOOKUP(B19,'Pivot Table Y'!$A$2:$C$30,2,false),0) -> 0 | F19: =IFNA(VLOOKUP(B19,'Pivot Table Y'!$A$2:$C$30,3,false),0) -> 0 | G19: =IFNA(VLOOKUP(B19,'Pivot Table Z'!$A$2:$C$30,2,false),0) -> 0 | H19: =IFNA(VLOOKUP(B19,'Pivot Table Z'!$A$2:$C$30,3,false),0) -> 0 | I19: =VLOOKUP(B19,'Pivot Table A'!$A$2:$C$30,2,false) -> 148 | J19: =VLOOKUP(B19,'Pivot Table A'!$A$2:$C$30,3,false) -> 148 | K19: =IFNA(VLOOKUP(B19,'Pivot Table B'!$A$2:$C$30,2,false),0) -> 6 | L19: =IFNA(VLOOKUP(B19,'Pivot Table B'!$A$2:$C$30,3,false),0) -> 6 | M19: =IFNA(VLOOKUP(B19,'Pivot Table C'!$A$2:$C$30,2,false),0) -> 1 | N19: =IFNA(VLOOKUP(B19,'Pivot Table C'!$A$2:$C$30,3,false),0) -> 1 | O19: =IFNA(VLOOKUP(B19,'Pivot Table D'!$A$2:$C$30,2,false),0) -> 5 | P19: =IFNA(VLOOKUP(B19,'Pivot Table D'!$A$2:$C$30,3,false),0) -> 5 | Q19: =IFERROR(100*(D19+F19+H19)/(C19+E19+G19),100) -> 100
B20: =Data!A14 -> 9504-ASMAT | C20: =IFNA(VLOOKUP(B20,'Pivot Table X'!$A$2:$C$30,2,false),0) -> 3 | D20: =IFNA(VLOOKUP(B20,'Pivot Table X'!$A$2:$C$30,3,false),0) -> 3 | E20: =IFNA(VLOOKUP(B20,'Pivot Table Y'!$A$2:$C$30,2,false),0) -> 0 | F20: =IFNA(VLOOKUP(B20,'Pivot Table Y'!$A$2:$C$30,3,false),0) -> 0 | G20: =IFNA(VLOOKUP(B20,'Pivot Table Z'!$A$2:$C$30,2,false),0) -> 0 | H20: =IFNA(VLOOKUP(B20,'Pivot Table Z'!$A$2:$C$30,3,false),0) -> 0 | I20: =VLOOKUP(B20,'Pivot Table A'!$A$2:$C$30,2,false) -> 434 | J20: =VLOOKUP(B20,'Pivot Table A'!$A$2:$C$30,3,false) -> 434 | K20: =IFNA(VLOOKUP(B20,'Pivot Table B'!$A$2:$C$30,2,false),0) -> 41 | L20: =IFNA(VLOOKUP(B20,'Pivot Table B'!$A$2:$C$30,3,false),0) -> 41 | M20: =IFNA(VLOOKUP(B20,'Pivot Table C'!$A$2:$C$30,2,false),0) -> 0 | N20: =IFNA(VLOOKUP(B20,'Pivot Table C'!$A$2:$C$30,3,false),0) -> 0 | O20: =IFNA(VLOOKUP(B20,'Pivot Table D'!$A$2:$C$30,2,false),0) -> 14 | P20: =IFNA(VLOOKUP(B20,'Pivot Table D'!$A$2:$C$30,3,false),0) -> 14 | Q20: =IFERROR(100*(D20+F20+H20)/(C20+E20+G20),100) -> 100
B21: PAPUA SELATAN | C21: =SUM(C17:C20) -> 3 | D21: =SUM(D17:D20) -> 3 | E21: =SUM(E17:E20) -> 1 | F21: =SUM(F17:F20) -> 1 | G21: =SUM(G17:G20) -> 3 | H21: =SUM(H17:H20) -> 3 | I21: =SUM(I17:I20) -> 1032 | J21: =SUM(J17:J20) -> 1032 | ... P21: =SUM(P17:P20) -> 67 | Q21: =IFERROR(100*(D21+F21+H21)/(C21+E21+G21),100) -> 100
B22: =Data!A15 -> 9601-MIMIKA | C22: =IFNA(VLOOKUP(B22,'Pivot Table X'!$A$2:$C$30,2,false),0) -> 1 | D22: =IFNA(VLOOKUP(B22,'Pivot Table X'!$A$2:$C$30,3,false),0) -> 1 | E22: =IFNA(VLOOKUP(B22,'Pivot Table Y'!$A$2:$C$30,2,false),0) -> 0 | F22: =IFNA(VLOOKUP(B22,'Pivot Table Y'!$A$2:$C$30,3,false),0) -> 0 | G22: =IFNA(VLOOKUP(B22,'Pivot Table Z'!$A$2:$C$30,2,false),0) -> 0 | H22: =IFNA(VLOOKUP(B22,'Pivot Table Z'!$A$2:$C$30,3,false),0) -> 0 | I22: =VLOOKUP(B22,'Pivot Table A'!$A$2:$C$30,2,false) -> 156 | J22: =VLOOKUP(B22,'Pivot Table A'!$A$2:$C$30,3,false) -> 156 | K22: =IFNA(VLOOKUP(B22,'Pivot Table B'!$A$2:$C$30,2,false),0) -> 6 | L22: =IFNA(VLOOKUP(B22,'Pivot Table B'!$A$2:$C$30,3,false),0) -> 6 | M22: =IFNA(VLOOKUP(B22,'Pivot Table C'!$A$2:$C$30,2,false),0) -> 1 | N22: =IFNA(VLOOKUP(B22,'Pivot Table C'!$A$2:$C$30,3,false),0) -> 1 | O22: =IFNA(VLOOKUP(B22,'Pivot Table D'!$A$2:$C$30,2,false),0) -> 39 | P22: =IFNA(VLOOKUP(B22,'Pivot Table D'!$A$2:$C$30,3,false),0) -> 39 | Q22: =IFERROR(100*(D22+F22+H22)/(C22+E22+G22),100) -> 100
B23: =Data!A16 -> 9602-DOGIYAI | C23: =IFNA(VLOOKUP(B23,'Pivot Table X'!$A$2:$C$30,2,false),0) -> 6 | D23: =IFNA(VLOOKUP(B23,'Pivot Table X'!$A$2:$C$30,3,false),0) -> 6 | E23: =IFNA(VLOOKUP(B23,'Pivot Table Y'!$A$2:$C$30,2,false),0) -> 0 | F23: =IFNA(VLOOKUP(B23,'Pivot Table Y'!$A$2:$C$30,3,false),0) -> 0 | G23: =IFNA(VLOOKUP(B23,'Pivot Table Z'!$A$2:$C$30,2,false),0) -> 0 | H23: =IFNA(VLOOKUP(B23,'Pivot Table Z'!$A$2:$C$30,3,false),0) -> 0 | I23: =VLOOKUP(B23,'Pivot Table A'!$A$2:$C$30,2,false) -> 2 | J23: =VLOOKUP(B23,'Pivot Table A'!$A$2:$C$30,3,false) -> 2 | K23: =IFNA(VLOOKUP(B23,'Pivot Table B'!$A$2:$C$30,2,false),0) -> 6 | L23: =IFNA(VLOOKUP(B23,'Pivot Table B'!$A$2:$C$30,3,false),0) -> 6 | M23: =IFNA(VLOOKUP(B23,'Pivot Table C'!$A$2:$C$30,2,false),0) -> 0 | N23: =IFNA(VLOOKUP(B23,'Pivot Table C'!$A$2:$C$30,3,false),0) -> 0 | O23: =IFNA(VLOOKUP(B23,'Pivot Table D'!$A$2:$C$30,2,false),0) -> 5 | P23: =IFNA(VLOOKUP(B23,'Pivot Table D'!$A$2:$C$30,3,false),0) -> 5 | Q23: =IFERROR(100*(D23+F23+H23)/(C23+E23+G23),100) -> 100
B24: =Data!A17 -> 9603-DEIYAI | C24: =IFNA(VLOOKUP(B24,'Pivot Table X'!$A$2:$C$30,2,false),0) -> 0 | D24: =IFNA(VLOOKUP(B24,'Pivot Table X'!$A$2:$C$30,3,false),0) -> 0 | E24: =IFNA(VLOOKUP(B24,'Pivot Table Y'!$A$2:$C$30,2,false),0) -> 0 | F24: =IFNA(VLOOKUP(B24,'Pivot Table Y'!$A$2:$C$30,3,false),0) -> 0 | G24: =IFNA(VLOOKUP(B24,'Pivot Table Z'!$A$2:$C$30,2,false),0) -> 0 | H24: =IFNA(VLOOKUP(B24,'Pivot Table Z'!$A$2:$C$30,3,false),0) -> 0 | I24: =VLOOKUP(B24,'Pivot Table A'!$A$2:$C$30,2,false) -> 19 | J24: =VLOOKUP(B24,'Pivot Table A'!$A$2:$C$30,3,false) -> 19 | K24: =IFNA(VLOOKUP(B24,'Pivot Table B'!$A$2:$C$30,2,false),0) -> 4 | L24: =IFNA(VLOOKUP(B24,'Pivot Table B'!$A$2:$C$30,3,false),0) -> 4 | M24: =IFNA(VLOOKUP(B24,'Pivot Table C'!$A$2:$C$30,2,false),0) -> 0 | N24: =IFNA(VLOOKUP(B24,'Pivot Table C'!$A$2:$C$30,3,false),0) -> 0 | O24: =IFNA(VLOOKUP(B24,'Pivot Table D'!$A$2:$C$30,2,false),0) -> 2 | P24: =IFNA(VLOOKUP(B24,'Pivot Table D'!$A$2:$C$30,3,false),0) -> 2 | Q24: =IFERROR(100*(D24+F24+H24)/(C24+E24+G24),100) -> 100
B25: =Data!A18 -> 9604-NABIRE | C25: =IFNA(VLOOKUP(B25,'Pivot Table X'!$A$2:$C$30,2,false),0) -> 1 | D25: =IFNA(VLOOKUP(B25,'Pivot Table X'!$A$2:$C$30,3,false),0) -> 1 | E25: =IFNA(VLOOKUP(B25,'Pivot Table Y'!$A$2:$C$30,2,false),0) -> 0 | F25: =IFNA(VLOOKUP(B25,'Pivot Table Y'!$A$2:$C$30,3,false),0) -> 0 | G25: =IFNA(VLOOKUP(B25,'Pivot Table Z'!$A$2:$C$30,2,false),0) -> 0 | H25: =IFNA(VLOOKUP(B25,'Pivot Table Z'!$A$2:$C$30,3,false),0) -> 0 | I25: =VLOOKUP(B25,'Pivot Table A'!$A$2:$C$30,2,false) -> 63 | J25: =VLOOKUP(B25,'Pivot Table A'!$A$2:$C$30,3,false) -> 63 | K25: =IFNA(VLOOKUP(B25,'Pivot Table B'!$A$2:$C$30,2,false),0) -> 10 | L25: =IFNA(VLOOKUP(B25,'Pivot Table B'!$A$2:$C$30,3,false),0) -> 10 | M25: =IFNA(VLOOKUP(B25,'Pivot Table C'!$A$2:$C$30,2,false),0) -> 0 | N25: =IFNA(VLOOKUP(B25,'Pivot Table C'!$A$2:$C$30,3,false),0) -> 0 | O25: =IFNA(VLOOKUP(B25,'Pivot Table D'!$A$2:$C$30,2,false),0) -> 1 | P25: =IFNA(VLOOKUP(B25,'Pivot Table D'!$A$2:$C$30,3,false),0) -> 1 | Q25: =IFERROR(100*(D25+F25+H25)/(C25+E25+G25),100) -> 100
B26: =Data!A19 -> 9605-PANIAI | C26: =IFNA(VLOOKUP(B26,'Pivot Table X'!$A$2:$C$30,2,false),0) -> 1 | D26: =IFNA(VLOOKUP(B26,'Pivot Table X'!$A$2:$C$30,3,false),0) -> 1 | E26: =IFNA(VLOOKUP(B26,'Pivot Table Y'!$A$2:$C$30,2,false),0) -> 0 | F26: =IFNA(VLOOKUP(B26,'Pivot Table Y'!$A$2:$C$30,3,false),0) -> 0 | G26: =IFNA(VLOOKUP(B26,'Pivot Table Z'!$A$2:$C$30,2,false),0) -> 0 | H26: =IFNA(VLOOKUP(B26,'Pivot Table Z'!$A$2:$C$30,3,false),0) -> 0 | I26: =VLOOKUP(B26,'Pivot Table A'!$A$2:$C$30,2,false) -> 90 | J26: =VLOOKUP(B26,'Pivot Table A'!$A$2:$C$30,3,false) -> 90 | K26: =IFNA(VLOOKUP(B26,'Pivot Table B'!$A$2:$C$30,2,false),0) -> 30 | L26: =IFNA(VLOOKUP(B26,'Pivot Table B'!$A$2:$C$30,3,false),0) -> 30 | M26: =IFNA(VLOOKUP(B26,'Pivot Table C'!$A$2:$C$30,2,false),0) -> 3 | N26: =IFNA(VLOOKUP(B26,'Pivot Table C'!$A$2:$C$30,3,false),0) -> 3 | O26: =IFNA(VLOOKUP(B26,'Pivot Table D'!$A$2:$C$30,2,false),0) -> 11 | P26: =IFNA(VLOOKUP(B26,'Pivot Table D'!$A$2:$C$30,3,false),0) -> 11 | Q26: =IFERROR(100*(D26+F26+H26)/(C26+E26+G26),100) -> 100
B27: =Data!A20 -> 9606-INTAN JAYA | C27: =IFNA(VLOOKUP(B27,'Pivot Table X'!$A$2:$C$30,2,false),0) -> 0 | D27: =IFNA(VLOOKUP(B27,'Pivot Table X'!$A$2:$C$30,3,false),0) -> 0 | E27: =IFNA(VLOOKUP(B27,'Pivot Table Y'!$A$2:$C$30,2,false),0) -> 0 | F27: =IFNA(VLOOKUP(B27,'Pivot Table Y'!$A$2:$C$30,3,false),0) -> 0 | G27: =IFNA(VLOOKUP(B27,'Pivot Table Z'!$A$2:$C$30,2,false),0) -> 0 | H27: =IFNA(VLOOKUP(B27,'Pivot Table Z'!$A$2:$C$30,3,false),0) -> 0 | I27: =VLOOKUP(B27,'Pivot Table A'!$A$2:$C$30,2,false) -> 17 | J27: =VLOOKUP(B27,'Pivot Table A'!$A$2:$C$30,3,false) -> 17 | K27: =IFNA(VLOOKUP(B27,'Pivot Table B'!$A$2:$C$30,2,false),0) -> 21 | L27: =IFNA(VLOOKUP(B27,'Pivot Table B'!$A$2:$C$30,3,false),0) -> 21 | M27: =IFNA(VLOOKUP(B27,'Pivot Table C'!$A$2:$C$30,2,false),0) -> 2 | N27: =IFNA(VLOOKUP(B27,'Pivot Table C'!$A$2:$C$30,3,false),0) -> 2 | O27: =IFNA(VLOOKUP(B27,'Pivot Table D'!$A$2:$C$30,2,false),0) -> 2 | P27: =IFNA(VLOOKUP(B27,'Pivot Table D'!$A$2:$C$30,3,false),0) -> 2 | Q27: =IFERROR(100*(D27+F27+H27)/(C27+E27+G27),100) -> 100
B28: =Data!A21 -> 9607-PUNCAK | C28: =IFNA(VLOOKUP(B28,'Pivot Table X'!$A$2:$C$30,2,false),0) -> 0 | D28: =IFNA(VLOOKUP(B28,'Pivot Table X'!$A$2:$C$30,3,false),0) -> 0 | E28: =IFNA(VLOOKUP(B28,'Pivot Table Y'!$A$2:$C$30,2,false),0) -> 0 | F28: =IFNA(VLOOKUP(B28,'Pivot Table Y'!$A$2:$C$30,3,false),0) -> 0 | G28: =IFNA(VLOOKUP(B28,'Pivot Table Z'!$A$2:$C$30,2,false),0) -> 2 | H28: =IFNA(VLOOKUP(B28,'Pivot Table Z'!$A$2:$C$30,3,false),0) -> 2 | I28: =VLOOKUP(B28,'Pivot Table A'!$A$2:$C$30,2,false) -> 232 | J28: =VLOOKUP(B28,'Pivot Table A'!$A$2:$C$30,3,false) -> 232 | K28: =IFNA(VLOOKUP(B28,'Pivot Table B'!$A$2:$C$30,2,false),0) -> 45 | L28: =IFNA(VLOOKUP(B28,'Pivot Table B'!$A$2:$C$30,3,false),0) -> 45 | M28: =IFNA(VLOOKUP(B28,'Pivot Table C'!$A$2:$C$30,2,false),0) -> 2 | N28: =IFNA(VLOOKUP(B28,'Pivot Table C'!$A$2:$C$30,3,false),0) -> 2 | O28: =IFNA(VLOOKUP(B28,'Pivot Table D'!$A$2:$C$30,2,false),0) -> 4 | P28: =IFNA(VLOOKUP(B28,'Pivot Table D'!$A$2:$C$30,3,false),0) -> 4 | Q28: =IFERROR(100*(D28+F28+H28)/(C28+E28+G28),100) -> 100
B29: =Data!A22 -> 9608-PUNCAK JAYA | C29: =IFNA(VLOOKUP(B29,'Pivot Table X'!$A$2:$C$30,2,false),0) -> 0 | D29: =IFNA(VLOOKUP(B29,'Pivot Table X'!$A$2:$C$30,3,false),0) -> 0 | E29: =IFNA(VLOOKUP(B29,'Pivot Table Y'!$A$2:$C$30,2,false),0) -> 0 | F29: =IFNA(VLOOKUP(B29,'Pivot Table Y'!$A$2:$C$30,3,false),0) -> 0 | G29: =IFNA(VLOOKUP(B29,'Pivot Table Z'!$A$2:$C$30,2,false),0) -> 63 | H29: =IFNA(VLOOKUP(B29,'Pivot Table Z'!$A$2:$C$30,3,false),0) -> 63 | I29: =VLOOKUP(B29,'Pivot Table A'!$A$2:$C$30,2,false) -> 193 | J29: =VLOOKUP(B29,'Pivot Table A'!$A$2:$C$30,3,false) -> 193 | K29: =IFNA(VLOOKUP(B29,'Pivot Table B'!$A$2:$C$30,2,false),0) -> 102 | L29: =IFNA(VLOOKUP(B29,'Pivot Table B'!$A$2:$C$30,3,false),0) -> 102 | M29: =IFNA(VLOOKUP(B29,'Pivot Table C'!$A$2:$C$30,2,false),0) -> 0 | N29: =IFNA(VLOOKUP(B29,'Pivot Table C'!$A$2:$C$30,3,false),0) -> 0 | O29: =IFNA(VLOOKUP(B29,'Pivot Table D'!$A$2:$C$30,2,false),0) -> 11 | P29: =IFNA(VLOOKUP(B29,'Pivot Table D'!$A$2:$C$30,3,false),0) -> 11 | Q29: =IFERROR(100*(D29+F29+H29)/(C29+E29+G29),100) -> 100
B30: PAPUA TENGAH | C30: =SUM(C22:C29) -> 9 | D30: =SUM(D22:D29) -> 9 | E30: =SUM(E22:E29) -> 0 | F30: =SUM(F22:F29) -> 0 | G30: =SUM(G22:G29) -> 65 | H30: =SUM(H22:H29) -> 65 | I30: =SUM(I22:I29) -> 772 | J30: =SUM(J22:J29) -> 772 | ... P30: =SUM(P22:P29) -> 75 | Q30: =IFERROR(100*(D30+F30+H30)/(C30+E30+G30),100) -> 100
B31: =Data!A23 -> 9701-NDUGA | C31: =IFNA(VLOOKUP(B31,'Pivot Table X'!$A$2:$C$30,2,false),0) -> 0 | D31: =IFNA(VLOOKUP(B31,'Pivot Table X'!$A$2:$C$30,3,false),0) -> 0 | E31: =IFNA(VLOOKUP(B31,'Pivot Table Y'!$A$2:$C$30,2,false),0) -> 0 | F31: =IFNA(VLOOKUP(B31,'Pivot Table Y'!$A$2:$C$30,3,false),0) -> 0 | G31: =IFNA(VLOOKUP(B31,'Pivot Table Z'!$A$2:$C$30,2,false),0) -> 0 | H31: =IFNA(VLOOKUP(B31,'Pivot Table Z'!$A$2:$C$30,3,false),0) -> 0 | I31: =VLOOKUP(B31,'Pivot Table A'!$A$2:$C$30,2,false) -> 274 | J31: =VLOOKUP(B31,'Pivot Table A'!$A$2:$C$30,3,false) -> 274 | K31: =IFNA(VLOOKUP(B31,'Pivot Table B'!$A$2:$C$30,2,false),0) -> 28 | L31: =IFNA(VLOOKUP(B31,'Pivot Table B'!$A$2:$C$30,3,false),0) -> 28 | M31: =IFNA(VLOOKUP(B31,'Pivot Table C'!$A$2:$C$30,2,false),0) -> 1 | N31: =IFNA(VLOOKUP(B31,'Pivot Table C'!$A$2:$C$30,3,false),0) -> 1 | O31: =IFNA(VLOOKUP(B31,'Pivot Table D'!$A$2:$C$30,2,false),0) -> 9 | P31: =IFNA(VLOOKUP(B31,'Pivot Table D'!$A$2:$C$30,3,false),0) -> 9 | Q31: =IFERROR(100*(D31+F31+H31)/(C31+E31+G31),100) -> 100
B32: =Data!A24 -> 9702-JAYAWIJAYA | C32: =IFNA(VLOOKUP(B32,'Pivot Table X'!$A$2:$C$30,2,false),0) -> 0 | D32: =IFNA(VLOOKUP(B32,'Pivot Table X'!$A$2:$C$30,3,false),0) -> 0 | E32: =IFNA(VLOOKUP(B32,'Pivot Table Y'!$A$2:$C$30,2,false),0) -> 1 | F32: =IFNA(VLOOKUP(B32,'Pivot Table Y'!$A$2:$C$30,3,false),0) -> 1 | G32: =IFNA(VLOOKUP(B32,'Pivot Table Z'!$A$2:$C$30,2,false),0) -> 2 | H32: =IFNA(VLOOKUP(B32,'Pivot Table Z'!$A$2:$C$30,3,false),0) -> 2 | I32: =VLOOKUP(B32,'Pivot Table A'!$A$2:$C$30,2,false) -> 96 | J32: =VLOOKUP(B32,'Pivot Table A'!$A$2:$C$30,3,false) -> 96 | K32: =IFNA(VLOOKUP(B32,'Pivot Table B'!$A$2:$C$30,2,false),0) -> 66 | L32: =IFNA(VLOOKUP(B32,'Pivot Table B'!$A$2:$C$30,3,false),0) -> 66 | M32: =IFNA(VLOOKUP(B32,'Pivot Table C'!$A$2:$C$30,2,false),0) -> 8 | N32: =IFNA(VLOOKUP(B32,'Pivot Table C'!$A$2:$C$30,3,false),0) -> 8 | O32: =IFNA(VLOOKUP(B32,'Pivot Table D'!$A$2:$C$30,2,false),0) -> 38 | P32: =IFNA(VLOOKUP(B32,'Pivot Table D'!$A$2:$C$30,3,false),0) -> 38 | Q32: =IFERROR(100*(D32+F32+H32)/(C32+E32+G32),100) -> 100
B33: =Data!A25 -> 9703-LANNY JAYA | C33: =IFNA(VLOOKUP(B33,'Pivot Table X'!$A$2:$C$30,2,false),0) -> 0 | D33: =IFNA(VLOOKUP(B33,'Pivot Table X'!$A$2:$C$30,3,false),0) -> 0 | E33: =IFNA(VLOOKUP(B33,'Pivot Table Y'!$A$2:$C$30,2,false),0) -> 0 | F33: =IFNA(VLOOKUP(B33,'Pivot Table Y'!$A$2:$C$30,3,false),0) -> 0 | G33: =IFNA(VLOOKUP(B33,'Pivot Table Z'!$A$2:$C$30,2,false),0) -> 0 | H33: =IFNA(VLOOKUP(B33,'Pivot Table Z'!$A$2:$C$30,3,false),0) -> 0 | I33: =VLOOKUP(B33,'Pivot Table A'!$A$2:$C$30,2,false) -> 24 | J33: =VLOOKUP(B33,'Pivot Table A'!$A$2:$C$30,3,false) -> 24 | K33: =IFNA(VLOOKUP(B33,'Pivot Table B'!$A$2:$C$30,2,false),0) -> 24 | L33: =IFNA(VLOOKUP(B33,'Pivot Table B'!$A$2:$C$30,3,false),0) -> 24 | M33: =IFNA(VLOOKUP(B33,'Pivot Table C'!$A$2:$C$30,2,false),0) -> 0 | N33: =IFNA(VLOOKUP(B33,'Pivot Table C'!$A$2:$C$30,3,false),0) -> 0 | O33: =IFNA(VLOOKUP(B33,'Pivot Table D'!$A$2:$C$30,2,false),0) -> 23 | P33: =IFNA(VLOOKUP(B33,'Pivot Table D'!$A$2:$C$30,3,false),0) -> 23 | Q33: =IFERROR(100*(D33+F33+H33)/(C33+E33+G33),100) -> 100
B34: =Data!A26 -> 9704-TOLIKARA | C34: =IFNA(VLOOKUP(B34,'Pivot Table X'!$A$2:$C$30,2,false),0) -> 0 | D34: =IFNA(VLOOKUP(B34,'Pivot Table X'!$A$2:$C$30,3,false),0) -> 0 | E34: =IFNA(VLOOKUP(B34,'Pivot Table Y'!$A$2:$C$30,2,false),0) -> 0 | F34: =IFNA(VLOOKUP(B34,'Pivot Table Y'!$A$2:$C$30,3,false),0) -> 0 | G34: =IFNA(VLOOKUP(B34,'Pivot Table Z'!$A$2:$C$30,2,false),0) -> 0 | H34: =IFNA(VLOOKUP(B34,'Pivot Table Z'!$A$2:$C$30,3,false),0) -> 0 | I34: =VLOOKUP(B34,'Pivot Table A'!$A$2:$C$30,2,false) -> 131 | J34: =VLOOKUP(B34,'Pivot Table A'!$A$2:$C$30,3,false) -> 131 | K34: =IFNA(VLOOKUP(B34,'Pivot Table B'!$A$2:$C$30,2,false),0) -> 3 | L34: =IFNA(VLOOKUP(B34,'Pivot Table B'!$A$2:$C$30,3,false),0) -> 3 | M34: =IFNA(VLOOKUP(B34,'Pivot Table C'!$A$2:$C$30,2,false),0) -> 0 | N34: =IFNA(VLOOKUP(B34,'Pivot Table C'!$A$2:$C$30,3,false),0) -> 0 | O34: =IFNA(VLOOKUP(B34,'Pivot Table D'!$A$2:$C$30,2,false),0) -> 21 | P34: =IFNA(VLOOKUP(B34,'Pivot Table D'!$A$2:$C$30,3,false),0) -> 21 | Q34: =IFERROR(100*(D34+F34+H34)/(C34+E34+G34),100) -> 100
B35: =Data!A27 -> 9705-MAMBERAMO TENGAH | C35: =IFNA(VLOOKUP(B35,'Pivot Table X'!$A$2:$C$30,2,false),0) -> 0 | D35: =IFNA(VLOOKUP(B35,'Pivot Table X'!$A$2:$C$30,3,false),0) -> 0 | E35: =IFNA(VLOOKUP(B35,'Pivot Table Y'!$A$2:$C$30,2,false),0) -> 0 | F35: =IFNA(VLOOKUP(B35,'Pivot Table Y'!$A$2:$C$30,3,false),0) -> 0 | G35: =IFNA(VLOOKUP(B35,'Pivot Table Z'!$A$2:$C$30,2,false),0) -> 0 | H35: =IFNA(VLOOKUP(B35,'Pivot Table Z'!$A$2:$C$30,3,false),0) -> 0 | I35: =VLOOKUP(B35,'Pivot Table A'!$A$2:$C$30,2,false) -> 2 | J35: =VLOOKUP(B35,'Pivot Table A'!$A$2:$C$30,3,false) -> 2 | K35: =IFNA(VLOOKUP(B35,'Pivot Table B'!$A$2:$C$30,2,false),0) -> 34 | L35: =IFNA(VLOOKUP(B35,'Pivot Table B'!$A$2:$C$30,3,false),0) -> 34 | M35: =IFNA(VLOOKUP(B35,'Pivot Table C'!$A$2:$C$30,2,false),0) -> 0 | N35: =IFNA(VLOOKUP(B35,'Pivot Table C'!$A$2:$C$30,3,false),0) -> 0 | O35: =IFNA(VLOOKUP(B35,'Pivot Table D'!$A$2:$C$30,2,false),0) -> 11 | P35: =IFNA(VLOOKUP(B35,'Pivot Table D'!$A$2:$C$30,3,false),0) -> 11 | Q35: =IFERROR(100*(D35+F35+H35)/(C35+E35+G35),100) -> 100
B36: =Data!A28 -> 9706-YALIMO | C36: =IFNA(VLOOKUP(B36,'Pivot Table X'!$A$2:$C$30,2,false),0) -> 0 | D36: =IFNA(VLOOKUP(B36,'Pivot Table X'!$A$2:$C$30,3,false),0) -> 0 | E36: =IFNA(VLOOKUP(B36,'Pivot Table Y'!$A$2:$C$30,2,false),0) -> 0 | F36: =IFNA(VLOOKUP(B36,'Pivot Table Y'!$A$2:$C$30,3,false),0) -> 0 | G36: =IFNA(VLOOKUP(B36,'Pivot Table Z'!$A$2:$C$30,2,false),0) -> 1 | H36: =IFNA(VLOOKUP(B36,'Pivot Table Z'!$A$2:$C$30,3,false),0) -> 1 | I36: =VLOOKUP(B36,'Pivot Table A'!$A$2:$C$30,2,false) -> 35 | J36: =VLOOKUP(B36,'Pivot Table A'!$A$2:$C$30,3,false) -> 35 | K36: =IFNA(VLOOKUP(B36,'Pivot Table B'!$A$2:$C$30,2,false),0) -> 59 | L36: =IFNA(VLOOKUP(B36,'Pivot Table B'!$A$2:$C$30,3,false),0) -> 59 | M36: =IFNA(VLOOKUP(B36,'Pivot Table C'!$A$2:$C$30,2,false),0) -> 3 | N36: =IFNA(VLOOKUP(B36,'Pivot Table C'!$A$2:$C$30,3,false),0) -> 3 | O36: =IFNA(VLOOKUP(B36,'Pivot Table D'!$A$2:$C$30,2,false),0) -> 32 | P36: =IFNA(VLOOKUP(B36,'Pivot Table D'!$A$2:$C$30,3,false),0) -> 32 | Q36: =IFERROR(100*(D36+F36+H36)/(C36+E36+G36),100) -> 100
B37: =Data!A29 -> 9707-YAHUKIMO | C37: =IFNA(VLOOKUP(B37,'Pivot Table X'!$A$2:$C$30,2,false),0) -> 0 | D37: =IFNA(VLOOKUP(B37,'Pivot Table X'!$A$2:$C$30,3,false),0) -> 0 | E37: =IFNA(VLOOKUP(B37,'Pivot Table Y'!$A$2:$C$30,2,false),0) -> 0 | F37: =IFNA(VLOOKUP(B37,'Pivot Table Y'!$A$2:$C$30,3,false),0) -> 0 | G37: =IFNA(VLOOKUP(B37,'Pivot Table Z'!$A$2:$C$30,2,false),0) -> 0 | H37: =IFNA(VLOOKUP(B37,'Pivot Table Z'!$A$2:$C$30,3,false),0) -> 0 | I37: =VLOOKUP(B37,'Pivot Table A'!$A$2:$C$30,2,false) -> 246 | J37: =VLOOKUP(B37,'Pivot Table A'!$A$2:$C$30,3,false) -> 246 | K37: =IFNA(VLOOKUP(B37,'Pivot Table B'!$A$2:$C$30,2,false),0) -> 58 | L37: =IFNA(VLOOKUP(B37,'Pivot Table B'!$A$2:$C$30,3,false),0) -> 58 | M37: =IFNA(VLOOKUP(B37,'Pivot Table C'!$A$2:$C$30,2,false),0) -> 0 | N37: =IFNA(VLOOKUP(B37,'Pivot Table C'!$A$2:$C$30,3,false),0) -> 0 | O37: =IFNA(VLOOKUP(B37,'Pivot Table D'!$A$2:$C$30,2,false),0) -> 29 | P37: =IFNA(VLOOKUP(B37,'Pivot Table D'!$A$2:$C$30,3,false),0) -> 29 | Q37: =IFERROR(100*(D37+F37+H37)/(C37+E37+G37),100) -> 100
B38: =Data!A30 -> 9708-PEGUNUNGAN BINTANG | C38: =IFNA(VLOOKUP(B38,'Pivot Table X'!$A$2:$C$30,2,false),0) -> 0 | D38: =IFNA(VLOOKUP(B38,'Pivot Table X'!$A$2:$C$30,3,false),0) -> 0 | E38: =IFNA(VLOOKUP(B38,'Pivot Table Y'!$A$2:$C$30,2,false),0) -> 0 | F38: =IFNA(VLOOKUP(B38,'Pivot Table Y'!$A$2:$C$30,3,false),0) -> 0 | G38: =IFNA(VLOOKUP(B38,'Pivot Table Z'!$A$2:$C$30,2,false),0) -> 0 | H38: =IFNA(VLOOKUP(B38,'Pivot Table Z'!$A$2:$C$30,3,false),0) -> 0 | I38: =VLOOKUP(B38,'Pivot Table A'!$A$2:$C$30,2,false) -> 216 | J38: =VLOOKUP(B38,'Pivot Table A'!$A$2:$C$30,3,false) -> 216 | K38: =IFNA(VLOOKUP(B38,'Pivot Table B'!$A$2:$C$30,2,false),0) -> 0 | L38: =IFNA(VLOOKUP(B38,'Pivot Table B'!$A$2:$C$30,3,false),0) -> 0 | M38: =IFNA(VLOOKUP(B38,'Pivot Table C'!$A$2:$C$30,2,false),0) -> 5 | N38: =IFNA(VLOOKUP(B38,'Pivot Table C'!$A$2:$C$30,3,false),0) -> 5 | O38: =IFNA(VLOOKUP(B38,'Pivot Table D'!$A$2:$C$30,2,false),0) -> 0 | P38: =IFNA(VLOOKUP(B38,'Pivot Table D'!$A$2:$C$30,3,false),0) -> 0 | Q38: =IFERROR(100*(D38+F38+H38)/(C38+E38+G38),100) -> 100
B39: PAPUA PEGUNUNGAN | C39: =SUM(C31:C38) -> 0 | D39: =SUM(D31:D38) -> 0 | E39: =SUM(E31:E38) -> 1 | F39: =SUM(F31:F38) -> 1 | G39: =SUM(G31:G38) -> 3 | H39: =SUM(H31:H38) -> 3 | I39: =SUM(I31:I38) -> 1024 | J39: =SUM(J31:J38) -> 1024 | ... P39: =SUM(P31:P38) -> 163 | Q39: =IFERROR(100*(D39+F39+H39)/(C39+E39+G39),100) -> 100
B40: TOTAL | C40: =C16+C21+C30+C39 -> 14 | D40: =D16+D21+D30+D39 -> 14 | E40: =E16+E21+E30+E39 -> 2 | F40: =F16+F21+F30+F39 -> 2 | G40: =G16+G21+G30+G39 -> 80 | H40: =H16+H21+H30+H39 -> 80 | I40: =I16+I21+I30+I39 -> 3565 | J40: =J16+J21+J30+J39 -> 3565 | ... P40: =P16+P21+P30+P39 -> 407 | Q40: =IFERROR(100*(D40+F40+H40)/(C40+E40+G40),100) -> 100

Sheet Data
A1: Kabupaten | B1: KODE KAB
A2: 9403-JAYAPURA | B2: 9403
A3: 9408-KEPULAUAN YAPEN | B3: 9408
A4: 9409-BIAK NUMFOR | B4: 9409
A5: 9419-SARMI | B5: 9419
A6: 9420-KEEROM | B6: 9420
A7: 9426-WAROPEN | B7: 9426
A8: 9427-SUPIORI | B8: 9427
A9: 9428-MAMBERAMO RAYA | B9: 9428
A10: 9471-JAYAPURA | B10: 9471
A11: 9501-MERAUKE | B11: 9501
A12: 9502-BOVEN DIGOEL | B12: 9502
... A33: WAKTU | B33: 17:27 WIT

Sheet Pivot Table A

Sheet Pivot Table B

Sheet Pivot Table C

Sheet konsistensi_warning_kirim3
A1: url | B1: kode_desa | C1: nama_prov | D1: nama_kab | E1: nama_kec | F1: nama_desa | G1: progres | H1: catatan | I1: nama_sheet | J1: kode_kab | K1: konfirmasi
A2: https://fasih-sm.bps.go.id/survey-collection/assignment-detail/a1cd21b5-cbcc-409a-a8a8-41e85a7e4c1c/345cbe9e-45b8-42c2-bc4a-c76fe52a97ea | B2: 9403080004 | C2: PAPUA | D2: JAYAPURA | E2: KAUREH | F2: SOSKOTEK | G2: 100 | I2: W1_r305b | J2: =CONCATENATE(LEFT(B2,4),"-",D2) -> 9403-JAYAPURA | K2: =IF(G2>0,1,0) -> 1
A3: https://fasih-sm.bps.go.id/survey-collection/assignment-detail/b378cd1c-935b-4b13-bb62-9f9e1f6fcf18/345cbe9e-45b8-42c2-bc4a-c76fe52a97ea | B3: 9403080006 | C3: PAPUA | D3: JAYAPURA | E3: KAUREH | F3: SEBUM | G3: 100 | I3: W1_r305b | J3: =CONCATENATE(LEFT(B3,4),"-",D3) -> 9403-JAYAPURA | K3: =IF(G3>0,1,0) -> 1
A4: https://fasih-sm.bps.go.id/survey-collection/assignment-detail/e885bab5-d23a-4c7f-b851-c5f4c7cbfe27/345cbe9e-45b8-42c2-bc4a-c76fe52a97ea | B4: 9403080007 | C4: PAPUA | D4: JAYAPURA | E4: KAUREH | F4: UMBRON | G4: 100 | I4: W1_r305b | J4: =CONCATENATE(LEFT(B4,4),"-",D4) -> 9403-JAYAPURA | K4: =IF(G4>0,1,0) -> 1
A5: https://fasih-sm.bps.go.id/survey-collection/assignment-detail/2678e819-8e41-4292-bdb9-4b5626aea048/345cbe9e-45b8-42c2-bc4a-c76fe52a97ea | B5: 9403081001 | C5: PAPUA | D5: JAYAPURA | E5: AIRU | F5: PAGAI | G5: 100 | I5: W1_r305b | J5: =CONCATENATE(LEFT(B5,4),"-",D5) -> 9403-JAYAPURA | K5: =IF(G5>0,1,0) -> 1
A6: https://fasih-sm.bps.go.id/survey-collection/assignment-detail/a8234ccc-97fa-4079-b1bc-5ab2d41c9cf3/345cbe9e-45b8-42c2-bc4a-c76fe52a97ea | B6: 9403081005 | C6: PAPUA | D6: JAYAPURA | E6: AIRU | F6: KAMIKARU | G6: 100 | I6: W1_r305b | J6: =CONCATENATE(LEFT(B6,4),"-",D6) -> 9403-JAYAPURA | K6: =IF(G6>0,1,0) -> 1
A7: https://fasih-sm.bps.go.id/survey-collection/assignment-detail/8c667c4f-bc33-4274-a37f-3ca112ccd5bf/345cbe9e-45b8-42c2-bc4a-c76fe52a97ea | B7: 9403082004 | C7: PAPUA | D7: JAYAPURA | E7: YAPSI | F7: BUMI SAHAJA | G7: 100 | I7: W1_r305b | J7: =CONCATENATE(LEFT(B7,4),"-",D7) -> 9403-JAYAPURA | K7: =IF(G7>0,1,0) -> 1
A8: https://fasih-sm.bps.go.id/survey-collection/assignment-detail/be92f188-cf2f-47cf-8180-78fe07f1d056/345cbe9e-45b8-42c2-bc4a-c76fe52a97ea | B8: 9403082005 | C8: PAPUA | D8: JAYAPURA | E8: YAPSI | F8: NAWA MULYA | G8: 100 | I8: W1_r305b | J8: =CONCATENATE(LEFT(B8,4),"-",D8) -> 9403-JAYAPURA | K8: =IF(G8>0,1,0) -> 1
A9: https://fasih-sm.bps.go.id/survey-collection/assignment-detail/ac26b5c5-1d3f-4c70-bdb7-32eaed685890/345cbe9e-45b8-42c2-bc4a-c76fe52a97ea | B9: 9403082006 | C9: PAPUA | D9: JAYAPURA | E9: YAPSI | F9: NAWA MUKTI | G9: 100 | I9: W1_r305b | J9: =CONCATENATE(LEFT(B9,4),"-",D9) -> 9403-JAYAPURA | K9: =IF(G9>0,1,0) -> 1
A10: https://fasih-sm.bps.go.id/survey-collection/assignment-detail/17b36ed7-d9aa-4ea2-861a-a9f8c7b5c0ca/345cbe9e-45b8-42c2-bc4a-c76fe52a97ea | B10: 9403082007 | C10: PAPUA | D10: JAYAPURA | E10: YAPSI | F10: TAKWA BANGUN | G10: 100 | I10: W1_r305b | J10: =CONCATENATE(LEFT(B10,4),"-",D10) -> 9403-JAYAPURA | K10: =IF(G10>0,1,0) -> 1
A11: https://fasih-sm.bps.go.id/survey-collection/assignment-detail/0bbf06b7-078b-4ea2-b6c3-35280acaa40a/345cbe9e-45b8-42c2-bc4a-c76fe52a97ea | B11: 9403082008 | C11: PAPUA | D11: JAYAPURA | E11: YAPSI | F11: PURNAWA JATI | G11: 100 | I11: W1_r305b | J11: =CONCATENATE(LEFT(B11,4),"-",D11) -> 9403-JAYAPURA | K11: =IF(G11>0,1,0) -> 1
A12: https://fasih-sm.bps.go.id/survey-collection/assignment-detail/ff0b0cb4-7e60-4789-b1f0-c724e7a90d9e/345cbe9e-45b8-42c2-bc4a-c76fe52a97ea | B12: 9403140008 | C12: PAPUA | D12: JAYAPURA | E12: KEMTUK | F12: SABEAB KECIL | G12: 100 | I12: W1_r305b | J12: =CONCATENATE(LEFT(B12,4),"-",D12) -> 9403-JAYAPURA | K12: =IF(G12>0,1,0) -> 1
A13: https://fasih-sm.bps.go.id/survey-collection/assignment-detail/51f9d40c-682a-48ca-a4c5-8a95d0f7c705/345cbe9e-45b8-42c2-bc4a-c76fe52a97ea | B13: 9403140009 | C13: PAPUA | D13: JAYAPURA | E13: KEMTUK | F13: SEKORI | G13: 100 | I13: W1_r305b | J13: =CONCATENATE(LEFT(B13,4),"-",D13) -> 9403-JAYAPURA | K13: =IF(G13>0,1,0) -> 1
... A591: https://fasih-sm.bps.go.id/survey-collection/assignment-detail/0476f665-523e-49b6-9a18-6849626f5867/345cbe9e-45b8-42c2-bc4a-c76fe52a97ea | B591: 9605180001 | C591: PAPUA TENGAH | D591: PANIAI | E591: EKADIDE | F591: MAKIDIMI | G591: 100 | I591: W1_401c | J591: =CONCATENATE(LEFT(B591,4),"-",D591) -> 9605-PANIAI | K591: =IF(G591>0,1,0) -> 1
A592: https://fasih-sm.bps.go.id/survey-collection/assignment-detail/df85f193-d2dd-469e-8bc8-609d897ce4a2/345cbe9e-45b8-42c2-bc4a-c76fe52a97ea | B592: 9607040002 | C592: PAPUA TENGAH | D592: PUNCAK | E592: GOME | F592: MISIMAGA | G592: 100 | H592: Sesuai dengan kondisi lapangan | I592: W1_401c | J592: =CONCATENATE(LEFT(B592,4),"-",D592) -> 9607-PUNCAK | K592: =IF(G592>0,1,0) -> 1
A593: https://fasih-sm.bps.go.id/survey-collection/assignment-detail/850da825-3264-4069-931e-c227012712ad/345cbe9e-45b8-42c2-bc4a-c76fe52a97ea | B593: 9607040007 | C593: PAPUA TENGAH | D593: PUNCAK | E593: GOME | F593: TEGELOBAK | G593: 100 | H593: Sesuai dengan kondisi lapangan | I593: W1_401c | J593: =CONCATENATE(LEFT(B593,4),"-",D593) -> 9607-PUNCAK | K593: =IF(G593>0,1,0) -> 1
A594: https://fasih-sm.bps.go.id/survey-collection/assignment-detail/ffd36f97-8306-4e1f-bb6f-8aa9e8dedf89/345cbe9e-45b8-42c2-bc4a-c76fe52a97ea | B594: 9607060002 | C594: PAPUA TENGAH | D594: PUNCAK | E594: GOME UTARA | F594: TOWENGGI II | G594: 100 | H594: Sesuai dengan kondisi lapangan | I594: W1_401c | J594: =CONCATENATE(LEFT(B594,4),"-",D594) -> 9607-PUNCAK | K594: =IF(G594>0,1,0) -> 1
A595: https://fasih-sm.bps.go.id/survey-collection/assignment-detail/01246ffe-9b6f-41d7-aee0-69770856c66c/345cbe9e-45b8-42c2-bc4a-c76fe52a97ea | B595: 9607070004 | C595: PAPUA TENGAH | D595: PUNCAK | E595: ERELMAKAWIA | F595: BOMOGIN | G595: 100 | H595: Sesuai dengan kondisi lapangan | I595: W1_401c | J595: =CONCATENATE(LEFT(B595,4),"-",D595) -> 9607-PUNCAK | K595: =IF(G595>0,1,0) -> 1
A596: https://fasih-sm.bps.go.id/survey-collection/assignment-detail/933d2640-ef76-4c13-8e87-e292760bac4d/345cbe9e-45b8-42c2-bc4a-c76fe52a97ea | B596: 9607070009 | C596: PAPUA TENGAH | D596: PUNCAK | E596: ERELMAKAWIA | F596: AI ARAMA | G596: 100 | H596: Sesuai dengan kondisi lapangan | I596: W1_401c | J596: =CONCATENATE(LEFT(B596,4),"-",D596) -> 9607-PUNCAK | K596: =IF(G596>0,1,0) -> 1
A597: https://fasih-sm.bps.go.id/survey-collection/assignment-detail/fb114239-07d1-43ad-a148-975929497d4d/345cbe9e-45b8-42c2-bc4a-c76fe52a97ea | B597: 9607080004 | C597: PAPUA TENGAH | D597: PUNCAK | E597: ILAGA | F597: NIPURALOME | G597: 100 | H597: Sesuai dengan kondisi lapangan | I597: W1_401c | J597: =CONCATENATE(LEFT(B597,4),"-",D597) -> 9607-PUNCAK | K597: =IF(G597>0,1,0) -> 1
A598: https://fasih-sm.bps.go.id/survey-collection/assignment-detail/0f30d5eb-7e3c-4792-9850-1fda91a29a06/345cbe9e-45b8-42c2-bc4a-c76fe52a97ea | B598: 9706010037 | C598: PAPUA PEGUNUNGAN | D598: YALIMO | E598: WELAREK | F598: PUNUI | G598: 100 | I598: W1_401c | J598: =CONCATENATE(LEFT(B598,4),"-",D598) -> 9706-YALIMO | K598: =IF(G598>0,1,0) -> 1
A599: https://fasih-sm.bps.go.id/survey-collection/assignment-detail/68625d7e-2dc3-4197-b576-1190b7425ef1/345cbe9e-45b8-42c2-bc4a-c76fe52a97ea | B599: 9403230011 | C599: PAPUA | D599: JAYAPURA | E599: SENTANI | F599: IFAR BESAR | G599: 100 | I599: W2_401c | J599: =CONCATENATE(LEFT(B599,4),"-",D599) -> 9403-JAYAPURA | K599: =IF(G599>0,1,0) -> 1
A600: https://fasih-sm.bps.go.id/survey-collection/assignment-detail/3e258466-249c-47a7-b76f-5f1a2fd79e81/345cbe9e-45b8-42c2-bc4a-c76fe52a97ea | B600: 9408041005 | C600: PAPUA | D600: KEPULAUAN YAPEN | E600: PANTURA YAPEN | F600: SAMBRAWAI | G600: 100 | H600: sudah sesuai kondisi lapangan | I600: W2_401c | J600: =CONCATENATE(LEFT(B600,4),"-",D600) -> 9408-KEPULAUAN YAPEN | K600: =IF(G600>0,1,0) -> 1
A601: https://fasih-sm.bps.go.id/survey-collection/assignment-detail/b585e3dc-a580-455c-a6ce-a89f24215153/345cbe9e-45b8-42c2-bc4a-c76fe52a97ea | B601: 9409050005 | C601: PAPUA | D601: BIAK NUMFOR | E601: BIAK KOTA | F601: BUROKUB | G601: 100 | I601: W2_401c | J601: =CONCATENATE(LEFT(B601,4),"-",D601) -> 9409-BIAK NUMFOR | K601: =IF(G601>0,1,0) -> 1
A602: https://fasih-sm.bps.go.id/survey-collection/assignment-detail/e63a6bcc-fdd1-48b2-868c-8fe776c5aa74/345cbe9e-45b8-42c2-bc4a-c76fe52a97ea | B602: 9409050016 | C602: PAPUA | D602: BIAK NUMFOR | E602: BIAK KOTA | F602: INGGUPI | G602: 100 | I602: W2_401c | J602: =CONCATENATE(LEFT(B602,4),"-",D602) -> 9409-BIAK NUMFOR | K602: =IF(G602>0,1,0) -> 1
A603: https://fasih-sm.bps.go.id/survey-collection/assignment-detail/4c9df265-a31c-4ae7-8b4d-990ac766791d/345cbe9e-45b8-42c2-bc4a-c76fe52a97ea | B603: 9420041002 | C603: PAPUA | D603: KEEROM | E603: ARSO TIMUR | F603: KRIKU | G603: 100 | I603: W2_401c | J603: =CONCATENATE(LEFT(B603,4),"-",D603) -> 9420-KEEROM | K603: =IF(G603>0,1,0) -> 1
A604: https://fasih-sm.bps.go.id/survey-collection/assignment-detail/fc0cd1e0-359f-4588-8efa-8f12a62146c7/345cbe9e-45b8-42c2-bc4a-c76fe52a97ea | B604: 9426011010 | C604: PAPUA | D604: WAROPEN | E604: INGGERUS | F604: OTODEMO | G604: 100 | I604: W2_401c | J604: =CONCATENATE(LEFT(B604,4),"-",D604) -> 9426-WAROPEN | K604: =IF(G604>0,1,0) -> 1
A605: https://fasih-sm.bps.go.id/survey-collection/assignment-detail/4d1bf0f9-197b-4153-b221-cf9f4ab80976/345cbe9e-45b8-42c2-bc4a-c76fe52a97ea | B605: 9426012007 | C605: PAPUA | D605: WAROPEN | E605: UREI FAISEI | F605: UREI FAISEI SATU/SANGGEI | G605: 100 | I605: W2_401c | J605: =CONCATENATE(LEFT(B605,4),"-",D605) -> 9426-WAROPEN | K605: =IF(G605>0,1,0) -> 1
A606: https://fasih-sm.bps.go.id/survey-collection/assignment-detail/630da270-ac10-43e1-8aa7-1be36ef3cecf/345cbe9e-45b8-42c2-bc4a-c76fe52a97ea | B606: 9426023004 | C606: PAPUA | D606: WAROPEN | E606: SOYOI MAMBAI | F606: DAIMBOA | G606: 100 | I606: W2_401c | J606: =CONCATENATE(LEFT(B606,4),"-",D606) -> 9426-WAROPEN | K606: =IF(G606>0,1,0) -> 1
A607: https://fasih-sm.bps.go.id/survey-collection/assignment-detail/c705fb7a-229b-41c6-a218-400c67b05a51/345cbe9e-45b8-42c2-bc4a-c76fe52a97ea | B607: 9426030005 | C607: PAPUA | D607: WAROPEN | E607: WALANI | F607: OYETADI | G607: 100 | I607: W2_401c | J607: =CONCATENATE(LEFT(B607,4),"-",D607) -> 9426-WAROPEN | K607: =IF(G607>0,1,0) -> 1
A608: https://fasih-sm.bps.go.id/survey-collection/assignment-detail/7c6d51df-a42a-408a-8cf4-a65737dd6d9e/345cbe9e-45b8-42c2-bc4a-c76fe52a97ea | B608: 9426040002 | C608: PAPUA | D608: WAROPEN | E608: KIRIHI | F608: SPOIRI | G608: 100 | I608: W2_401c | J608: =CONCATENATE(LEFT(B608,4),"-",D608) -> 9426-WAROPEN | K608: =IF(G608>0,1,0) -> 1
A609: https://fasih-sm.bps.go.id/survey-collection/assignment-detail/eef11875-0d7b-46e5-9d21-d57da2c2e3c1/345cbe9e-45b8-42c2-bc4a-c76fe52a97ea | B609: 9426040005 | C609: PAPUA | D609: WAROPEN | E609: KIRIHI | F609: KAWARI | G609: 100 | I609: W2_401c | J609: =CONCATENATE(LEFT(B609,4),"-",D609) -> 9426-WAROPEN | K609: =IF(G609>0,1,0) -> 1
A610: https://fasih-sm.bps.go.id/survey-collection/assignment-detail/35993b7e-1ebd-4de2-81c3-fd6f4be3ba18/345cbe9e-45b8-42c2-bc4a-c76fe52a97ea | B610: 9426040009 | C610: PAPUA | D610: WAROPEN | E610: KIRIHI | F610: ANTU ARU | G610: 100 | I610: W2_401c | J610: =CONCATENATE(LEFT(B610,4),"-",D610) -> 9426-WAROPEN | K610: =IF(G610>0,1,0) -> 1
A611: https://fasih-sm.bps.go.id/survey-collection/assignment-detail/b43f7d09-a5cc-4d5e-9b52-31e4e2264d72/345cbe9e-45b8-42c2-bc4a-c76fe52a97ea | B611: 9426040010 | C611: PAPUA | D611: WAROPEN | E611: KIRIHI | F611: WAFUKA | G611: 100 | I611: W2_401c | J611: =CONCATENATE(LEFT(B611,4),"-",D611) -> 9426-WAROPEN | K611: =IF(G611>0,1,0) -> 1
A612: https://fasih-sm.bps.go.id/survey-collection/assignment-detail/e0698b60-9048-4224-9276-69c7ba117cde/345cbe9e-45b8-42c2-bc4a-c76fe52a97ea | B612: 9471010001 | C612: PAPUA | D612: JAYAPURA | E612: MUARA TAMI | F612: KOYA BARAT | G612: 100 | I612: W2_401c | J612: =CONCATENATE(LEFT(B612,4),"-",D612) -> 9471-JAYAPURA | K612: =IF(G612>0,1,0) -> 1
... A634: https://fasih-sm.bps.go.id/survey-collection/assignment-detail/4661dd33-b338-4b81-9515-b7874f62099b/345cbe9e-45b8-42c2-bc4a-c76fe52a97ea | B634: 9706050016 | C634: PAPUA PEGUNUNGAN | D634: YALIMO | E634: BENAWA | F634: LAWE | G634: 100 | I634: W2_401c | J634: =CONCATENATE(LEFT(B634,4),"-",D634) -> 9706-YALIMO | K634: =IF(G634>0,1,0) -> 1
A635: https://fasih-sm.bps.go.id/survey-collection/assignment-detail/39b09869-b46f-421d-bc35-92838265b334/345cbe9e-45b8-42c2-bc4a-c76fe52a97ea | B635: 9707010004 | C635: PAPUA PEGUNUNGAN | D635: YAHUKIMO | E635: KURIMA | F635: OBOLMA | G635: 75 | H635: r401c jadi 60+110=170? | I635: W2_r501 | J635: =CONCATENATE(LEFT(B635,4),"-",D635) -> 9707-YAHUKIMO | K635: =IF(G635>0,1,0) -> 1
A636: https://fasih-sm.bps.go.id/survey-collection/assignment-detail/d233232c-ce76-4e19-94a0-7e49f748273e/345cbe9e-45b8-42c2-bc4a-c76fe52a97ea | B636: 9501050002 | C636: PAPUA SELATAN | D636: MERAUKE | E636: KONTUAR | F636: WANTARMA | G636: 75 | I636: W_r502a | J636: =CONCATENATE(LEFT(B636,4),"-",D636) -> 9501-MERAUKE | K636: =IF(G636>0,1,0) -> 1
A637: https://fasih-sm.bps.go.id/survey-collection/assignment-detail/739ef1e0-3741-4b29-b6e6-ae4c6235f802/345cbe9e-45b8-42c2-bc4a-c76fe52a97ea | B637: 9702020006 | C637: PAPUA PEGUNUNGAN | D637: JAYAWIJAYA | E637: ASOLOKOBAL | F637: SINATA | G637: 75 | I637: W_r502a | J637: =CONCATENATE(LEFT(B637,4),"-",D637) -> 9702-JAYAWIJAYA | K637: =IF(G637>0,1,0) -> 1
A638: https://fasih-sm.bps.go.id/survey-collection/assignment-detail/dbb68a8d-9405-49a2-841f-433f663a28c4/345cbe9e-45b8-42c2-bc4a-c76fe52a97ea | B638: 9701050005 | C638: PAPUA PEGUNUNGAN | D638: NDUGA | E638: KENYAM | F638: YIKE | G638: 100 | I638: W1_r501 | J638: =CONCATENATE(LEFT(B638,4),"-",D638) -> 9701-NDUGA | K638: =IF(G638>0,1,0) -> 1
A639: https://fasih-sm.bps.go.id/survey-collection/assignment-detail/d233232c-ce76-4e19-94a0-7e49f748273e/345cbe9e-45b8-42c2-bc4a-c76fe52a97ea | B639: 9501050002 | C639: PAPUA SELATAN | D639: MERAUKE | E639: KONTUAR | F639: WANTARMA | G639: 100 | I639: W1_r502b | J639: =CONCATENATE(LEFT(B639,4),"-",D639) -> 9501-MERAUKE | K639: =IF(G639>0,1,0) -> 1
A640: https://fasih-sm.bps.go.id/survey-collection/assignment-detail/34b1f7cf-07c6-47a9-a2b1-02f316d12e8d/345cbe9e-45b8-42c2-bc4a-c76fe52a97ea | B640: 9503040002 | C640: PAPUA SELATAN | D640: MAPPI | E640: EDERA | F640: BANAMEPE | G640: 100 | H640: abrasi sungai | I640: W1_r601kk2 | J640: =CONCATENATE(LEFT(B640,4),"-",D640) -> 9503-MAPPI | K640: =IF(G640>0,1,0) -> 1
A641: https://fasih-sm.bps.go.id/survey-collection/assignment-detail/29c9fc6b-b3f9-44cb-bfea-ff097c7a8b16/345cbe9e-45b8-42c2-bc4a-c76fe52a97ea | B641: 9409100024 | C641: PAPUA | D641: BIAK NUMFOR | E641: BIAK BARAT | F641: SUMBINYA | G641: 100 | I641: W_r603a | J641: =CONCATENATE(LEFT(B641,4),"-",D641) -> 9409-BIAK NUMFOR | K641: =IF(G641>0,1,0) -> 1
A642: https://fasih-sm.bps.go.id/survey-collection/assignment-detail/ca4ad045-9762-44b9-b415-077214c4a963/345cbe9e-45b8-42c2-bc4a-c76fe52a97ea | B642: 9409100030 | C642: PAPUA | D642: BIAK NUMFOR | E642: BIAK BARAT | F642: RARSBARI | G642: 100 | I642: W_r603a | J642: =CONCATENATE(LEFT(B642,4),"-",D642) -> 9409-BIAK NUMFOR | K642: =IF(G642>0,1,0) -> 1
A643: https://fasih-sm.bps.go.id/survey-collection/assignment-detail/e7d8fd23-e621-4b18-b181-0aa05b9a822e/345cbe9e-45b8-42c2-bc4a-c76fe52a97ea | B643: 9420050003 | C643: PAPUA | D643: KEEROM | E643: SKANTO | F643: UPT ARSO XIV / WULUKUBUN | G643: 100 | I643: W_r603a | J643: =CONCATENATE(LEFT(B643,4),"-",D643) -> 9420-KEEROM | K643: =IF(G643>0,1,0) -> 1
A644: https://fasih-sm.bps.go.id/survey-collection/assignment-detail/066175f7-9466-4819-8edd-dbb2c74e9106/345cbe9e-45b8-42c2-bc4a-c76fe52a97ea | B644: 9426021009 | C644: PAPUA | D644: WAROPEN | E644: RISEI SAYATI | F644: GHAIWARU | G644: 100 | I644: W_r603a | J644: =CONCATENATE(LEFT(B644,4),"-",D644) -> 9426-WAROPEN | K644: =IF(G644>0,1,0) -> 1
A645: https://fasih-sm.bps.go.id/survey-collection/assignment-detail/86834fbc-df68-436d-b0fc-3c569e2ca649/345cbe9e-45b8-42c2-bc4a-c76fe52a97ea | B645: 9471021001 | C645: PAPUA | D645: JAYAPURA | E645: HERAM | F645: YOKA | G645: 100 | I645: W_r603a | J645: =CONCATENATE(LEFT(B645,4),"-",D645) -> 9471-JAYAPURA | K645: =IF(G645>0,1,0) -> 1
A646: https://fasih-sm.bps.go.id/survey-collection/assignment-detail/dd757458-e7b4-4ef0-87cc-ee1e21ec23cf/345cbe9e-45b8-42c2-bc4a-c76fe52a97ea | B646: 9471021005 | C646: PAPUA | D646: JAYAPURA | E646: HERAM | F646: WAENA | G646: 100 | I646: W_r603a | J646: =CONCATENATE(LEFT(B646,4),"-",D646) -> 9471-JAYAPURA | K646: =IF(G646>0,1,0) -> 1
A647: https://fasih-sm.bps.go.id/survey-collection/assignment-detail/d0b99309-22bc-407b-a623-d32df61ae24a/345cbe9e-45b8-42c2-bc4a-c76fe52a97ea | B647: 9605050003 | C647: PAPUA TENGAH | D647: PANIAI | E647: YATAMO | F647: MEMIYAIBUTU | G647: 100 | I647: W_r603a | J647: =CONCATENATE(LEFT(B647,4),"-",D647) -> 9605-PANIAI | K647: =IF(G647>0,1,0) -> 1
A648: https://fasih-sm.bps.go.id/survey-collection/assignment-detail/c04ea095-e2f3-4dd1-95ba-42b6ac562633/345cbe9e-45b8-42c2-bc4a-c76fe52a97ea | B648: 9605050004 | C648: PAPUA TENGAH | D648: PANIAI | E648: YATAMO | F648: BUTUMO | G648: 100 | I648: W_r603a | J648: =CONCATENATE(LEFT(B648,4),"-",D648) -> 9605-PANIAI | K648: =IF(G648>0,1,0) -> 1
A649: https://fasih-sm.bps.go.id/survey-collection/assignment-detail/bcf2a9ce-ec84-40db-a243-177d26153948/345cbe9e-45b8-42c2-bc4a-c76fe52a97ea | B649: 9605080008 | C649: PAPUA TENGAH | D649: PANIAI | E649: PANIAI BARAT | F649: AMOPA | G649: 100 | I649: W_r603a | J649: =CONCATENATE(LEFT(B649,4),"-",D649) -> 9605-PANIAI | K649: =IF(G649>0,1,0) -> 1
A650: https://fasih-sm.bps.go.id/survey-collection/assignment-detail/3de24fff-49fc-4732-81c8-143d8626a9b9/345cbe9e-45b8-42c2-bc4a-c76fe52a97ea | B650: 9702150005 | C650: PAPUA PEGUNUNGAN | D650: JAYAWIJAYA | E650: HUBIKIAK | F650: HOM-HOM | G650: 100 | I650: W_r603a | J650: =CONCATENATE(LEFT(B650,4),"-",D650) -> 9702-JAYAWIJAYA | K650: =IF(G650>0,1,0) -> 1
A651: https://fasih-sm.bps.go.id/survey-collection/assignment-detail/b568d81f-78d4-4f00-b146-79a65f29e614/345cbe9e-45b8-42c2-bc4a-c76fe52a97ea | B651: 9702150007 | C651: PAPUA PEGUNUNGAN | D651: JAYAWIJAYA | E651: HUBIKIAK | F651: LIKINO | G651: 100 | I651: W_r603a | J651: =CONCATENATE(LEFT(B651,4),"-",D651) -> 9702-JAYAWIJAYA | K651: =IF(G651>0,1,0) -> 1
A652: https://fasih-sm.bps.go.id/survey-collection/assignment-detail/13be803d-0ce4-4ac3-9a86-af9516fc8af0/345cbe9e-45b8-42c2-bc4a-c76fe52a97ea | B652: 9408060015 | C652: PAPUA | D652: KEPULAUAN YAPEN | E652: YAPEN SELATAN | F652: SERUI KOTA | G652: 100 | H652: wilayah tidak tepat berbatasan dengan laut, namun terdapat sistem peringatan dini memang ada karena wilayah kepulauan dan hanya ada di keluarahan tersebut. | I652: W_r602b | J652: =CONCATENATE(LEFT(B652,4),"-",D652) -> 9408-KEPULAUAN YAPEN | K652: =IF(G652>0,1,0) -> 1
A653: https://fasih-sm.bps.go.id/survey-collection/assignment-detail/8c77fc71-1c69-452e-b1ea-9bd07c81a7ba/345cbe9e-45b8-42c2-bc4a-c76fe52a97ea | B653: 9420042005 | C653: PAPUA | D653: KEEROM | E653: ARSO BARAT | F653: UPT ARSO I / SANGGARIA | G653: 100 | I653: W_r602b | J653: =CONCATENATE(LEFT(B653,4),"-",D653) -> 9420-KEEROM | K653: =IF(G653>0,1,0) -> 1
A654: https://fasih-sm.bps.go.id/survey-collection/assignment-detail/27c1609d-8fb3-4300-b970-c70ebb3f979c/345cbe9e-45b8-42c2-bc4a-c76fe52a97ea | B654: 9501020004 | C654: PAPUA SELATAN | D654: MERAUKE | E654: WAAN | F654: DEFNAWANGA | G654: 100 | I654: W1_r601fk2 | J654: =CONCATENATE(LEFT(B654,4),"-",D654) -> 9501-MERAUKE | K654: =IF(G654>0,1,0) -> 1
A655: https://fasih-sm.bps.go.id/survey-collection/assignment-detail/2678e819-8e41-4292-bdb9-4b5626aea048/345cbe9e-45b8-42c2-bc4a-c76fe52a97ea | B655: 9403081001 | C655: PAPUA | D655: JAYAPURA | E655: AIRU | F655: PAGAI | G655: 100 | I655: W2_r902ak7 | J655: =CONCATENATE(LEFT(B655,4),"-",D655) -> 9403-JAYAPURA | K655: =IF(G655>0,1,0) -> 1
A656: https://fasih-sm.bps.go.id/survey-collection/assignment-detail/2ea8b1db-adcf-4c4e-99c5-62742c32edcc/345cbe9e-45b8-42c2-bc4a-c76fe52a97ea | B656: 9403081003 | C656: PAPUA | D656: JAYAPURA | E656: AIRU | F656: AURINA | G656: 100 | I656: W2_r902ak7 | J656: =CONCATENATE(LEFT(B656,4),"-",D656) -> 9403-JAYAPURA | K656: =IF(G656>0,1,0) -> 1
A657: https://fasih-sm.bps.go.id/survey-collection/assignment-detail/a8234ccc-97fa-4079-b1bc-5ab2d41c9cf3/345cbe9e-45b8-42c2-bc4a-c76fe52a97ea | B657: 9403081005 | C657: PAPUA | D657: JAYAPURA | E657: AIRU | F657: KAMIKARU | G657: 100 | I657: W2_r902ak7 | J657: =CONCATENATE(LEFT(B657,4),"-",D657) -> 9403-JAYAPURA | K657: =IF(G657>0,1,0) -> 1
A658: https://fasih-sm.bps.go.id/survey-collection/assignment-detail/154949d7-b545-4aa9-bf74-8d5afe1b37ec/345cbe9e-45b8-42c2-bc4a-c76fe52a97ea | B658: 9403081006 | C658: PAPUA | D658: JAYAPURA | E658: AIRU | F658: NAIRA | G658: 100 | I658: W2_r902ak7 | J658: =CONCATENATE(LEFT(B658,4),"-",D658) -> 9403-JAYAPURA | K658: =IF(G658>0,1,0) -> 1
A659: https://fasih-sm.bps.go.id/survey-collection/assignment-detail/6d114db4-f16d-4bdb-9f93-ac724a10b1ed/345cbe9e-45b8-42c2-bc4a-c76fe52a97ea | B659: 9408080008 | C659: PAPUA | D659: KEPULAUAN YAPEN | E659: POOM | F659: NURAWI | G659: 100 | H659: wilayah yang jauh dari kota kabupaten dan hanya bisa menggunakan speed pribadi/charter. | I659: W2_r902ak7 | J659: =CONCATENATE(LEFT(B659,4),"-",D659) -> 9408-KEPULAUAN YAPEN | K659: =IF(G659>0,1,0) -> 1
A660: https://fasih-sm.bps.go.id/survey-collection/assignment-detail/6ef2c162-fe9f-4db6-816e-f3a5706b1ba8/345cbe9e-45b8-42c2-bc4a-c76fe52a97ea | B660: 9419040012 | C660: PAPUA | D660: SARMI | E660: TOR ATAS | F660: SEGAR TOR | G660: 100 | I660: W2_r902ak7 | J660: =CONCATENATE(LEFT(B660,4),"-",D660) -> 9419-SARMI | K660: =IF(G660>0,1,0) -> 1
A661: https://fasih-sm.bps.go.id/survey-collection/assignment-detail/696fc467-73cd-4293-9254-832f4658e432/345cbe9e-45b8-42c2-bc4a-c76fe52a97ea | B661: 9419050011 | C661: PAPUA | D661: SARMI | E661: SARMI | F661: LIKI | G661: 100 | I661: W2_r902ak7 | J661: =CONCATENATE(LEFT(B661,4),"-",D661) -> 9419-SARMI | K661: =IF(G661>0,1,0) -> 1
A662: https://fasih-sm.bps.go.id/survey-collection/assignment-detail/5282ac22-bd43-448e-b3a8-58c70032b4b6/345cbe9e-45b8-42c2-bc4a-c76fe52a97ea | B662: 9419050012 | C662: PAPUA | D662: SARMI | E662: SARMI | F662: ARMO | G662: 100 | I662: W2_r902ak7 | J662: =CONCATENATE(LEFT(B662,4),"-",D662) -> 9419-SARMI | K662: =IF(G662>0,1,0) -> 1
A663: https://fasih-sm.bps.go.id/survey-collection/assignment-detail/2ce2e786-6ff9-46af-8b3c-880064d043a1/345cbe9e-45b8-42c2-bc4a-c76fe52a97ea | B663: 9419060026 | C663: PAPUA | D663: SARMI | E663: PANTAI BARAT | F663: BURGENA | G663: 100 | I663: W2_r902ak7 | J663: =CONCATENATE(LEFT(B663,4),"-",D663) -> 9419-SARMI | K663: =IF(G663>0,1,0) -> 1
A664: https://fasih-sm.bps.go.id/survey-collection/assignment-detail/363d7728-face-417f-a296-d188432db3c5/345cbe9e-45b8-42c2-bc4a-c76fe52a97ea | B664: 9420011001 | C664: PAPUA | D664: KEEROM | E664: TOWE | F664: TOWE LAMA / TOWE ATAS | G664: 100 | I664: W2_r902ak7 | J664: =CONCATENATE(LEFT(B664,4),"-",D664) -> 9420-KEEROM | K664: =IF(G664>0,1,0) -> 1
A665: https://fasih-sm.bps.go.id/survey-collection/assignment-detail/30e348bd-35d2-41b7-b5ef-5b65fdf95ccc/345cbe9e-45b8-42c2-bc4a-c76fe52a97ea | B665: 9420011003 | C665: PAPUA | D665: KEEROM | E665: TOWE | F665: BIAS | G665: 100 | I665: W2_r902ak7 | J665: =CONCATENATE(LEFT(B665,4),"-",D665) -> 9420-KEEROM | K665: =IF(G665>0,1,0) -> 1
A666: https://fasih-sm.bps.go.id/survey-collection/assignment-detail/dcd964b5-3310-4e93-b775-986651cdc04b/345cbe9e-45b8-42c2-bc4a-c76fe52a97ea | B666: 9420011010 | C666: PAPUA | D666: KEEROM | E666: TOWE | F666: PRIS | G666: 100 | I666: W2_r902ak7 | J666: =CONCATENATE(LEFT(B666,4),"-",D666) -> 9420-KEEROM | K666: =IF(G666>0,1,0) -> 1
A667: https://fasih-sm.bps.go.id/survey-collection/assignment-detail/f85c46d5-3d78-43ac-a3cd-2f645a030258/345cbe9e-45b8-42c2-bc4a-c76fe52a97ea | B667: 9420021001 | C667: PAPUA | D667: KEEROM | E667: KAISENAR | F667: LIKET | G667: 100 | I667: W2_r902ak7 | J667: =CONCATENATE(LEFT(B667,4),"-",D667) -> 9420-KEEROM | K667: =IF(G667>0,1,0) -> 1
A668: https://fasih-sm.bps.go.id/survey-collection/assignment-detail/3c9d6445-3837-4f94-b655-81b76f8d954f/345cbe9e-45b8-42c2-bc4a-c76fe52a97ea | B668: 9420021002 | C668: PAPUA | D668: KEEROM | E668: KAISENAR | F668: WONAM | G668: 100 | I668: W2_r902ak7 | J668: =CONCATENATE(LEFT(B668,4),"-",D668) -> 9420-KEEROM | K668: =IF(G668>0,1,0) -> 1
A669: https://fasih-sm.bps.go.id/survey-collection/assignment-detail/3fd952aa-bb11-4d84-bafc-d704261e978d/345cbe9e-45b8-42c2-bc4a-c76fe52a97ea | B669: 9420021003 | C669: PAPUA | D669: KEEROM | E669: KAISENAR | F669: KIAMBRA | G669: 100 | I669: W2_r902ak7 | J669: =CONCATENATE(LEFT(B669,4),"-",D669) -> 9420-KEEROM | K669: =IF(G669>0,1,0) -> 1
A670: https://fasih-sm.bps.go.id/survey-collection/assignment-detail/1f217cc1-bd53-42e8-b3a1-ae7877bdab2f/345cbe9e-45b8-42c2-bc4a-c76fe52a97ea | B670: 9420021005 | C670: PAPUA | D670: KEEROM | E670: KAISENAR | F670: TEFANMA I | G670: 100 | I670: W2_r902ak7 | J670: =CONCATENATE(LEFT(B670,4),"-",D670) -> 9420-KEEROM | K670: =IF(G670>0,1,0) -> 1
A671: https://fasih-sm.bps.go.id/survey-collection/assignment-detail/a7c5e355-c793-4b5b-8168-363376e0a23a/345cbe9e-45b8-42c2-bc4a-c76fe52a97ea | B671: 9428030001 | C671: PAPUA | D671: MAMBERAMO RAYA | E671: WAROPEN ATAS | F671: SIPISI | G671: 100 | I671: W2_r902ak7 | J671: =CONCATENATE(LEFT(B671,4),"-",D671) -> 9428-MAMBERAMO RAYA | K671: =IF(G671>0,1,0) -> 1
... A829: https://fasih-sm.bps.go.id/survey-collection/assignment-detail/75cd7dfc-7710-4556-ab21-26f298311b97/345cbe9e-45b8-42c2-bc4a-c76fe52a97ea | B829: 9604130004 | C829: PAPUA TENGAH | D829: NABIRE | E829: YAUR | F829: YAUR | G829: 100 | I829: W2_r902ak7 | J829: =CONCATENATE(LEFT(B829,4),"-",D829) -> 9604-NABIRE | K829: =IF(G829>0,1,0) -> 1
A830: https://fasih-sm.bps.go.id/survey-collection/assignment-detail/47c8efcc-4e11-40aa-a55b-f864cb36a6c7/345cbe9e-45b8-42c2-bc4a-c76fe52a97ea | B830: 9607110012 | C830: PAPUA TENGAH | D830: PUNCAK | E830: OMUKIA | F830: PUNGTRAMA | G830: 100 | H830: biaya nol karena sudah direvisi karena transport ke kantor camat dengan jalan kaki, sudah direvisi di file konsistensi3_kirim sheet r902ak2 | I830: W2_r902ak7 | J830: =CONCATENATE(LEFT(B830,4),"-",D830) -> 9607-PUNCAK | K830: =IF(G830>0,1,0) -> 1
A831: https://fasih-sm.bps.go.id/survey-collection/assignment-detail/2223a040-1419-4b80-988d-dbbc3fa89a37/345cbe9e-45b8-42c2-bc4a-c76fe52a97ea | B831: 9607110013 | C831: PAPUA TENGAH | D831: PUNCAK | E831: OMUKIA | F831: BALAMAGALAMA | G831: 100 | H831: biaya nol karena sudah direvisi karena transport ke kantor camat dengan jalan kaki, sudah direvisi di file konsistensi3_kirim sheet r902ak2 | I831: W2_r902ak7 | J831: =CONCATENATE(LEFT(B831,4),"-",D831) -> 9607-PUNCAK | K831: =IF(G831>0,1,0) -> 1
A832: https://fasih-sm.bps.go.id/survey-collection/assignment-detail/82b5f35d-1f89-43da-abec-978a72aaa21b/345cbe9e-45b8-42c2-bc4a-c76fe52a97ea | B832: 9607110014 | C832: PAPUA TENGAH | D832: PUNCAK | E832: OMUKIA | F832: AWILKINOP | G832: 100 | H832: biaya nol karena sudah direvisi karena transport ke kantor camat dengan jalan kaki, sudah direvisi di file konsistensi3_kirim sheet r902ak2 | I832: W2_r902ak7 | J832: =CONCATENATE(LEFT(B832,4),"-",D832) -> 9607-PUNCAK | K832: =IF(G832>0,1,0) -> 1
A833: https://fasih-sm.bps.go.id/survey-collection/assignment-detail/b2f51891-ba32-4cea-ab24-20e1295f1e33/345cbe9e-45b8-42c2-bc4a-c76fe52a97ea | B833: 9608010001 | C833: PAPUA TENGAH | D833: PUNCAK JAYA | E833: FAWI | F833: TURMO | G833: 100 | H833: Merupakan daerah sulit dijangkau dan wilayah pesisir sungai, sehingga membutuhkan biaya mahal menuju kantor camat | I833: W2_r902ak7 | J833: =CONCATENATE(LEFT(B833,4),"-",D833) -> 9608-PUNCAK JAYA | K833: =IF(G833>0,1,0) -> 1
A834: https://fasih-sm.bps.go.id/survey-collection/assignment-detail/5bf208df-43ca-490f-a34b-b6a1441a80d2/345cbe9e-45b8-42c2-bc4a-c76fe52a97ea | B834: 9608010008 | C834: PAPUA TENGAH | D834: PUNCAK JAYA | E834: FAWI | F834: DOREY | G834: 100 | H834: Merupakan daerah sulit dijangkau dan wilayah pesisir sungai, sehingga membutuhkan biaya mahal menuju kantor camat | I834: W2_r902ak7 | J834: =CONCATENATE(LEFT(B834,4),"-",D834) -> 9608-PUNCAK JAYA | K834: =IF(G834>0,1,0) -> 1
A835: https://fasih-sm.bps.go.id/survey-collection/assignment-detail/bc039ee8-fa48-4741-aeb9-bd4f52955ae5/345cbe9e-45b8-42c2-bc4a-c76fe52a97ea | B835: 9608020008 | C835: PAPUA TENGAH | D835: PUNCAK JAYA | E835: DAGAI | F835: DEIDE | G835: 100 | H835: Merupakan daerah sulit dijangkau dan wilayah pesisir sungai, sehingga membutuhkan biaya mahal menuju kantor camat | I835: W2_r902ak7 | J835: =CONCATENATE(LEFT(B835,4),"-",D835) -> 9608-PUNCAK JAYA | K835: =IF(G835>0,1,0) -> 1
A836: https://fasih-sm.bps.go.id/survey-collection/assignment-detail/58fef605-9db4-48e7-8154-28a45be6563a/345cbe9e-45b8-42c2-bc4a-c76fe52a97ea | B836: 9702040005 | C836: PAPUA PEGUNUNGAN | D836: JAYAWIJAYA | E836: TRIKORA | F836: KORAMBIRIK | G836: 100 | H836: desa ini ke kantor camat harus naik helikopter | I836: W2_r902ak7 | J836: =CONCATENATE(LEFT(B836,4),"-",D836) -> 9702-JAYAWIJAYA | K836: =IF(G836>0,1,0) -> 1
A837: https://fasih-sm.bps.go.id/survey-collection/assignment-detail/c3d83f3b-641b-41fb-b0c1-cd451bc82c98/345cbe9e-45b8-42c2-bc4a-c76fe52a97ea | B837: 9706050005 | C837: PAPUA PEGUNUNGAN | D837: YALIMO | E837: BENAWA | F837: LULUM | G837: 100 | H837: desa ini jauh dari kantor camat sehingga akses yang ditempuh harus menggunakan pesawat | I837: W2_r902ak7 | J837: =CONCATENATE(LEFT(B837,4),"-",D837) -> 9706-YALIMO | K837: =IF(G837>0,1,0) -> 1
A838: https://fasih-sm.bps.go.id/survey-collection/assignment-detail/52499d2c-9e7c-464f-9303-30fbd0962eef/345cbe9e-45b8-42c2-bc4a-c76fe52a97ea | B838: 9408070021 | C838: PAPUA | D838: KEPULAUAN YAPEN | E838: YAPEN BARAT | F838: TOWETA | G838: 83.33 | I838: W_r902a | J838: =CONCATENATE(LEFT(B838,4),"-",D838) -> 9408-KEPULAUAN YAPEN | K838: =IF(G838>0,1,0) -> 1
A839: https://fasih-sm.bps.go.id/survey-collection/assignment-detail/81f9411c-d122-460f-9eb7-d67430c9ce7f/345cbe9e-45b8-42c2-bc4a-c76fe52a97ea | B839: 9408070022 | C839: PAPUA | D839: KEPULAUAN YAPEN | E839: YAPEN BARAT | F839: MOIWANI | G839: 83.33 | I839: W_r902a | J839: =CONCATENATE(LEFT(B839,4),"-",D839) -> 9408-KEPULAUAN YAPEN | K839: =IF(G839>0,1,0) -> 1
A840: https://fasih-sm.bps.go.id/survey-collection/assignment-detail/942e777b-b57e-4ed9-8a18-c3f9fa91ab92/345cbe9e-45b8-42c2-bc4a-c76fe52a97ea | B840: 9504060004 | C840: PAPUA SELATAN | D840: ASMAT | E840: ASWI | F840: TAURO | G840: 83.33 | I840: W_r902a | J840: =CONCATENATE(LEFT(B840,4),"-",D840) -> 9504-ASMAT | K840: =IF(G840>0,1,0) -> 1
A841: https://fasih-sm.bps.go.id/survey-collection/assignment-detail/2f4b9f51-f4a6-4d7a-b417-b6877647ae1b/345cbe9e-45b8-42c2-bc4a-c76fe52a97ea | B841: 9702080002 | C841: PAPUA PEGUNUNGAN | D841: JAYAWIJAYA | E841: WALESI | F841: YAGARA | G841: 83.33 | I841: W_r902a | J841: =CONCATENATE(LEFT(B841,4),"-",D841) -> 9702-JAYAWIJAYA | K841: =IF(G841>0,1,0) -> 1
A842: https://fasih-sm.bps.go.id/survey-collection/assignment-detail/6026e2b6-0e94-4c88-8920-fa029ddb78be/345cbe9e-45b8-42c2-bc4a-c76fe52a97ea | B842: 9702250003 | C842: PAPUA PEGUNUNGAN | D842: JAYAWIJAYA | E842: LIBAREK | F842: KILUBAGA | G842: 66.67 | I842: W_r902a | J842: =CONCATENATE(LEFT(B842,4),"-",D842) -> 9702-JAYAWIJAYA | K842: =IF(G842>0,1,0) -> 1
A843: https://fasih-sm.bps.go.id/survey-collection/assignment-detail/2678e819-8e41-4292-bdb9-4b5626aea048/345cbe9e-45b8-42c2-bc4a-c76fe52a97ea | B843: 9403081001 | C843: PAPUA | D843: JAYAPURA | E843: AIRU | F843: PAGAI | G843: 100 | I843: W2_r902bk7 | J843: =CONCATENATE(LEFT(B843,4),"-",D843) -> 9403-JAYAPURA | K843: =IF(G843>0,1,0) -> 1
A844: https://fasih-sm.bps.go.id/survey-collection/assignment-detail/03b8c98b-44cd-46cb-bc6e-fbea2069b087/345cbe9e-45b8-42c2-bc4a-c76fe52a97ea | B844: 9403081002 | C844: PAPUA | D844: JAYAPURA | E844: AIRU | F844: HULU ATAS | G844: 100 | I844: W2_r902bk7 | J844: =CONCATENATE(LEFT(B844,4),"-",D844) -> 9403-JAYAPURA | K844: =IF(G844>0,1,0) -> 1
A845: https://fasih-sm.bps.go.id/survey-collection/assignment-detail/2ea8b1db-adcf-4c4e-99c5-62742c32edcc/345cbe9e-45b8-42c2-bc4a-c76fe52a97ea | B845: 9403081003 | C845: PAPUA | D845: JAYAPURA | E845: AIRU | F845: AURINA | G845: 100 | I845: W2_r902bk7 | J845: =CONCATENATE(LEFT(B845,4),"-",D845) -> 9403-JAYAPURA | K845: =IF(G845>0,1,0) -> 1
A846: https://fasih-sm.bps.go.id/survey-collection/assignment-detail/9469a5c1-c933-4d83-9a1d-2bf0227d2d49/345cbe9e-45b8-42c2-bc4a-c76fe52a97ea | B846: 9403081004 | C846: PAPUA | D846: JAYAPURA | E846: AIRU | F846: MUARA NAWA | G846: 100 | I846: W2_r902bk7 | J846: =CONCATENATE(LEFT(B846,4),"-",D846) -> 9403-JAYAPURA | K846: =IF(G846>0,1,0) -> 1
A847: https://fasih-sm.bps.go.id/survey-collection/assignment-detail/a8234ccc-97fa-4079-b1bc-5ab2d41c9cf3/345cbe9e-45b8-42c2-bc4a-c76fe52a97ea | B847: 9403081005 | C847: PAPUA | D847: JAYAPURA | E847: AIRU | F847: KAMIKARU | G847: 100 | I847: W2_r902bk7 | J847: =CONCATENATE(LEFT(B847,4),"-",D847) -> 9403-JAYAPURA | K847: =IF(G847>0,1,0) -> 1
A848: https://fasih-sm.bps.go.id/survey-collection/assignment-detail/154949d7-b545-4aa9-bf74-8d5afe1b37ec/345cbe9e-45b8-42c2-bc4a-c76fe52a97ea | B848: 9403081006 | C848: PAPUA | D848: JAYAPURA | E848: AIRU | F848: NAIRA | G848: 100 | I848: W2_r902bk7 | J848: =CONCATENATE(LEFT(B848,4),"-",D848) -> 9403-JAYAPURA | K848: =IF(G848>0,1,0) -> 1
A849: https://fasih-sm.bps.go.id/survey-collection/assignment-detail/354a2226-b287-476b-99ae-196064a39b26/345cbe9e-45b8-42c2-bc4a-c76fe52a97ea | B849: 9408071002 | C849: PAPUA | D849: KEPULAUAN YAPEN | E849: WONAWA | F849: WOINAP | G849: 100 | H849: wilayah sulit dan hanya bisa menggunakan jalur laut, speed pribadi/charter. | I849: W2_r902bk7 | J849: =CONCATENATE(LEFT(B849,4),"-",D849) -> 9408-KEPULAUAN YAPEN | K849: =IF(G849>0,1,0) -> 1
A850: https://fasih-sm.bps.go.id/survey-collection/assignment-detail/b88ab6ea-f4f5-4842-bd0a-5d8feb94585c/345cbe9e-45b8-42c2-bc4a-c76fe52a97ea | B850: 9408071007 | C850: PAPUA | D850: KEPULAUAN YAPEN | E850: WONAWA | F850: KAREMONI | G850: 100 | H850: wilayah sulit dan hanya bisa menggunakan jalur laut, speed pribadi/charter. | I850: W2_r902bk7 | J850: =CONCATENATE(LEFT(B850,4),"-",D850) -> 9408-KEPULAUAN YAPEN | K850: =IF(G850>0,1,0) -> 1
A851: https://fasih-sm.bps.go.id/survey-collection/assignment-detail/943c05db-20bf-49be-928f-64a40806f75e/345cbe9e-45b8-42c2-bc4a-c76fe52a97ea | B851: 9408071009 | C851: PAPUA | D851: KEPULAUAN YAPEN | E851: WONAWA | F851: HAIHOREI | G851: 100 | H851: wilayah sulit dan hanya bisa menggunakan jalur laut, speed pribadi/charter. | I851: W2_r902bk7 | J851: =CONCATENATE(LEFT(B851,4),"-",D851) -> 9408-KEPULAUAN YAPEN | K851: =IF(G851>0,1,0) -> 1
A852: https://fasih-sm.bps.go.id/survey-collection/assignment-detail/5af2469b-ce90-4606-b0de-dc9e578cd83b/345cbe9e-45b8-42c2-bc4a-c76fe52a97ea | B852: 9408071010 | C852: PAPUA | D852: KEPULAUAN YAPEN | E852: WONAWA | F852: JAMARIA | G852: 100 | H852: wilayah sulit dan hanya bisa menggunakan jalur laut, speed pribadi/charter. | I852: W2_r902bk7 | J852: =CONCATENATE(LEFT(B852,4),"-",D852) -> 9408-KEPULAUAN YAPEN | K852: =IF(G852>0,1,0) -> 1
A853: https://fasih-sm.bps.go.id/survey-collection/assignment-detail/9ae36b56-93a6-42b5-9ddd-167a995f319c/345cbe9e-45b8-42c2-bc4a-c76fe52a97ea | B853: 9408071011 | C853: PAPUA | D853: KEPULAUAN YAPEN | E853: WONAWA | F853: AWADO | G853: 100 | H853: wilayah sulit dan hanya bisa menggunakan jalur laut, speed pribadi/charter. | I853: W2_r902bk7 | J853: =CONCATENATE(LEFT(B853,4),"-",D853) -> 9408-KEPULAUAN YAPEN | K853: =IF(G853>0,1,0) -> 1
A854: https://fasih-sm.bps.go.id/survey-collection/assignment-detail/989465ed-bd26-4d71-ab9f-88754530b42c/345cbe9e-45b8-42c2-bc4a-c76fe52a97ea | B854: 9408072001 | C854: PAPUA | D854: KEPULAUAN YAPEN | E854: PULAU YERUI | F854: MIOSNUM | G854: 100 | H854: wilayah sulit dan hanya bisa menggunakan jalur laut, speed pribadi/charter. | I854: W2_r902bk7 | J854: =CONCATENATE(LEFT(B854,4),"-",D854) -> 9408-KEPULAUAN YAPEN | K854: =IF(G854>0,1,0) -> 1
A855: https://fasih-sm.bps.go.id/survey-collection/assignment-detail/45354070-e5ba-49a8-8c2f-412b5ce306ca/345cbe9e-45b8-42c2-bc4a-c76fe52a97ea | B855: 9408072002 | C855: PAPUA | D855: KEPULAUAN YAPEN | E855: PULAU YERUI | F855: JENIARI | G855: 100 | H855: wilayah sulit dan hanya bisa menggunakan jalur laut, speed pribadi/charter. | I855: W2_r902bk7 | J855: =CONCATENATE(LEFT(B855,4),"-",D855) -> 9408-KEPULAUAN YAPEN | K855: =IF(G855>0,1,0) -> 1
...

Sheet konsistensi3_kirim
A1: url | B1: kode_desa | C1: nama_prov | D1: nama_kab | E1: nama_kec | F1: nama_desa | G1: progres | H1: catatan | I1: nama_sheet | J1: kode_kab | K1: konfirmasi
A2: https://fasih-sm.bps.go.id/survey-collection/assignment-detail/3dcad188-c95c-4963-8ccd-647a11968df6/345cbe9e-45b8-42c2-bc4a-c76fe52a97ea | B2: 9502160004 | C2: PAPUA SELATAN | D2: BOVEN DIGOEL | E2: FIRIWAGE | F2: KABUWAGE | G2: 20 | H2: karena isian 902ak2nya berubah maka isian 902ak3 dan 4nya dibuat missing | I2: E_r902ak2 | J2: =CONCATENATE(LEFT(B2,4),"-",D2) -> 9502-BOVEN DIGOEL | K2: =IF(G2>0,1,0) -> 1
A3: https://fasih-sm.bps.go.id/survey-collection/assignment-detail/606b2b75-7caf-45b4-826d-464610b3632b/345cbe9e-45b8-42c2-bc4a-c76fe52a97ea | B3: 9607110011 | C3: PAPUA TENGAH | D3: PUNCAK | E3: OMUKIA | F3: DOMAOA | G3: 40 | H3: karena isian 902ak2nya berubah maka isian 902ak3 dan 4nya dibuat missing | I3: E_r902ak2 | J3: =CONCATENATE(LEFT(B3,4),"-",D3) -> 9607-PUNCAK | K3: =IF(G3>0,1,0) -> 1
A4: https://fasih-sm.bps.go.id/survey-collection/assignment-detail/47c8efcc-4e11-40aa-a55b-f864cb36a6c7/345cbe9e-45b8-42c2-bc4a-c76fe52a97ea | B4: 9607110012 | C4: PAPUA TENGAH | D4: PUNCAK | E4: OMUKIA | F4: PUNGTRAMA | G4: 40 | H4: karena isian 902ak2nya berubah maka isian 902ak3 dan 4nya dibuat missing | I4: E_r902ak2 | J4: =CONCATENATE(LEFT(B4,4),"-",D4) -> 9607-PUNCAK | K4: =IF(G4>0,1,0) -> 1
A5: https://fasih-sm.bps.go.id/survey-collection/assignment-detail/2223a040-1419-4b80-988d-dbbc3fa89a37/345cbe9e-45b8-42c2-bc4a-c76fe52a97ea | B5: 9607110013 | C5: PAPUA TENGAH | D5: PUNCAK | E5: OMUKIA | F5: BALAMAGALAMA | G5: 40 | H5: karena isian 902ak2nya berubah maka isian 902ak3 dan 4nya dibuat missing | I5: E_r902ak2 | J5: =CONCATENATE(LEFT(B5,4),"-",D5) -> 9607-PUNCAK | K5: =IF(G5>0,1,0) -> 1
A6: https://fasih-sm.bps.go.id/survey-collection/assignment-detail/6026e2b6-0e94-4c88-8920-fa029ddb78be/345cbe9e-45b8-42c2-bc4a-c76fe52a97ea | B6: 9702250003 | C6: PAPUA PEGUNUNGAN | D6: JAYAWIJAYA | E6: LIBAREK | F6: KILUBAGA | G6: 40 | H6: karena isian 902ak2nya berubah maka isian 902ak3 dan 4nya dibuat missing | I6: E_r902ak2 | J6: =CONCATENATE(LEFT(B6,4),"-",D6) -> 9702-JAYAWIJAYA | K6: =IF(G6>0,1,0) -> 1
A7: https://fasih-sm.bps.go.id/survey-collection/assignment-detail/3ea90f05-e752-4864-a521-eede18d8f7cd/345cbe9e-45b8-42c2-bc4a-c76fe52a97ea | B7: 9702250004 | C7: PAPUA PEGUNUNGAN | D7: JAYAWIJAYA | E7: LIBAREK | F7: MUSALFAK | G7: 40 | H7: karena isian 902ak2nya berubah maka isian 902ak3 dan 4nya dibuat missing | I7: E_r902ak2 | J7: =CONCATENATE(LEFT(B7,4),"-",D7) -> 9702-JAYAWIJAYA | K7: =IF(G7>0,1,0) -> 1
A8: https://fasih-sm.bps.go.id/survey-collection/assignment-detail/07aa287c-f53f-4e3a-98c1-e611fbdc0ead/345cbe9e-45b8-42c2-bc4a-c76fe52a97ea | B8: 9420040021 | C8: PAPUA | D8: KEEROM | E8: ARSO | F8: SAWABUM | G8: 50 | H8: jalan kaki tidak boleh ada biaya, apakah ada menggunakan transportasi lain? | I8: E1_r902ak7 | J8: =CONCATENATE(LEFT(B8,4),"-",D8) -> 9420-KEEROM | K8: =IF(G8>0,1,0) -> 1
A9: https://fasih-sm.bps.go.id/survey-collection/assignment-detail/61c7bc05-833b-4dee-ad28-a253b0db1435/345cbe9e-45b8-42c2-bc4a-c76fe52a97ea | B9: 9504080004 | C9: PAPUA SELATAN | D9: ASMAT | E9: BECTBAMU | F9: BIWAR LAUT | G9: 25 | H9: r902ak2 wajib ada isian | I9: E1_r902ak7 | J9: =CONCATENATE(LEFT(B9,4),"-",D9) -> 9504-ASMAT | K9: =IF(G9>0,1,0) -> 1
A10: https://fasih-sm.bps.go.id/survey-collection/assignment-detail/2f8fd59d-a3e3-4013-b94d-213bf18bad36/345cbe9e-45b8-42c2-bc4a-c76fe52a97ea | B10: 9504090002 | C10: PAPUA SELATAN | D10: ASMAT | E10: ATSY | F10: YASIU/YAISU | G10: 25 | H10: r902ak2 wajib ada isian | I10: E1_r902ak7 | J10: =CONCATENATE(LEFT(B10,4),"-",D10) -> 9504-ASMAT | K10: =IF(G10>0,1,0) -> 1
A11: https://fasih-sm.bps.go.id/survey-collection/assignment-detail/e6e71bc5-62cb-4b25-b1c7-4f1ce5503a9a/345cbe9e-45b8-42c2-bc4a-c76fe52a97ea | B11: 9504160004 | C11: PAPUA SELATAN | D11: ASMAT | E11: JOERAT | F11: ONAVAI | G11: 50 | I11: E1_r902ak7 | J11: =CONCATENATE(LEFT(B11,4),"-",D11) -> 9504-ASMAT | K11: =IF(G11>0,1,0) -> 1
A12: https://fasih-sm.bps.go.id/survey-collection/assignment-detail/99d399f8-e88b-46ef-9bb7-84768e113de2/345cbe9e-45b8-42c2-bc4a-c76fe52a97ea | B12: 9604030004 | C12: PAPUA TENGAH | D12: NABIRE | E12: SIRIWO | F12: SIRIWO/ UNIPO | G12: 50 | H12: jalan kaki tidak boleh ada biaya, apakah ada menggunakan transportasi lain? | I12: E1_r902ak7 | J12: =CONCATENATE(LEFT(B12,4),"-",D12) -> 9604-NABIRE | K12: =IF(G12>0,1,0) -> 1
A13: https://fasih-sm.bps.go.id/survey-collection/assignment-detail/9d70fd11-d051-4dae-be80-94773d53175b/345cbe9e-45b8-42c2-bc4a-c76fe52a97ea | B13: 9701180005 | C13: PAPUA PEGUNUNGAN | D13: NDUGA | E13: MUGI | F13: WUNDUI | G13: 50 | I13: E1_r902ak7 | J13: =CONCATENATE(LEFT(B13,4),"-",D13) -> 9701-NDUGA | K13: =IF(G13>0,1,0) -> 1
A14: https://fasih-sm.bps.go.id/survey-collection/assignment-detail/d1c3ae71-696c-466d-a9b6-6e9a87200106/345cbe9e-45b8-42c2-bc4a-c76fe52a97ea | B14: 9702040001 | C14: PAPUA PEGUNUNGAN | D14: JAYAWIJAYA | E14: TRIKORA | F14: TRIKORA | G14: 50 | I14: E1_r902ak7 | J14: =CONCATENATE(LEFT(B14,4),"-",D14) -> 9702-JAYAWIJAYA | K14: =IF(G14>0,1,0) -> 1
A15: https://fasih-sm.bps.go.id/survey-collection/assignment-detail/b279538e-e788-426a-ac9f-0693b49d3243/345cbe9e-45b8-42c2-bc4a-c76fe52a97ea | B15: 9702040002 | C15: PAPUA PEGUNUNGAN | D15: JAYAWIJAYA | E15: TRIKORA | F15: NANGGO | G15: 50 | I15: E1_r902ak7 | J15: =CONCATENATE(LEFT(B15,4),"-",D15) -> 9702-JAYAWIJAYA | K15: =IF(G15>0,1,0) -> 1
A16: https://fasih-sm.bps.go.id/survey-collection/assignment-detail/fc6ee309-15ee-48e6-b2e2-484b2d7e9b92/345cbe9e-45b8-42c2-bc4a-c76fe52a97ea | B16: 9702040003 | C16: PAPUA PEGUNUNGAN | D16: JAYAWIJAYA | E16: TRIKORA | F16: DINGGILMO | G16: 50 | I16: E1_r902ak7 | J16: =CONCATENATE(LEFT(B16,4),"-",D16) -> 9702-JAYAWIJAYA | K16: =IF(G16>0,1,0) -> 1
A17: https://fasih-sm.bps.go.id/survey-collection/assignment-detail/7c082a71-c92d-4c5e-893f-91c4db3483fa/345cbe9e-45b8-42c2-bc4a-c76fe52a97ea | B17: 9702040004 | C17: PAPUA PEGUNUNGAN | D17: JAYAWIJAYA | E17: TRIKORA | F17: KORA JAYA | G17: 50 | I17: E1_r902ak7 | J17: =CONCATENATE(LEFT(B17,4),"-",D17) -> 9702-JAYAWIJAYA | K17: =IF(G17>0,1,0) -> 1
A18: https://fasih-sm.bps.go.id/survey-collection/assignment-detail/58fef605-9db4-48e7-8154-28a45be6563a/345cbe9e-45b8-42c2-bc4a-c76fe52a97ea | B18: 9702040005 | C18: PAPUA PEGUNUNGAN | D18: JAYAWIJAYA | E18: TRIKORA | F18: KORAMBIRIK | G18: 50 | I18: E1_r902ak7 | J18: =CONCATENATE(LEFT(B18,4),"-",D18) -> 9702-JAYAWIJAYA | K18: =IF(G18>0,1,0) -> 1
A19: https://fasih-sm.bps.go.id/survey-collection/assignment-detail/03014e21-a9a1-4f80-8c23-d2a8be7afe35/345cbe9e-45b8-42c2-bc4a-c76fe52a97ea | B19: 9702040006 | C19: PAPUA PEGUNUNGAN | D19: JAYAWIJAYA | E19: TRIKORA | F19: ANGGULPA | G19: 50 | I19: E1_r902ak7 | J19: =CONCATENATE(LEFT(B19,4),"-",D19) -> 9702-JAYAWIJAYA | K19: =IF(G19>0,1,0) -> 1
A20: https://fasih-sm.bps.go.id/survey-collection/assignment-detail/80c126c1-efab-440a-8945-eb5d1784eda5/345cbe9e-45b8-42c2-bc4a-c76fe52a97ea | B20: 9702210001 | C20: PAPUA PEGUNUNGAN | D20: JAYAWIJAYA | E20: WAME | F20: DOGONAME | G20: 50 | I20: E1_r902ak7 | J20: =CONCATENATE(LEFT(B20,4),"-",D20) -> 9702-JAYAWIJAYA | K20: =IF(G20>0,1,0) -> 1
A21: https://fasih-sm.bps.go.id/survey-collection/assignment-detail/3d5e21b3-83e6-44e8-a3e1-b6d9b1272afe/345cbe9e-45b8-42c2-bc4a-c76fe52a97ea | B21: 9702210002 | C21: PAPUA PEGUNUNGAN | D21: JAYAWIJAYA | E21: WAME | F21: YANENGGAME | G21: 50 | I21: E1_r902ak7 | J21: =CONCATENATE(LEFT(B21,4),"-",D21) -> 9702-JAYAWIJAYA | K21: =IF(G21>0,1,0) -> 1
A22: https://fasih-sm.bps.go.id/survey-collection/assignment-detail/9087ed92-7b18-4b93-9482-44c6164aabfa/345cbe9e-45b8-42c2-bc4a-c76fe52a97ea | B22: 9702210004 | C22: PAPUA PEGUNUNGAN | D22: JAYAWIJAYA | E22: WAME | F22: WAME | G22: 50 | I22: E1_r902ak7 | J22: =CONCATENATE(LEFT(B22,4),"-",D22) -> 9702-JAYAWIJAYA | K22: =IF(G22>0,1,0) -> 1
A23: https://fasih-sm.bps.go.id/survey-collection/assignment-detail/4a4f92b1-48d4-4a91-a025-5ff0c5a7ed63/345cbe9e-45b8-42c2-bc4a-c76fe52a97ea | B23: 9702220001 | C23: PAPUA PEGUNUNGAN | D23: JAYAWIJAYA | E23: KURULU | F23: OBYA | G23: 50 | I23: E1_r902ak7 | J23: =CONCATENATE(LEFT(B23,4),"-",D23) -> 9702-JAYAWIJAYA | K23: =IF(G23>0,1,0) -> 1
A24: https://fasih-sm.bps.go.id/survey-collection/assignment-detail/8e6a3cb3-5a24-4fc4-9b78-5fdb5a0936f0/345cbe9e-45b8-42c2-bc4a-c76fe52a97ea | B24: 9702220002 | C24: PAPUA PEGUNUNGAN | D24: JAYAWIJAYA | E24: KURULU | F24: MEBAGAIMA | G24: 50 | I24: E1_r902ak7 | J24: =CONCATENATE(LEFT(B24,4),"-",D24) -> 9702-JAYAWIJAYA | K24: =IF(G24>0,1,0) -> 1
... A163: https://fasih-sm.bps.go.id/survey-collection/assignment-detail/e85d4b5a-19b2-4d01-85be-170e64389c0d/345cbe9e-45b8-42c2-bc4a-c76fe52a97ea | B163: 9703380003 | C163: PAPUA PEGUNUNGAN | D163: LANNY JAYA | E163: POGA | F163: BINIPAGA | G163: 40 | I163: E_r902bk2 | J163: =CONCATENATE(LEFT(B163,4),"-",D163) -> 9703-LANNY JAYA | K163: =IF(G163>0,1,0) -> 1
A164: https://fasih-sm.bps.go.id/survey-collection/assignment-detail/8b58fcfb-75c4-4838-a86a-8191edacffd1/345cbe9e-45b8-42c2-bc4a-c76fe52a97ea | B164: 9706010001 | C164: PAPUA PEGUNUNGAN | D164: YALIMO | E164: WELAREK | F164: SALY | G164: 100 | H164: r901c2 harusnya terisi kode jawaban 1 atau 2 | I164: E_r902bk2 | J164: =CONCATENATE(LEFT(B164,4),"-",D164) -> 9706-YALIMO | K164: =IF(G164>0,1,0) -> 1
A165: https://fasih-sm.bps.go.id/survey-collection/assignment-detail/9553cbe9-90f4-4708-9ddb-a066e0398cd3/345cbe9e-45b8-42c2-bc4a-c76fe52a97ea | B165: 9706010002 | C165: PAPUA PEGUNUNGAN | D165: YALIMO | E165: WELAREK | F165: MABUALEM | G165: 100 | H165: r901c2 harusnya terisi kode jawaban 1 atau 3 | I165: E_r902bk2 | J165: =CONCATENATE(LEFT(B165,4),"-",D165) -> 9706-YALIMO | K165: =IF(G165>0,1,0) -> 1
A166: https://fasih-sm.bps.go.id/survey-collection/assignment-detail/b2b6cc22-0b82-4ddd-98da-08a32cc07cbd/345cbe9e-45b8-42c2-bc4a-c76fe52a97ea | B166: 9706010003 | C166: PAPUA PEGUNUNGAN | D166: YALIMO | E166: WELAREK | F166: WERENGGIK | G166: 100 | H166: r901c2 harusnya terisi kode jawaban 1 atau 4 | I166: E_r902bk2 | J166: =CONCATENATE(LEFT(B166,4),"-",D166) -> 9706-YALIMO | K166: =IF(G166>0,1,0) -> 1
A167: https://fasih-sm.bps.go.id/survey-collection/assignment-detail/c1b22733-a1c8-47bd-930f-1d8cd40325fe/345cbe9e-45b8-42c2-bc4a-c76fe52a97ea | B167: 9706010005 | C167: PAPUA PEGUNUNGAN | D167: YALIMO | E167: WELAREK | F167: PISANGGO | G167: 100 | H167: r901c2 harusnya terisi kode jawaban 1 atau 5 | I167: E_r902bk2 | J167: =CONCATENATE(LEFT(B167,4),"-",D167) -> 9706-YALIMO | K167: =IF(G167>0,1,0) -> 1
A168: https://fasih-sm.bps.go.id/survey-collection/assignment-detail/589fd0f0-249b-476e-859a-67dc607dc11a/345cbe9e-45b8-42c2-bc4a-c76fe52a97ea | B168: 9706010006 | C168: PAPUA PEGUNUNGAN | D168: YALIMO | E168: WELAREK | F168: SALEMA | G168: 100 | H168: r901c2 harusnya terisi kode jawaban 1 atau 6 | I168: E_r902bk2 | J168: =CONCATENATE(LEFT(B168,4),"-",D168) -> 9706-YALIMO | K168: =IF(G168>0,1,0) -> 1
A169: https://fasih-sm.bps.go.id/survey-collection/assignment-detail/0f0da682-c558-424a-864e-ee375676bf0d/345cbe9e-45b8-42c2-bc4a-c76fe52a97ea | B169: 9706010010 | C169: PAPUA PEGUNUNGAN | D169: YALIMO | E169: WELAREK | F169: PIRANG | G169: 100 | H169: r901c2 harusnya terisi kode jawaban 1 atau 7 | I169: E_r902bk2 | J169: =CONCATENATE(LEFT(B169,4),"-",D169) -> 9706-YALIMO | K169: =IF(G169>0,1,0) -> 1
A170: https://fasih-sm.bps.go.id/survey-collection/assignment-detail/0f6d0cdc-5ad5-40dd-a0e7-08a9874976ac/345cbe9e-45b8-42c2-bc4a-c76fe52a97ea | B170: 9706010013 | C170: PAPUA PEGUNUNGAN | D170: YALIMO | E170: WELAREK | F170: IRAREK | G170: 100 | H170: r901c2 harusnya terisi kode jawaban 1 atau 8 | I170: E_r902bk2 | J170: =CONCATENATE(LEFT(B170,4),"-",D170) -> 9706-YALIMO | K170: =IF(G170>0,1,0) -> 1
A171: https://fasih-sm.bps.go.id/survey-collection/assignment-detail/529a445d-cfec-46c1-973f-eb19c05698e3/345cbe9e-45b8-42c2-bc4a-c76fe52a97ea | B171: 9706010016 | C171: PAPUA PEGUNUNGAN | D171: YALIMO | E171: WELAREK | F171: ULUM | G171: 100 | H171: r901c2 harusnya terisi kode jawaban 1 atau 9 | I171: E_r902bk2 | J171: =CONCATENATE(LEFT(B171,4),"-",D171) -> 9706-YALIMO | K171: =IF(G171>0,1,0) -> 1
A172: https://fasih-sm.bps.go.id/survey-collection/assignment-detail/b97f79be-cdd8-4535-8115-73417ee357f7/345cbe9e-45b8-42c2-bc4a-c76fe52a97ea | B172: 9706010022 | C172: PAPUA PEGUNUNGAN | D172: YALIMO | E172: WELAREK | F172: SILFAL | G172: 100 | H172: r901c2 harusnya terisi kode jawaban 1 atau 10 | I172: E_r902bk2 | J172: =CONCATENATE(LEFT(B172,4),"-",D172) -> 9706-YALIMO | K172: =IF(G172>0,1,0) -> 1
A173: https://fasih-sm.bps.go.id/survey-collection/assignment-detail/a5f7b380-c29d-4a83-b775-33a9349807e7/345cbe9e-45b8-42c2-bc4a-c76fe52a97ea | B173: 9706010031 | C173: PAPUA PEGUNUNGAN | D173: YALIMO | E173: WELAREK | F173: WELAREKPUNU | G173: 100 | H173: r901c2 harusnya terisi kode jawaban 1 atau 11 | I173: E_r902bk2 | J173: =CONCATENATE(LEFT(B173,4),"-",D173) -> 9706-YALIMO | K173: =IF(G173>0,1,0) -> 1
A174: https://fasih-sm.bps.go.id/survey-collection/assignment-detail/18177a28-f169-40bb-ab24-1b76c6dd0e96/345cbe9e-45b8-42c2-bc4a-c76fe52a97ea | B174: 9706010035 | C174: PAPUA PEGUNUNGAN | D174: YALIMO | E174: WELAREK | F174: KAMPOL | G174: 100 | H174: r901c2 harusnya terisi kode jawaban 1 atau 12 | I174: E_r902bk2 | J174: =CONCATENATE(LEFT(B174,4),"-",D174) -> 9706-YALIMO | K174: =IF(G174>0,1,0) -> 1
A175: https://fasih-sm.bps.go.id/survey-collection/assignment-detail/94afb8cd-24c2-44c4-9ea6-1d4e68bdd4fe/345cbe9e-45b8-42c2-bc4a-c76fe52a97ea | B175: 9707090001 | C175: PAPUA PEGUNUNGAN | D175: YAHUKIMO | E175: SILIMO | F175: MOMNOAK | G175: 40 | I175: E_r902bk2 | J175: =CONCATENATE(LEFT(B175,4),"-",D175) -> 9707-YAHUKIMO | K175: =IF(G175>0,1,0) -> 1
A176: https://fasih-sm.bps.go.id/survey-collection/assignment-detail/979cd318-3464-424d-a334-e3bfcee18acc/345cbe9e-45b8-42c2-bc4a-c76fe52a97ea | B176: 9707090002 | C176: PAPUA PEGUNUNGAN | D176: YAHUKIMO | E176: SILIMO | F176: EKSA | G176: 40 | I176: E_r902bk2 | J176: =CONCATENATE(LEFT(B176,4),"-",D176) -> 9707-YAHUKIMO | K176: =IF(G176>0,1,0) -> 1
A177: https://fasih-sm.bps.go.id/survey-collection/assignment-detail/aa40b4a9-936c-4db3-aefd-8622d9f21a4d/345cbe9e-45b8-42c2-bc4a-c76fe52a97ea | B177: 9707090003 | C177: PAPUA PEGUNUNGAN | D177: YAHUKIMO | E177: SILIMO | F177: SILIMO | G177: 40 | I177: E_r902bk2 | J177: =CONCATENATE(LEFT(B177,4),"-",D177) -> 9707-YAHUKIMO | K177: =IF(G177>0,1,0) -> 1
A178: https://fasih-sm.bps.go.id/survey-collection/assignment-detail/57f65473-1fbc-42f0-a519-aed31f365e07/345cbe9e-45b8-42c2-bc4a-c76fe52a97ea | B178: 9707090004 | C178: PAPUA PEGUNUNGAN | D178: YAHUKIMO | E178: SILIMO | F178: SILOMA | G178: 40 | I178: E_r902bk2 | J178: =CONCATENATE(LEFT(B178,4),"-",D178) -> 9707-YAHUKIMO | K178: =IF(G178>0,1,0) -> 1
A179: https://fasih-sm.bps.go.id/survey-collection/assignment-detail/7a7260fb-4e91-4445-ba9d-9df2bdb1e924/345cbe9e-45b8-42c2-bc4a-c76fe52a97ea | B179: 9707090005 | C179: PAPUA PEGUNUNGAN | D179: YAHUKIMO | E179: SILIMO | F179: WALKRUK | G179: 40 | I179: E_r902bk2 | J179: =CONCATENATE(LEFT(B179,4),"-",D179) -> 9707-YAHUKIMO | K179: =IF(G179>0,1,0) -> 1
A180: https://fasih-sm.bps.go.id/survey-collection/assignment-detail/94fc68bb-c6fd-4f47-a7b1-c7a942676abe/345cbe9e-45b8-42c2-bc4a-c76fe52a97ea | B180: 9707090006 | C180: PAPUA PEGUNUNGAN | D180: YAHUKIMO | E180: SILIMO | F180: SODULE | G180: 40 | I180: E_r902bk2 | J180: =CONCATENATE(LEFT(B180,4),"-",D180) -> 9707-YAHUKIMO | K180: =IF(G180>0,1,0) -> 1
A181: https://fasih-sm.bps.go.id/survey-collection/assignment-detail/7305da66-0ff1-4851-a005-29ffc6e6c81a/345cbe9e-45b8-42c2-bc4a-c76fe52a97ea | B181: 9707090007 | C181: PAPUA PEGUNUNGAN | D181: YAHUKIMO | E181: SILIMO | F181: SAGADUK | G181: 40 | I181: E_r902bk2 | J181: =CONCATENATE(LEFT(B181,4),"-",D181) -> 9707-YAHUKIMO | K181: =IF(G181>0,1,0) -> 1
A182: https://fasih-sm.bps.go.id/survey-collection/assignment-detail/e8c59552-99fb-4c2c-8502-e6fdb01a6d41/345cbe9e-45b8-42c2-bc4a-c76fe52a97ea | B182: 9707090008 | C182: PAPUA PEGUNUNGAN | D182: YAHUKIMO | E182: SILIMO | F182: ASIA | G182: 40 | I182: E_r902bk2 | J182: =CONCATENATE(LEFT(B182,4),"-",D182) -> 9707-YAHUKIMO | K182: =IF(G182>0,1,0) -> 1
A183: https://fasih-sm.bps.go.id/survey-collection/assignment-detail/3ac0a24c-77e1-471f-bfb6-ed49a5ef8b20/345cbe9e-45b8-42c2-bc4a-c76fe52a97ea | B183: 9707090009 | C183: PAPUA PEGUNUNGAN | D183: YAHUKIMO | E183: SILIMO | F183: SUET | G183: 40 | I183: E_r902bk2 | J183: =CONCATENATE(LEFT(B183,4),"-",D183) -> 9707-YAHUKIMO | K183: =IF(G183>0,1,0) -> 1
A184: https://fasih-sm.bps.go.id/survey-collection/assignment-detail/27c76d1b-449d-4a00-9abe-7b55a55e5ac9/345cbe9e-45b8-42c2-bc4a-c76fe52a97ea | B184: 9707090010 | C184: PAPUA PEGUNUNGAN | D184: YAHUKIMO | E184: SILIMO | F184: NIKILEI | G184: 40 | I184: E_r902bk2 | J184: =CONCATENATE(LEFT(B184,4),"-",D184) -> 9707-YAHUKIMO | K184: =IF(G184>0,1,0) -> 1
A185: https://fasih-sm.bps.go.id/survey-collection/assignment-detail/0b043bd9-d3a5-4ffd-92bc-e24c5939f90d/345cbe9e-45b8-42c2-bc4a-c76fe52a97ea | B185: 9707090011 | C185: PAPUA PEGUNUNGAN | D185: YAHUKIMO | E185: SILIMO | F185: SUOK | G185: 40 | I185: E_r902bk2 | J185: =CONCATENATE(LEFT(B185,4),"-",D185) -> 9707-YAHUKIMO | K185: =IF(G185>0,1,0) -> 1
A186: https://fasih-sm.bps.go.id/survey-collection/assignment-detail/f28d66b7-9823-4ab1-8c6b-6b939c3c26e1/345cbe9e-45b8-42c2-bc4a-c76fe52a97ea | B186: 9707090012 | C186: PAPUA PEGUNUNGAN | D186: YAHUKIMO | E186: SILIMO | F186: SIANELE | G186: 40 | I186: E_r902bk2 | J186: =CONCATENATE(LEFT(B186,4),"-",D186) -> 9707-YAHUKIMO | K186: =IF(G186>0,1,0) -> 1
... A216: https://fasih-sm.bps.go.id/survey-collection/assignment-detail/40244637-9fa0-442f-9c28-02e2e057f0ee/345cbe9e-45b8-42c2-bc4a-c76fe52a97ea | B216: 9708040005 | C216: PAPUA PEGUNUNGAN | D216: PEGUNUNGAN BINTANG | E216: AWINBON | F216: NANUM ANAIP | G216: 40 | I216: E_r902bk2 | J216: =CONCATENATE(LEFT(B216,4),"-",D216) -> 9708-PEGUNUNGAN BINTANG | K216: =IF(G216>0,1,0) -> 1
A217: https://fasih-sm.bps.go.id/survey-collection/assignment-detail/07aa287c-f53f-4e3a-98c1-e611fbdc0ead/345cbe9e-45b8-42c2-bc4a-c76fe52a97ea | B217: 9420040021 | C217: PAPUA | D217: KEEROM | E217: ARSO | F217: SAWABUM | G217: 50 | H217: apakah menggunakan moda transportasi selain jalan kaki? | I217: E1_r902bk7 | J217: =CONCATENATE(LEFT(B217,4),"-",D217) -> 9420-KEEROM | K217: =IF(G217>0,1,0) -> 1
A218: https://fasih-sm.bps.go.id/survey-collection/assignment-detail/a512f8c5-205c-4e93-ba08-e1d3fbbb0233/345cbe9e-45b8-42c2-bc4a-c76fe52a97ea | B218: 9701020005 | C218: PAPUA PEGUNUNGAN | D218: NDUGA | E218: MOBA | F218: MOBA DUA | G218: 100 | I218: E1_r902bk7 | J218: =CONCATENATE(LEFT(B218,4),"-",D218) -> 9701-NDUGA | K218: =IF(G218>0,1,0) -> 1
A219: https://fasih-sm.bps.go.id/survey-collection/assignment-detail/546bcc65-e8a0-4431-a985-a3a0b2d2a255/345cbe9e-45b8-42c2-bc4a-c76fe52a97ea | B219: 9701020008 | C219: PAPUA PEGUNUNGAN | D219: NDUGA | E219: MOBA | F219: MOBA | G219: 100 | I219: E1_r902bk7 | J219: =CONCATENATE(LEFT(B219,4),"-",D219) -> 9701-NDUGA | K219: =IF(G219>0,1,0) -> 1
A220: https://fasih-sm.bps.go.id/survey-collection/assignment-detail/375ec14c-f6a5-4a41-8e38-ffdcc9c5a3f3/345cbe9e-45b8-42c2-bc4a-c76fe52a97ea | B220: 9701070003 | C220: PAPUA PEGUNUNGAN | D220: NDUGA | E220: KREPKURI | F220: ALGURU | G220: 100 | I220: E1_r902bk7 | J220: =CONCATENATE(LEFT(B220,4),"-",D220) -> 9701-NDUGA | K220: =IF(G220>0,1,0) -> 1
A221: https://fasih-sm.bps.go.id/survey-collection/assignment-detail/7a477e67-6203-4b34-b652-491744a656e7/345cbe9e-45b8-42c2-bc4a-c76fe52a97ea | B221: 9701090001 | C221: PAPUA PEGUNUNGAN | D221: NDUGA | E221: GESELMA | F221: GESELEMA | G221: 100 | I221: E1_r902bk7 | J221: =CONCATENATE(LEFT(B221,4),"-",D221) -> 9701-NDUGA | K221: =IF(G221>0,1,0) -> 1
A222: https://fasih-sm.bps.go.id/survey-collection/assignment-detail/49aa207b-fbfd-4e88-9c9d-bdf0862992ec/345cbe9e-45b8-42c2-bc4a-c76fe52a97ea | B222: 9701130013 | C222: PAPUA PEGUNUNGAN | D222: NDUGA | E222: MEBOROK | F222: PEREKI | G222: 100 | I222: E1_r902bk7 | J222: =CONCATENATE(LEFT(B222,4),"-",D222) -> 9701-NDUGA | K222: =IF(G222>0,1,0) -> 1
A223: https://fasih-sm.bps.go.id/survey-collection/assignment-detail/adc28919-b564-4843-8253-9c78f20408f9/345cbe9e-45b8-42c2-bc4a-c76fe52a97ea | B223: 9701230005 | C223: PAPUA PEGUNUNGAN | D223: NDUGA | E223: NIRKURI | F223: SOKMIE | G223: 100 | I223: E1_r902bk7 | J223: =CONCATENATE(LEFT(B223,4),"-",D223) -> 9701-NDUGA | K223: =IF(G223>0,1,0) -> 1
A224: https://fasih-sm.bps.go.id/survey-collection/assignment-detail/67077fff-e1af-41a7-a462-7a36dabae602/345cbe9e-45b8-42c2-bc4a-c76fe52a97ea | B224: 9701260001 | C224: PAPUA PEGUNUNGAN | D224: NDUGA | E224: INIYE | F224: INIYE | G224: 100 | I224: E1_r902bk7 | J224: =CONCATENATE(LEFT(B224,4),"-",D224) -> 9701-NDUGA | K224: =IF(G224>0,1,0) -> 1
A225: https://fasih-sm.bps.go.id/survey-collection/assignment-detail/42279f33-3ec6-45bb-8944-6ba5ae8f9af9/345cbe9e-45b8-42c2-bc4a-c76fe52a97ea | B225: 9701260003 | C225: PAPUA PEGUNUNGAN | D225: NDUGA | E225: INIYE | F225: SIMIYE | G225: 100 | I225: E1_r902bk7 | J225: =CONCATENATE(LEFT(B225,4),"-",D225) -> 9701-NDUGA | K225: =IF(G225>0,1,0) -> 1
A226: https://fasih-sm.bps.go.id/survey-collection/assignment-detail/d1c3ae71-696c-466d-a9b6-6e9a87200106/345cbe9e-45b8-42c2-bc4a-c76fe52a97ea | B226: 9702040001 | C226: PAPUA PEGUNUNGAN | D226: JAYAWIJAYA | E226: TRIKORA | F226: TRIKORA | G226: 100 | I226: E1_r902bk7 | J226: =CONCATENATE(LEFT(B226,4),"-",D226) -> 9702-JAYAWIJAYA | K226: =IF(G226>0,1,0) -> 1
A227: https://fasih-sm.bps.go.id/survey-collection/assignment-detail/b279538e-e788-426a-ac9f-0693b49d3243/345cbe9e-45b8-42c2-bc4a-c76fe52a97ea | B227: 9702040002 | C227: PAPUA PEGUNUNGAN | D227: JAYAWIJAYA | E227: TRIKORA | F227: NANGGO | G227: 100 | I227: E1_r902bk7 | J227: =CONCATENATE(LEFT(B227,4),"-",D227) -> 9702-JAYAWIJAYA | K227: =IF(G227>0,1,0) -> 1
A228: https://fasih-sm.bps.go.id/survey-collection/assignment-detail/fc6ee309-15ee-48e6-b2e2-484b2d7e9b92/345cbe9e-45b8-42c2-bc4a-c76fe52a97ea | B228: 9702040003 | C228: PAPUA PEGUNUNGAN | D228: JAYAWIJAYA | E228: TRIKORA | F228: DINGGILMO | G228: 100 | I228: E1_r902bk7 | J228: =CONCATENATE(LEFT(B228,4),"-",D228) -> 9702-JAYAWIJAYA | K228: =IF(G228>0,1,0) -> 1
A229: https://fasih-sm.bps.go.id/survey-collection/assignment-detail/7c082a71-c92d-4c5e-893f-91c4db3483fa/345cbe9e-45b8-42c2-bc4a-c76fe52a97ea | B229: 9702040004 | C229: PAPUA PEGUNUNGAN | D229: JAYAWIJAYA | E229: TRIKORA | F229: KORA JAYA | G229: 100 | I229: E1_r902bk7 | J229: =CONCATENATE(LEFT(B229,4),"-",D229) -> 9702-JAYAWIJAYA | K229: =IF(G229>0,1,0) -> 1
... A293: https://fasih-sm.bps.go.id/survey-collection/assignment-detail/044654ff-d7ec-4204-9991-a2d3d2730f32/345cbe9e-45b8-42c2-bc4a-c76fe52a97ea | B293: 9504220003 | C293: PAPUA SELATAN | D293: ASMAT | E293: PULAU TIGA | F293: ATAT | G293: 100 | I293: E_r904b | J293: =CONCATENATE(LEFT(B293,4),"-",D293) -> 9504-ASMAT | K293: =IF(G293>0,1,0) -> 1
A294: https://fasih-sm.bps.go.id/survey-collection/assignment-detail/e2193b05-a848-431b-be62-d7f483ee6ee0/345cbe9e-45b8-42c2-bc4a-c76fe52a97ea | B294: 9604140002 | C294: PAPUA TENGAH | D294: NABIRE | E294: TELUK UMAR | F294: BAWEI | G294: 100 | H294: Ada tapi sudah rusak lama | I294: E_r904b | J294: =CONCATENATE(LEFT(B294,4),"-",D294) -> 9604-NABIRE | K294: =IF(G294>0,1,0) -> 1
A295: https://fasih-sm.bps.go.id/survey-collection/assignment-detail/6812bf9a-6d60-4324-9ab5-94b8e8087965/345cbe9e-45b8-42c2-bc4a-c76fe52a97ea | B295: 9604140003 | C295: PAPUA TENGAH | D295: NABIRE | E295: TELUK UMAR | F295: YERETUAR | G295: 100 | H295: Ada tapi sudah rusak lama | I295: E_r904b | J295: =CONCATENATE(LEFT(B295,4),"-",D295) -> 9604-NABIRE | K295: =IF(G295>0,1,0) -> 1
A296: https://fasih-sm.bps.go.id/survey-collection/assignment-detail/3b149c8e-d408-4a3a-afed-f17e9a30a0eb/345cbe9e-45b8-42c2-bc4a-c76fe52a97ea | B296: 9604140004 | C296: PAPUA TENGAH | D296: NABIRE | E296: TELUK UMAR | F296: GONI | G296: 100 | H296: Ada tapi sudah rusak lama | I296: E_r904b | J296: =CONCATENATE(LEFT(B296,4),"-",D296) -> 9604-NABIRE | K296: =IF(G296>0,1,0) -> 1
A297: https://fasih-sm.bps.go.id/survey-collection/assignment-detail/f5cfc823-c1d6-4ac7-8bae-975e9524ec58/345cbe9e-45b8-42c2-bc4a-c76fe52a97ea | B297: 9605040003 | C297: PAPUA TENGAH | D297: PANIAI | E297: WEGE MUKA | F297: BOKOWA | G297: 100 | I297: E_r904b | J297: =CONCATENATE(LEFT(B297,4),"-",D297) -> 9605-PANIAI | K297: =IF(G297>0,1,0) -> 1
A298: https://fasih-sm.bps.go.id/survey-collection/assignment-detail/ae34e157-f340-4962-adac-a988252a4c4d/345cbe9e-45b8-42c2-bc4a-c76fe52a97ea | B298: 9606030007 | C298: PAPUA TENGAH | D298: INTAN JAYA | E298: HITADIPA | F298: BALAIMAI | G298: 100 | I298: E_r904b | J298: =CONCATENATE(LEFT(B298,4),"-",D298) -> 9606-INTAN JAYA | K298: =IF(G298>0,1,0) -> 1
A299: https://fasih-sm.bps.go.id/survey-collection/assignment-detail/f6275615-ce20-4718-9a20-bc784a446b09/345cbe9e-45b8-42c2-bc4a-c76fe52a97ea | B299: 9607200004 | C299: PAPUA TENGAH | D299: PUNCAK | E299: OGAMANIN | F299: ONOP | G299: 100 | I299: E_r904b | J299: =CONCATENATE(LEFT(B299,4),"-",D299) -> 9607-PUNCAK | K299: =IF(G299>0,1,0) -> 1
A300: https://fasih-sm.bps.go.id/survey-collection/assignment-detail/0053c9ea-b314-4104-8028-cf8bb92799ef/345cbe9e-45b8-42c2-bc4a-c76fe52a97ea | B300: 9608020002 | C300: PAPUA TENGAH | D300: PUNCAK JAYA | E300: DAGAI | F300: DAGAI | G300: 100 | H300: Ada tapi rusak | I300: E_r904b | J300: =CONCATENATE(LEFT(B300,4),"-",D300) -> 9608-PUNCAK JAYA | K300: =IF(G300>0,1,0) -> 1
A301: https://fasih-sm.bps.go.id/survey-collection/assignment-detail/a5e190f8-f90f-4b7c-b115-ec4f0ef34825/345cbe9e-45b8-42c2-bc4a-c76fe52a97ea | B301: 9701070004 | C301: PAPUA PEGUNUNGAN | D301: NDUGA | E301: KREPKURI | F301: KREPKURI | G301: 100 | H301: Ada tapi rusak | I301: E_r904b | J301: =CONCATENATE(LEFT(B301,4),"-",D301) -> 9701-NDUGA | K301: =IF(G301>0,1,0) -> 1
A302: https://fasih-sm.bps.go.id/survey-collection/assignment-detail/a16b0260-3191-4309-a63c-d9c8ec4b81cc/345cbe9e-45b8-42c2-bc4a-c76fe52a97ea | B302: 9701130008 | C302: PAPUA PEGUNUNGAN | D302: NDUGA | E302: MEBOROK | F302: APTAM | G302: 100 | H302: Ada tapi rusak | I302: E_r904b | J302: =CONCATENATE(LEFT(B302,4),"-",D302) -> 9701-NDUGA | K302: =IF(G302>0,1,0) -> 1
A303: https://fasih-sm.bps.go.id/survey-collection/assignment-detail/30a06804-7e1a-47e1-a44e-8eadb3d482ac/345cbe9e-45b8-42c2-bc4a-c76fe52a97ea | B303: 9701290005 | C303: PAPUA PEGUNUNGAN | D303: NDUGA | E303: MBULMU YALMA | F303: KOLMA | G303: 100 | H303: Ada tapi rusak | I303: E_r904b | J303: =CONCATENATE(LEFT(B303,4),"-",D303) -> 9701-NDUGA | K303: =IF(G303>0,1,0) -> 1
A304: https://fasih-sm.bps.go.id/survey-collection/assignment-detail/f18299ac-443f-4fc9-8746-e959dc9128c6/345cbe9e-45b8-42c2-bc4a-c76fe52a97ea | B304: 9702060004 | C304: PAPUA PEGUNUNGAN | D304: JAYAWIJAYA | E304: WALAIK | F304: HOLIMA | G304: 100 | I304: E_r904b | J304: =CONCATENATE(LEFT(B304,4),"-",D304) -> 9702-JAYAWIJAYA | K304: =IF(G304>0,1,0) -> 1
A305: https://fasih-sm.bps.go.id/survey-collection/assignment-detail/f8fd3eb4-2961-44af-bcd1-fe21e9434ebd/345cbe9e-45b8-42c2-bc4a-c76fe52a97ea | B305: 9702060005 | C305: PAPUA PEGUNUNGAN | D305: JAYAWIJAYA | E305: WALAIK | F305: YELAI | G305: 100 | I305: E_r904b | J305: =CONCATENATE(LEFT(B305,4),"-",D305) -> 9702-JAYAWIJAYA | K305: =IF(G305>0,1,0) -> 1
A306: https://fasih-sm.bps.go.id/survey-collection/assignment-detail/6415a6ce-5644-4994-83d8-1d61bc322e5b/345cbe9e-45b8-42c2-bc4a-c76fe52a97ea | B306: 9702370008 | C306: PAPUA PEGUNUNGAN | D306: JAYAWIJAYA | E306: WESAPUT | F306: ILOKAMA | G306: 100 | I306: E_r904b | J306: =CONCATENATE(LEFT(B306,4),"-",D306) -> 9702-JAYAWIJAYA | K306: =IF(G306>0,1,0) -> 1
A307: https://fasih-sm.bps.go.id/survey-collection/assignment-detail/55060ca8-308f-4dff-b3ca-8171312e317c/345cbe9e-45b8-42c2-bc4a-c76fe52a97ea | B307: 9703350001 | C307: PAPUA PEGUNUNGAN | D307: LANNY JAYA | E307: KARU | F307: AYAFOFA | G307: 100 | I307: E_r904b | J307: =CONCATENATE(LEFT(B307,4),"-",D307) -> 9703-LANNY JAYA | K307: =IF(G307>0,1,0) -> 1
A308: https://fasih-sm.bps.go.id/survey-collection/assignment-detail/4c5e6e3d-095a-4db6-ba5e-46ca658527b5/345cbe9e-45b8-42c2-bc4a-c76fe52a97ea | B308: 9703350002 | C308: PAPUA PEGUNUNGAN | D308: LANNY JAYA | E308: KARU | F308: SALEMO | G308: 100 | I308: E_r904b | J308: =CONCATENATE(LEFT(B308,4),"-",D308) -> 9703-LANNY JAYA | K308: =IF(G308>0,1,0) -> 1
A309: https://fasih-sm.bps.go.id/survey-collection/assignment-detail/e79755af-1066-48c6-96ca-5e5c361ee36d/345cbe9e-45b8-42c2-bc4a-c76fe52a97ea | B309: 9703350003 | C309: PAPUA PEGUNUNGAN | D309: LANNY JAYA | E309: KARU | F309: YUDANI | G309: 100 | I309: E_r904b | J309: =CONCATENATE(LEFT(B309,4),"-",D309) -> 9703-LANNY JAYA | K309: =IF(G309>0,1,0) -> 1
A310: https://fasih-sm.bps.go.id/survey-collection/assignment-detail/e6a6eace-c773-48fe-b8d7-8ecff4b4c846/345cbe9e-45b8-42c2-bc4a-c76fe52a97ea | B310: 9703350004 | C310: PAPUA PEGUNUNGAN | D310: LANNY JAYA | E310: KARU | F310: DELEGARI | G310: 100 | I310: E_r904b | J310: =CONCATENATE(LEFT(B310,4),"-",D310) -> 9703-LANNY JAYA | K310: =IF(G310>0,1,0) -> 1
A311: https://fasih-sm.bps.go.id/survey-collection/assignment-detail/b1dd827b-cbfd-4234-9417-dd69d0d320f0/345cbe9e-45b8-42c2-bc4a-c76fe52a97ea | B311: 9703350005 | C311: PAPUA PEGUNUNGAN | D311: LANNY JAYA | E311: KARU | F311: IGIMBUA | G311: 100 | I311: E_r904b | J311: =CONCATENATE(LEFT(B311,4),"-",D311) -> 9703-LANNY JAYA | K311: =IF(G311>0,1,0) -> 1
A312: https://fasih-sm.bps.go.id/survey-collection/assignment-detail/85af3876-9304-4f6f-9071-341ee1bc0c58/345cbe9e-45b8-42c2-bc4a-c76fe52a97ea | B312: 9703350006 | C312: PAPUA PEGUNUNGAN | D312: LANNY JAYA | E312: KARU | F312: TOWOLUK | G312: 100 | I312: E_r904b | J312: =CONCATENATE(LEFT(B312,4),"-",D312) -> 9703-LANNY JAYA | K312: =IF(G312>0,1,0) -> 1
A313: https://fasih-sm.bps.go.id/survey-collection/assignment-detail/b8ce9389-2096-4d81-b8ca-fba68fa20c06/345cbe9e-45b8-42c2-bc4a-c76fe52a97ea | B313: 9703350007 | C313: PAPUA PEGUNUNGAN | D313: LANNY JAYA | E313: KARU | F313: TUNUME | G313: 100 | I313: E_r904b | J313: =CONCATENATE(LEFT(B313,4),"-",D313) -> 9703-LANNY JAYA | K313: =IF(G313>0,1,0) -> 1
A314: https://fasih-sm.bps.go.id/survey-collection/assignment-detail/710d6aa0-258c-47d8-9494-b5aa2ec78c3b/345cbe9e-45b8-42c2-bc4a-c76fe52a97ea | B314: 9703350008 | C314: PAPUA PEGUNUNGAN | D314: LANNY JAYA | E314: KARU | F314: YILOKDU | G314: 100 | I314: E_r904b | J314: =CONCATENATE(LEFT(B314,4),"-",D314) -> 9703-LANNY JAYA | K314: =IF(G314>0,1,0) -> 1
A315: https://fasih-sm.bps.go.id/survey-collection/assignment-detail/0392b8c4-f1c3-494e-b774-4c79d8677866/345cbe9e-45b8-42c2-bc4a-c76fe52a97ea | B315: 9703360001 | C315: PAPUA PEGUNUNGAN | D315: LANNY JAYA | E315: YILUK | F315: EKAPAME | G315: 100 | I315: E_r904b | J315: =CONCATENATE(LEFT(B315,4),"-",D315) -> 9703-LANNY JAYA | K315: =IF(G315>0,1,0) -> 1
... A433: https://fasih-sm.bps.go.id/survey-collection/assignment-detail/84719e36-b311-429d-a518-84d0ba7a751b/345cbe9e-45b8-42c2-bc4a-c76fe52a97ea | B433: 9706050036 | C433: PAPUA PEGUNUNGAN | D433: YALIMO | E433: BENAWA | F433: NIHO | G433: 100 | I433: EA1_r902ak5 | J433: =CONCATENATE(LEFT(B433,4),"-",D433) -> 9706-YALIMO | K433: =IF(G433>0,1,0) -> 1
A434: https://fasih-sm.bps.go.id/survey-collection/assignment-detail/d3288f2f-567b-4eca-86bc-c02dfa40ce44/345cbe9e-45b8-42c2-bc4a-c76fe52a97ea | B434: 9409041009 | C434: PAPUA | D434: BIAK NUMFOR | E434: ORIDEK | F434: KAKUR | G434: 40 | H434: karena 303a berubah dari 3 menjadi 2 maka 303b-d harus diisi juga | I434: EA_r303a | J434: =CONCATENATE(LEFT(B434,4),"-",D434) -> 9409-BIAK NUMFOR | K434: =IF(G434>0,1,0) -> 1
A435: https://fasih-sm.bps.go.id/survey-collection/assignment-detail/3a465eb9-7236-44b3-8bdc-a645c50188d4/345cbe9e-45b8-42c2-bc4a-c76fe52a97ea | B435: 9409101009 | C435: PAPUA | D435: BIAK NUMFOR | E435: SWANDIWE | F435: WOMBRISAUW | G435: 40 | H435: karena 303a berubah dari 3 menjadi 2 maka 303b-d harus diisi juga | I435: EA_r303a | J435: =CONCATENATE(LEFT(B435,4),"-",D435) -> 9409-BIAK NUMFOR | K435: =IF(G435>0,1,0) -> 1
A436: https://fasih-sm.bps.go.id/survey-collection/assignment-detail/df4c7a7c-4f3e-4040-90ea-503680b30935/345cbe9e-45b8-42c2-bc4a-c76fe52a97ea | B436: 9426010015 | C436: PAPUA | D436: WAROPEN | E436: WAROPEN BAWAH | F436: WAREN SATU | G436: 40 | H436: karena 303a berubah dari 3 menjadi 2 maka 303b-d harus diisi juga | I436: EA_r303a | J436: =CONCATENATE(LEFT(B436,4),"-",D436) -> 9426-WAROPEN | K436: =IF(G436>0,1,0) -> 1
A437: https://fasih-sm.bps.go.id/survey-collection/assignment-detail/813be6f4-274b-4420-9b8a-22b335c10b06/345cbe9e-45b8-42c2-bc4a-c76fe52a97ea | B437: 9471030003 | C437: PAPUA | D437: JAYAPURA | E437: JAYAPURA SELATAN | F437: TOBATI | G437: 40 | I437: EA_r303a | J437: =CONCATENATE(LEFT(B437,4),"-",D437) -> 9471-JAYAPURA | K437: =IF(G437>0,1,0) -> 1
A438: https://fasih-sm.bps.go.id/survey-collection/assignment-detail/e565b487-3381-4e76-998a-4e40a5de7918/345cbe9e-45b8-42c2-bc4a-c76fe52a97ea | B438: 9501010008 | C438: PAPUA SELATAN | D438: MERAUKE | E438: KIMAAM | F438: DEKA | G438: 40 | H438: karena 303a berubah dari 3 menjadi 2 maka 303b-d harus diisi juga | I438: EA_r303a | J438: =CONCATENATE(LEFT(B438,4),"-",D438) -> 9501-MERAUKE | K438: =IF(G438>0,1,0) -> 1
A439: https://fasih-sm.bps.go.id/survey-collection/assignment-detail/0c486f10-e917-4bc5-b45c-cf4dc3891736/345cbe9e-45b8-42c2-bc4a-c76fe52a97ea | B439: 9501010011 | C439: PAPUA SELATAN | D439: MERAUKE | E439: KIMAAM | F439: KIMAAM | G439: 40 | H439: karena 303a berubah dari 3 menjadi 2 maka 303b-d harus diisi juga | I439: EA_r303a | J439: =CONCATENATE(LEFT(B439,4),"-",D439) -> 9501-MERAUKE | K439: =IF(G439>0,1,0) -> 1
A440: https://fasih-sm.bps.go.id/survey-collection/assignment-detail/8038f6bb-336c-4765-b04e-0bb146959f0e/345cbe9e-45b8-42c2-bc4a-c76fe52a97ea | B440: 9503090004 | C440: PAPUA SELATAN | D440: MAPPI | E440: OBAA | F440: PIAI | G440: 40 | I440: EA_r303a | J440: =CONCATENATE(LEFT(B440,4),"-",D440) -> 9503-MAPPI | K440: =IF(G440>0,1,0) -> 1
A441: https://fasih-sm.bps.go.id/survey-collection/assignment-detail/127061bb-c43b-4c87-9c81-dc15822574b6/345cbe9e-45b8-42c2-bc4a-c76fe52a97ea | B441: 9601130008 | C441: PAPUA TENGAH | D441: MIMIKA | E441: KWAMKI NARAMA | F441: AMOLE | G441: 40 | I441: EA_r303a | J441: =CONCATENATE(LEFT(B441,4),"-",D441) -> 9601-MIMIKA | K441: =IF(G441>0,1,0) -> 1
A442: https://fasih-sm.bps.go.id/survey-collection/assignment-detail/d5281c87-9fdf-40ba-9514-5a49ce3c478f/345cbe9e-45b8-42c2-bc4a-c76fe52a97ea | B442: 9601130009 | C442: PAPUA TENGAH | D442: MIMIKA | E442: KWAMKI NARAMA | F442: LAMOPI | G442: 40 | I442: EA_r303a | J442: =CONCATENATE(LEFT(B442,4),"-",D442) -> 9601-MIMIKA | K442: =IF(G442>0,1,0) -> 1
A443: https://fasih-sm.bps.go.id/survey-collection/assignment-detail/0994fad0-f32e-4118-976c-693cda688288/345cbe9e-45b8-42c2-bc4a-c76fe52a97ea | B443: 9605160002 | C443: PAPUA TENGAH | D443: PANIAI | E443: YAGAI | F443: YAIBU | G443: 40 | I443: EA_r303a | J443: =CONCATENATE(LEFT(B443,4),"-",D443) -> 9605-PANIAI | K443: =IF(G443>0,1,0) -> 1
A444: https://fasih-sm.bps.go.id/survey-collection/assignment-detail/8c8cae74-a193-4216-a410-e67735c93922/345cbe9e-45b8-42c2-bc4a-c76fe52a97ea | B444: 9605160006 | C444: PAPUA TENGAH | D444: PANIAI | E444: YAGAI | F444: MUJAIYEPA / MUNAYEPA / MUNIYEP | G444: 40 | I444: EA_r303a | J444: =CONCATENATE(LEFT(B444,4),"-",D444) -> 9605-PANIAI | K444: =IF(G444>0,1,0) -> 1
A445: https://fasih-sm.bps.go.id/survey-collection/assignment-detail/e2fd2b3a-772e-491d-8564-955223300a0f/345cbe9e-45b8-42c2-bc4a-c76fe52a97ea | B445: 9605170012 | C445: PAPUA TENGAH | D445: PANIAI | E445: KEBO | F445: UWAIYE | G445: 40 | I445: EA_r303a | J445: =CONCATENATE(LEFT(B445,4),"-",D445) -> 9605-PANIAI | K445: =IF(G445>0,1,0) -> 1
A446: https://fasih-sm.bps.go.id/survey-collection/assignment-detail/0b123bf7-8110-44a7-a45d-d9cccc73c47d/345cbe9e-45b8-42c2-bc4a-c76fe52a97ea | B446: 9607010001 | C446: PAPUA TENGAH | D446: PUNCAK | E446: AGANDUGUME | F446: AGADUGUME | G446: 40 | I446: EA_r303a | J446: =CONCATENATE(LEFT(B446,4),"-",D446) -> 9607-PUNCAK | K446: =IF(G446>0,1,0) -> 1
A447: https://fasih-sm.bps.go.id/survey-collection/assignment-detail/6b133402-d23d-48a1-819c-072caeeb18b4/345cbe9e-45b8-42c2-bc4a-c76fe52a97ea | B447: 9607080002 | C447: PAPUA TENGAH | D447: PUNCAK | E447: ILAGA | F447: KIMAK | G447: 40 | I447: EA_r303a | J447: =CONCATENATE(LEFT(B447,4),"-",D447) -> 9607-PUNCAK | K447: =IF(G447>0,1,0) -> 1
...

Sheet range_kirim
A1: url | B1: kode_desa | C1: nama_prov | D1: nama_kab | E1: nama_kec | F1: nama_desa | G1: progres | H1: catatan | I1: nama_sheet | J1: kode_kab | K1: konfirmasi
A2: https://fasih-sm.bps.go.id/survey-collection/assignment-detail/e51b4f4f-c7da-4135-a23e-298cb3a92848/345cbe9e-45b8-42c2-bc4a-c76fe52a97ea | B2: 9605230002 | C2: PAPUA TENGAH | D2: PANIAI | E2: DUMADAMA | F2: ODEGAPA | G2: 100 | I2: rc_r108d | J2: =CONCATENATE(LEFT(B2,4),"-",D2) -> 9605-PANIAI | K2: =IF(G2>0,1,0) -> 1
A3: https://fasih-sm.bps.go.id/survey-collection/assignment-detail/c5bbda7a-65d9-4490-a45e-71df6331e1af/345cbe9e-45b8-42c2-bc4a-c76fe52a97ea | B3: 9605230003 | C3: PAPUA TENGAH | D3: PANIAI | E3: DUMADAMA | F3: SOGOMO | G3: 100 | I3: rc_r108d | J3: =CONCATENATE(LEFT(B3,4),"-",D3) -> 9605-PANIAI | K3: =IF(G3>0,1,0) -> 1
A4: https://fasih-sm.bps.go.id/survey-collection/assignment-detail/9184b35a-c7df-43cb-a2fb-7084ce0b0a04/345cbe9e-45b8-42c2-bc4a-c76fe52a97ea | B4: 9605230004 | C4: PAPUA TENGAH | D4: PANIAI | E4: DUMADAMA | F4: DOGOMO | G4: 100 | I4: rc_r108d | J4: =CONCATENATE(LEFT(B4,4),"-",D4) -> 9605-PANIAI | K4: =IF(G4>0,1,0) -> 1
A5: https://fasih-sm.bps.go.id/survey-collection/assignment-detail/be87a107-f3af-45a1-99f5-d88c6c506226/345cbe9e-45b8-42c2-bc4a-c76fe52a97ea | B5: 9701320001 | C5: PAPUA PEGUNUNGAN | D5: NDUGA | E5: WUSI | F5: WUSI | G5: 100 | I5: rc_r108d | J5: =CONCATENATE(LEFT(B5,4),"-",D5) -> 9701-NDUGA | K5: =IF(G5>0,1,0) -> 1
A6: https://fasih-sm.bps.go.id/survey-collection/assignment-detail/d1c3ae71-696c-466d-a9b6-6e9a87200106/345cbe9e-45b8-42c2-bc4a-c76fe52a97ea | B6: 9702040001 | C6: PAPUA PEGUNUNGAN | D6: JAYAWIJAYA | E6: TRIKORA | F6: TRIKORA | G6: 100 | I6: rc_r108d | J6: =CONCATENATE(LEFT(B6,4),"-",D6) -> 9702-JAYAWIJAYA | K6: =IF(G6>0,1,0) -> 1
A7: https://fasih-sm.bps.go.id/survey-collection/assignment-detail/b279538e-e788-426a-ac9f-0693b49d3243/345cbe9e-45b8-42c2-bc4a-c76fe52a97ea | B7: 9702040002 | C7: PAPUA PEGUNUNGAN | D7: JAYAWIJAYA | E7: TRIKORA | F7: NANGGO | G7: 100 | I7: rc_r108d | J7: =CONCATENATE(LEFT(B7,4),"-",D7) -> 9702-JAYAWIJAYA | K7: =IF(G7>0,1,0) -> 1
A8: https://fasih-sm.bps.go.id/survey-collection/assignment-detail/fc6ee309-15ee-48e6-b2e2-484b2d7e9b92/345cbe9e-45b8-42c2-bc4a-c76fe52a97ea | B8: 9702040003 | C8: PAPUA PEGUNUNGAN | D8: JAYAWIJAYA | E8: TRIKORA | F8: DINGGILMO | G8: 100 | I8: rc_r108d | J8: =CONCATENATE(LEFT(B8,4),"-",D8) -> 9702-JAYAWIJAYA | K8: =IF(G8>0,1,0) -> 1
A9: https://fasih-sm.bps.go.id/survey-collection/assignment-detail/e24cfac0-60ad-4a0e-9487-5f86f12f544e/345cbe9e-45b8-42c2-bc4a-c76fe52a97ea | B9: 9702120008 | C9: PAPUA PEGUNUNGAN | D9: JAYAWIJAYA | E9: PELEBAGA | F9: WILILIMO | G9: 100 | I9: rc_r108d | J9: =CONCATENATE(LEFT(B9,4),"-",D9) -> 9702-JAYAWIJAYA | K9: =IF(G9>0,1,0) -> 1
A10: https://fasih-sm.bps.go.id/survey-collection/assignment-detail/d82f2b99-6a2e-410c-8833-f3bb9e8b76df/345cbe9e-45b8-42c2-bc4a-c76fe52a97ea | B10: 9702120012 | C10: PAPUA PEGUNUNGAN | D10: JAYAWIJAYA | E10: PELEBAGA | F10: DUABALEK | G10: 100 | I10: rc_r108d | J10: =CONCATENATE(LEFT(B10,4),"-",D10) -> 9702-JAYAWIJAYA | K10: =IF(G10>0,1,0) -> 1
A11: https://fasih-sm.bps.go.id/survey-collection/assignment-detail/7a5df7cb-cbe5-47bb-bfaa-ddcf77920590/345cbe9e-45b8-42c2-bc4a-c76fe52a97ea | B11: 9606080014 | C11: PAPUA TENGAH | D11: INTAN JAYA | E11: HOMEYO | F11: POGAPA | G11: 100 | I11: rc_R902BK6b | J11: =CONCATENATE(LEFT(B11,4),"-",D11) -> 9606-INTAN JAYA | K11: =IF(G11>0,1,0) -> 1
A12: https://fasih-sm.bps.go.id/survey-collection/assignment-detail/d70642e5-32e3-4326-99ba-a614d2112e6b/345cbe9e-45b8-42c2-bc4a-c76fe52a97ea | B12: 9606050005 | C12: PAPUA TENGAH | D12: INTAN JAYA | E12: AGISIGA | F12: SOALI | G12: 100 | I12: rc_R1002a4 | J12: =CONCATENATE(LEFT(B12,4),"-",D12) -> 9606-INTAN JAYA | K12: =IF(G12>0,1,0) -> 1
A13: https://fasih-sm.bps.go.id/survey-collection/assignment-detail/760c8bc7-6c9a-4002-a0f9-e2f46b88d4be/345cbe9e-45b8-42c2-bc4a-c76fe52a97ea | B13: 9501140016 | C13: PAPUA SELATAN | D13: MERAUKE | E13: MERAUKE | F13: NGGOLAR | G13: 100 | I13: rc_r1301b | J13: =CONCATENATE(LEFT(B13,4),"-",D13) -> 9501-MERAUKE | K13: =IF(G13>0,1,0) -> 1
... A18: https://fasih-sm.bps.go.id/survey-collection/assignment-detail/e62da2d4-8ad7-43d5-84b3-683945fe0627/345cbe9e-45b8-42c2-bc4a-c76fe52a97ea | B18: 9601120005 | C18: PAPUA TENGAH | D18: MIMIKA | E18: IWAKA | F18: NAENA MUKTIPURA | G18: 100 | I18: rc_R1005a | J18: =CONCATENATE(LEFT(B18,4),"-",D18) -> 9601-MIMIKA | K18: =IF(G18>0,1,0) -> 1
A19: https://fasih-sm.bps.go.id/survey-collection/assignment-detail/578f3188-5cac-4ec4-af65-2e38b0c21845/345cbe9e-45b8-42c2-bc4a-c76fe52a97ea | B19: 9607070002 | C19: PAPUA TENGAH | D19: PUNCAK | E19: ERELMAKAWIA | F19: WAMAGUN | G19: 100 | H19: Salah isi | I19: rc_R1005a | J19: =CONCATENATE(LEFT(B19,4),"-",D19) -> 9607-PUNCAK | K19: =IF(G19>0,1,0) -> 1
A20: https://fasih-sm.bps.go.id/survey-collection/assignment-detail/01246ffe-9b6f-41d7-aee0-69770856c66c/345cbe9e-45b8-42c2-bc4a-c76fe52a97ea | B20: 9607070004 | C20: PAPUA TENGAH | D20: PUNCAK | E20: ERELMAKAWIA | F20: BOMOGIN | G20: 100 | H20: Salah isi | I20: rc_R1005a | J20: =CONCATENATE(LEFT(B20,4),"-",D20) -> 9607-PUNCAK | K20: =IF(G20>0,1,0) -> 1
A21: https://fasih-sm.bps.go.id/survey-collection/assignment-detail/dbefa897-5b4e-49ee-870d-55f41f928a3c/345cbe9e-45b8-42c2-bc4a-c76fe52a97ea | B21: 9702120006 | C21: PAPUA PEGUNUNGAN | D21: JAYAWIJAYA | E21: PELEBAGA | F21: INANEKELOK | G21: 100 | I21: rc_R1005a | J21: =CONCATENATE(LEFT(B21,4),"-",D21) -> 9702-JAYAWIJAYA | K21: =IF(G21>0,1,0) -> 1
A22: https://fasih-sm.bps.go.id/survey-collection/assignment-detail/3a40ac2c-f861-4f22-bcca-53ac6a377880/345cbe9e-45b8-42c2-bc4a-c76fe52a97ea | B22: 9708210003 | C22: PAPUA PEGUNUNGAN | D22: PEGUNUNGAN BINTANG | E22: ABOY | F22: LULIS WIL | G22: 100 | I22: rc_R1005a | J22: =CONCATENATE(LEFT(B22,4),"-",D22) -> 9708-PEGUNUNGAN BINTANG | K22: =IF(G22>0,1,0) -> 1
A23: https://fasih-sm.bps.go.id/survey-collection/assignment-detail/4c535a44-651c-441d-af3a-01362646359c/345cbe9e-45b8-42c2-bc4a-c76fe52a97ea | B23: 9708210004 | C23: PAPUA PEGUNUNGAN | D23: PEGUNUNGAN BINTANG | E23: ABOY | F23: PIPAL | G23: 100 | I23: rc_R1005a | J23: =CONCATENATE(LEFT(B23,4),"-",D23) -> 9708-PEGUNUNGAN BINTANG | K23: =IF(G23>0,1,0) -> 1
A24: https://fasih-sm.bps.go.id/survey-collection/assignment-detail/0a958b02-a811-4ed5-a56d-64612a8540c0/345cbe9e-45b8-42c2-bc4a-c76fe52a97ea | B24: 9708210005 | C24: PAPUA PEGUNUNGAN | D24: PEGUNUNGAN BINTANG | E24: ABOY | F24: WORO | G24: 100 | I24: rc_R1005a | J24: =CONCATENATE(LEFT(B24,4),"-",D24) -> 9708-PEGUNUNGAN BINTANG | K24: =IF(G24>0,1,0) -> 1
A25: https://fasih-sm.bps.go.id/survey-collection/assignment-detail/2dd42c1a-008d-412a-a98b-21fc889f7201/345cbe9e-45b8-42c2-bc4a-c76fe52a97ea | B25: 9708210006 | C25: PAPUA PEGUNUNGAN | D25: PEGUNUNGAN BINTANG | E25: ABOY | F25: ARMISE | G25: 100 | I25: rc_R1005a | J25: =CONCATENATE(LEFT(B25,4),"-",D25) -> 9708-PEGUNUNGAN BINTANG | K25: =IF(G25>0,1,0) -> 1
A26: https://fasih-sm.bps.go.id/survey-collection/assignment-detail/0d037120-f0d4-4a45-b875-d13a551c2c7b/345cbe9e-45b8-42c2-bc4a-c76fe52a97ea | B26: 9708210007 | C26: PAPUA PEGUNUNGAN | D26: PEGUNUNGAN BINTANG | E26: ABOY | F26: JUBLY | G26: 100 | I26: rc_R1005a | J26: =CONCATENATE(LEFT(B26,4),"-",D26) -> 9708-PEGUNUNGAN BINTANG | K26: =IF(G26>0,1,0) -> 1
A27: https://fasih-sm.bps.go.id/survey-collection/assignment-detail/652378d6-4536-4889-a97b-eb6d4a0732cc/345cbe9e-45b8-42c2-bc4a-c76fe52a97ea | B27: 9706030066 | C27: PAPUA PEGUNUNGAN | D27: YALIMO | E27: ABENAHO | F27: LASIKMA | G27: 100 | I27: rc_R1002a5 | J27: =CONCATENATE(LEFT(B27,4),"-",D27) -> 9706-YALIMO | K27: =IF(G27>0,1,0) -> 1
A28: https://fasih-sm.bps.go.id/survey-collection/assignment-detail/27b110a0-dd2a-4e44-b217-c563efc205ca/345cbe9e-45b8-42c2-bc4a-c76fe52a97ea | B28: 9706030079 | C28: PAPUA PEGUNUNGAN | D28: YALIMO | E28: ABENAHO | F28: HALISEK | G28: 100 | I28: rc_R1002a5 | J28: =CONCATENATE(LEFT(B28,4),"-",D28) -> 9706-YALIMO | K28: =IF(G28>0,1,0) -> 1
A29: https://fasih-sm.bps.go.id/survey-collection/assignment-detail/bc8c97d9-7fe7-4f6f-903f-3eeb9044761d/345cbe9e-45b8-42c2-bc4a-c76fe52a97ea | B29: 9426022010 | C29: PAPUA | D29: WAROPEN | E29: DEMBA | F29: BIATI | G29: 100 | I29: rc_R1007fk2 | J29: =CONCATENATE(LEFT(B29,4),"-",D29) -> 9426-WAROPEN | K29: =IF(G29>0,1,0) -> 1

Sheet infra
A1: kodedesa | B1: nama_prov | C1: nama_kab | D1: nama_kec | E1: nama_desa | F1: kategori | G1: nama_2026 | H1: catatan_hasil_cek | I1: hasil_konfirmasi_daerah | J1: kode_kab | K1: konfirmasi
A2: 9403140009 | B2: PAPUA | C2: JAYAPURA | D2: KEMTUK | E2: SEKORI | F2: Pendidikan Negeri | G2: SMP NEGERI SATU ATAP SEKORI | H2: SMPN tapi nama infra tidak sesuai | I2: 1 | J2: =CONCATENATE(LEFT(A2,4),"-",C2) -> 9403-JAYAPURA | K2: =IF(I2<>"",1,0) -> 1
A3: 9403150003 | B3: PAPUA | C3: JAYAPURA | D3: KEMTUK GRESI | E3: IBUB | F3: Pendidikan Negeri | G3: SMA PERSIAPAN KEMTUK GRESI | H3: SMAN tapi nama infra SMK | I3: 1 | J3: =CONCATENATE(LEFT(A3,4),"-",C3) -> 9403-JAYAPURA | K3: =IF(I3<>"",1,0) -> 1
A4: 9403151002 | B4: PAPUA | C4: JAYAPURA | D4: GRESI SELATAN | E4: BANGAI | F4: Pendidikan Negeri | G4: SMP NEGERI BANGAI | H4: SMPN tapi nama infra tidak sesuai | I4: 1 | J4: =CONCATENATE(LEFT(A4,4),"-",C4) -> 9403-JAYAPURA | K4: =IF(I4<>"",1,0) -> 1
A5: 9403180003 | B5: PAPUA | C5: JAYAPURA | D5: UNURUM GUAY | E5: BENEIK | F5: Pendidikan Negeri | G5: SMP SATU ATAP NIMBONTONG | H5: SMPN tapi nama infra tidak sesuai | I5: 1 | J5: =CONCATENATE(LEFT(A5,4),"-",C5) -> 9403-JAYAPURA | K5: =IF(I5<>"",1,0) -> 1
A6: 9403201002 | B6: PAPUA | C6: JAYAPURA | D6: YOKARI | E6: MEUKISI | F6: Pendidikan Negeri | G6: SMP NEGERI SATU ATAP MEUKISI | H6: SMPN tapi nama infra tidak sesuai | I6: 1 | J6: =CONCATENATE(LEFT(A6,4),"-",C6) -> 9403-JAYAPURA | K6: =IF(I6<>"",1,0) -> 1
A7: 9403211002 | B7: PAPUA | C7: JAYAPURA | D7: RAVENIRARA | E7: YONGSU DOSOYO | F7: Pendidikan Negeri | G7: SMP SATU ATAP RAVENI RARA | H7: SMPN tapi nama infra tidak sesuai | I7: 1 | J7: =CONCATENATE(LEFT(A7,4),"-",C7) -> 9403-JAYAPURA | K7: =IF(I7<>"",1,0) -> 1
A8: 9403221004 | B8: PAPUA | C8: JAYAPURA | D8: WAIBU | E8: SOSIRI | F8: Pendidikan Negeri | G8: SMP SATU ATAP KANDA | H8: SMPN tapi nama infra tidak sesuai | I8: 1 | J8: =CONCATENATE(LEFT(A8,4),"-",C8) -> 9403-JAYAPURA | K8: =IF(I8<>"",1,0) -> 1
A9: 9403231003 | B9: PAPUA | C9: JAYAPURA | D9: EBUNGFAU | E9: KHAMEYAKA | F9: Pendidikan Negeri | G9: SMP NEGERI PERSIAPAN EBUNGFAU | H9: SMPN tapi nama infra tidak sesuai | I9: 1 | J9: =CONCATENATE(LEFT(A9,4),"-",C9) -> 9403-JAYAPURA | K9: =IF(I9<>"",1,0) -> 1
A10: 9403240002 | B10: PAPUA | C10: JAYAPURA | D10: SENTANI TIMUR | E10: ITAKIWA | F10: Pendidikan Negeri | G10: SMP NEGERI SATU ATAP AYAPO | H10: SMPN tapi nama infra tidak sesuai | I10: 1 | J10: =CONCATENATE(LEFT(A10,4),"-",C10) -> 9403-JAYAPURA | K10: =IF(I10<>"",1,0) -> 1
A11: 9403240005 | B11: PAPUA | C11: JAYAPURA | D11: SENTANI TIMUR | E11: NOLOKLA | F11: Pendidikan Swasta | G11: SEKOLAH MENENGAH TEOLOGI KRISTEN YPPGI YONIME | H11: SMKS tapi nama infra SMK negeri atau nama tidak spesifik | I11: 1 | J11: =CONCATENATE(LEFT(A11,4),"-",C11) -> 9403-JAYAPURA | K11: =IF(I11<>"",1,0) -> 1
A12: 9408040013 | B12: PAPUA | C12: KEPULAUAN YAPEN | D12: YAPEN TIMUR | E12: NUNSEMBAI | F12: Pendidikan Negeri | G12: SMA UNGGULAN | H12: SMAN tapi nama infra SMK | I12: 1 | J12: =CONCATENATE(LEFT(A12,4),"-",C12) -> 9408-KEPULAUAN YAPEN | K12: =IF(I12<>"",1,0) -> 1
A13: 9408040015 | B13: PAPUA | C13: KEPULAUAN YAPEN | D13: YAPEN TIMUR | E13: DAWAI | F13: Pendidikan Negeri | G13: SMP NEGERI DAWAI | H13: SMPN tapi nama infra tidak sesuai | I13: 1 | J13: =CONCATENATE(LEFT(A13,4),"-",C13) -> 9408-KEPULAUAN YAPEN | K13: =IF(I13<>"",1,0) -> 1
... A423: 9708320001 | B423: PAPUA PEGUNUNGAN | C423: PEGUNUNGAN BINTANG | D423: BATOM | E423: BATOM | F423: Pendidikan Negeri | G423: SMP SATU ATAP BATOM | H423: SMPN tapi nama infra tidak sesuai | I423: 1 | J423: =CONCATENATE(LEFT(A423,4),"-",C423) -> 9708-PEGUNUNGAN BINTANG | K423: =IF(I423<>"",1,0) -> 1

Sheet Pivot Table X

Sheet Pivot Table Y

Sheet Pivot Table Z

Sheet LK konsistensi 36, 94, 95, 96
A1: url | B1: kode_desa | C1: nama_prov | D1: nama_kab | E1: nama_kec | F1: nama_desa | G1: progres | H1: catatan | I1: nama_sheet | J1: kode_kab | K1: konfirmasi
A2: https://fasih-sm.bps.go.id/survey-collection/assignment-detail/07aa287c-f53f-4e3a-98c1-e611fbdc0ead/345cbe9e-45b8-42c2-bc4a-c76fe52a97ea | B2: 9420040021 | C2: PAPUA | D2: KEEROM | E2: ARSO | F2: SAWABUM | G2: 100 | H2: ok | I2: E1_r902bk7 | J2: =CONCATENATE(LEFT(B2,4),"-",D2) -> 9420-KEEROM | K2: =IF(G2=100,1,0) -> 1
A3: https://fasih-sm.bps.go.id/survey-collection/assignment-detail/b61ffb41-654e-4806-88bb-47fa907327e5/345cbe9e-45b8-42c2-bc4a-c76fe52a97ea | B3: 9504220001 | C3: PAPUA SELATAN | D3: ASMAT | E3: PULAU TIGA | F3: WEO | G3: 100 | H3: ok | I3: EA2_r903b | J3: =CONCATENATE(LEFT(B3,4),"-",D3) -> 9504-ASMAT | K3: =IF(G3=100,1,0) -> 1
A4: https://fasih-sm.bps.go.id/survey-collection/assignment-detail/98932d47-c075-46ed-9769-795a67e1984f/345cbe9e-45b8-42c2-bc4a-c76fe52a97ea | B4: 9504220006 | C4: PAPUA SELATAN | D4: ASMAT | E4: PULAU TIGA | F4: AOU | G4: 100 | H4: ok | I4: EA2_r903b | J4: =CONCATENATE(LEFT(B4,4),"-",D4) -> 9504-ASMAT | K4: =IF(G4=100,1,0) -> 1
A5: https://fasih-sm.bps.go.id/survey-collection/assignment-detail/be6308d3-74bf-4cae-9f5a-4a2bca361c0c/345cbe9e-45b8-42c2-bc4a-c76fe52a97ea | B5: 9504240004 | C5: PAPUA SELATAN | D5: ASMAT | E5: TOMOR BIRIP | F5: JIFAK | G5: 100 | H5: ok | I5: EA2_r903b | J5: =CONCATENATE(LEFT(B5,4),"-",D5) -> 9504-ASMAT | K5: =IF(G5=100,1,0) -> 1
A6: https://fasih-sm.bps.go.id/survey-collection/assignment-detail/07aa287c-f53f-4e3a-98c1-e611fbdc0ead/345cbe9e-45b8-42c2-bc4a-c76fe52a97ea | B6: 9420040021 | C6: PAPUA | D6: KEEROM | E6: ARSO | F6: SAWABUM | G6: 100 | H6: ok | I6: EA1_r902bk5 | J6: =CONCATENATE(LEFT(B6,4),"-",D6) -> 9420-KEEROM | K6: =IF(G6=100,1,0) -> 1
A7: https://fasih-sm.bps.go.id/survey-collection/assignment-detail/1f1dfcfe-71b8-4c16-875c-8d44e2115674/345cbe9e-45b8-42c2-bc4a-c76fe52a97ea | B7: 9601100003 | C7: PAPUA TENGAH | D7: MIMIKA | E7: TEMBAGAPURA | F7: ARWANDOP | G7: 100 | H7: ok | I7: EA1_r902bk5 | J7: =CONCATENATE(LEFT(B7,4),"-",D7) -> 9601-MIMIKA | K7: =IF(G7=100,1,0) -> 1
A8: https://fasih-sm.bps.go.id/survey-collection/assignment-detail/9ee534dd-da73-4e42-95de-d4c2f0e48f28/345cbe9e-45b8-42c2-bc4a-c76fe52a97ea | B8: 9602070001 | C8: PAPUA TENGAH | D8: DOGIYAI | E8: KAMU SELATAN | F8: BOGOYA TEUGI | G8: 100 | H8: apakah tidak ada menggunakan moda transportasi lain selain jalan kaki? | I8: EA1_r902bk5 | J8: =CONCATENATE(LEFT(B8,4),"-",D8) -> 9602-DOGIYAI | K8: =IF(G8=100,1,0) -> 1
A9: https://fasih-sm.bps.go.id/survey-collection/assignment-detail/116c3dd3-11a0-42cd-aecd-77a0ac7eca37/345cbe9e-45b8-42c2-bc4a-c76fe52a97ea | B9: 9602070002 | C9: PAPUA TENGAH | D9: DOGIYAI | E9: KAMU SELATAN | F9: BOTUMOMA | G9: 100 | H9: apakah tidak ada menggunakan moda transportasi lain selain jalan kaki? | I9: EA1_r902bk5 | J9: =CONCATENATE(LEFT(B9,4),"-",D9) -> 9602-DOGIYAI | K9: =IF(G9=100,1,0) -> 1
A10: https://fasih-sm.bps.go.id/survey-collection/assignment-detail/ae931ff3-2525-4373-935d-25b428fbbccc/345cbe9e-45b8-42c2-bc4a-c76fe52a97ea | B10: 9602070004 | C10: PAPUA TENGAH | D10: DOGIYAI | E10: KAMU SELATAN | F10: MATADI | G10: 100 | H10: apakah tidak ada menggunakan moda transportasi lain selain jalan kaki? | I10: EA1_r902bk5 | J10: =CONCATENATE(LEFT(B10,4),"-",D10) -> 9602-DOGIYAI | K10: =IF(G10=100,1,0) -> 1
A11: https://fasih-sm.bps.go.id/survey-collection/assignment-detail/2bf11793-d886-46dd-8803-209e103966fa/345cbe9e-45b8-42c2-bc4a-c76fe52a97ea | B11: 9602070007 | C11: PAPUA TENGAH | D11: DOGIYAI | E11: KAMU SELATAN | F11: OBAIBEGA | G11: 100 | H11: apakah tidak ada menggunakan moda transportasi lain selain jalan kaki? | I11: EA1_r902bk5 | J11: =CONCATENATE(LEFT(B11,4),"-",D11) -> 9602-DOGIYAI | K11: =IF(G11=100,1,0) -> 1
A12: https://fasih-sm.bps.go.id/survey-collection/assignment-detail/62331ce2-72a2-4416-9c69-b3aff3d09c65/345cbe9e-45b8-42c2-bc4a-c76fe52a97ea | B12: 9602070009 | C12: PAPUA TENGAH | D12: DOGIYAI | E12: KAMU SELATAN | F12: UGIKEBO | G12: 100 | H12: apakah tidak ada menggunakan moda transportasi lain selain jalan kaki? | I12: EA1_r902bk5 | J12: =CONCATENATE(LEFT(B12,4),"-",D12) -> 9602-DOGIYAI | K12: =IF(G12=100,1,0) -> 1
A13: https://fasih-sm.bps.go.id/survey-collection/assignment-detail/ccc123bb-3d25-4636-ace8-2440f8a4f235/345cbe9e-45b8-42c2-bc4a-c76fe52a97ea | B13: 9602070011 | C13: PAPUA TENGAH | D13: DOGIYAI | E13: KAMU SELATAN | F13: UGIKAGOUDA | G13: 100 | H13: apakah tidak ada menggunakan moda transportasi lain selain jalan kaki? | I13: EA1_r902bk5 | J13: =CONCATENATE(LEFT(B13,4),"-",D13) -> 9602-DOGIYAI | K13: =IF(G13=100,1,0) -> 1
... A15: https://fasih-sm.bps.go.id/survey-collection/assignment-detail/1f0e4be3-2288-4ec6-8b1e-542cff19083d/345cbe9e-45b8-42c2-bc4a-c76fe52a97ea | B15: 9605110009 | C15: PAPUA TENGAH | D15: PANIAI | E15: BAYA BIRU | F15: BAYABIRU | G15: 100 | H15: apakah tidak ada menggunakan moda transportasi lain selain jalan kaki? | I15: EA1_r902bk5 | J15: =CONCATENATE(LEFT(B15,4),"-",D15) -> 9605-PANIAI | K15: =IF(G15=100,1,0) -> 1

Sheet LK konsistensi warning  12,33,7
A1: url | B1: kode_desa | C1: nama_prov | D1: nama_kab | E1: nama_kec | F1: nama_desa | G1: progres | H1: catatan | I1: nama_sheet | J1: kode_kab | K1: konfirmasi
A2: https://fasih-sm.bps.go.id/survey-collection/assignment-detail/d233232c-ce76-4e19-94a0-7e49f748273e/345cbe9e-45b8-42c2-bc4a-c76fe52a97ea | B2: 9501050002 | C2: PAPUA SELATAN | D2: MERAUKE | E2: KONTUAR | F2: WANTARMA | G2: 100 | H2: tidak ada keluarga yang menggunakan Listrik PLN, hanya ada beberapa penerangan jalan yang mengguunakan solar cell dari dana desa, itupun terkadang saja hidupnya | I2: W_r502a | J2: =CONCATENATE(LEFT(B2,4),"-",D2) -> 9501-MERAUKE | K2: =IF(G2>70,1,0) -> 1
A3: https://fasih-sm.bps.go.id/survey-collection/assignment-detail/739ef1e0-3741-4b29-b6e6-ae4c6235f802/345cbe9e-45b8-42c2-bc4a-c76fe52a97ea | B3: 9702020006 | C3: PAPUA PEGUNUNGAN | D3: JAYAWIJAYA | E3: ASOLOKOBAL | F3: SINATA | G3: 83.33 | I3: W_r502a | J3: =CONCATENATE(LEFT(B3,4),"-",D3) -> 9702-JAYAWIJAYA | K3: =IF(G3>70,1,0) -> 1

Sheet Konfirmasi hasil perbaikan LK e
A1: url | B1: kode_desa | C1: nama_prov | D1: nama_kab | E1: nama_kec | F1: nama_desa | G1: progres | H1: catatan | I1: nama_sheet | J1: kode_kab | K1: konfirmasi
A2: https://fasih-sm.bps.go.id/survey-collection/assignment-detail/d3288f2f-567b-4eca-86bc-c02dfa40ce44/345cbe9e-45b8-42c2-bc4a-c76fe52a97ea | B2: 9409041009 | C2: PAPUA | D2: BIAK NUMFOR | E2: ORIDEK | F2: KAKUR | G2: 100 | H2: karena 303a berubah dari 3 menjadi 2 maka 303b-d harus diisi juga | I2: EA_r303a | J2: =CONCATENATE(LEFT(B2,4),"-",D2) -> 9409-BIAK NUMFOR | K2: =IF(G2=100,1,0) -> 1
A3: https://fasih-sm.bps.go.id/survey-collection/assignment-detail/3a465eb9-7236-44b3-8bdc-a645c50188d4/345cbe9e-45b8-42c2-bc4a-c76fe52a97ea | B3: 9409101009 | C3: PAPUA | D3: BIAK NUMFOR | E3: SWANDIWE | F3: WOMBRISAUW | G3: 100 | H3: karena 303a berubah dari 3 menjadi 2 maka 303b-d harus diisi juga | I3: EA_r303a | J3: =CONCATENATE(LEFT(B3,4),"-",D3) -> 9409-BIAK NUMFOR | K3: =IF(G3=100,1,0) -> 1
A4: https://fasih-sm.bps.go.id/survey-collection/assignment-detail/df4c7a7c-4f3e-4040-90ea-503680b30935/345cbe9e-45b8-42c2-bc4a-c76fe52a97ea | B4: 9426010015 | C4: PAPUA | D4: WAROPEN | E4: WAROPEN BAWAH | F4: WAREN SATU | G4: 100 | H4: karena 303a berubah dari 3 menjadi 2 maka 303b-d harus diisi juga | I4: EA_r303a | J4: =CONCATENATE(LEFT(B4,4),"-",D4) -> 9426-WAROPEN | K4: =IF(G4=100,1,0) -> 1
A5: https://fasih-sm.bps.go.id/survey-collection/assignment-detail/e565b487-3381-4e76-998a-4e40a5de7918/345cbe9e-45b8-42c2-bc4a-c76fe52a97ea | B5: 9501010008 | C5: PAPUA SELATAN | D5: MERAUKE | E5: KIMAAM | F5: DEKA | G5: 100 | H5: karena 303a berubah dari 3 menjadi 2 maka 303b-d harus diisi juga | I5: EA_r303a | J5: =CONCATENATE(LEFT(B5,4),"-",D5) -> 9501-MERAUKE | K5: =IF(G5=100,1,0) -> 1
A6: https://fasih-sm.bps.go.id/survey-collection/assignment-detail/0c486f10-e917-4bc5-b45c-cf4dc3891736/345cbe9e-45b8-42c2-bc4a-c76fe52a97ea | B6: 9501010011 | C6: PAPUA SELATAN | D6: MERAUKE | E6: KIMAAM | F6: KIMAAM | G6: 100 | H6: karena 303a berubah dari 3 menjadi 2 maka 303b-d harus diisi juga | I6: EA_r303a | J6: =CONCATENATE(LEFT(B6,4),"-",D6) -> 9501-MERAUKE | K6: =IF(G6=100,1,0) -> 1
A7: https://fasih-sm.bps.go.id/survey-collection/assignment-detail/d4bc9678-8998-4ef4-bf84-0aeb62f197e1/345cbe9e-45b8-42c2-bc4a-c76fe52a97ea | B7: 9608040001 | C7: PAPUA TENGAH | D7: PUNCAK JAYA | E7: LUMO | F7: WURAMBURU | G7: 100 | H7: karena 303a berubah dari 3 menjadi 2 maka 303b-d harus diisi juga | I7: EA_r303a | J7: =CONCATENATE(LEFT(B7,4),"-",D7) -> 9608-PUNCAK JAYA | K7: =IF(G7=100,1,0) -> 1
A8: https://fasih-sm.bps.go.id/survey-collection/assignment-detail/733f0f87-e339-4238-a73e-544f71016fac/345cbe9e-45b8-42c2-bc4a-c76fe52a97ea | B8: 9608040006 | C8: PAPUA TENGAH | D8: PUNCAK JAYA | E8: LUMO | F8: WURABAK | G8: 100 | H8: karena 303a berubah dari 3 menjadi 2 maka 303b-d harus diisi juga | I8: EA_r303a | J8: =CONCATENATE(LEFT(B8,4),"-",D8) -> 9608-PUNCAK JAYA | K8: =IF(G8=100,1,0) -> 1
A9: https://fasih-sm.bps.go.id/survey-collection/assignment-detail/3728a59b-3b08-47a5-b27a-4b50e4984893/345cbe9e-45b8-42c2-bc4a-c76fe52a97ea | B9: 9608040007 | C9: PAPUA TENGAH | D9: PUNCAK JAYA | E9: LUMO | F9: LUMO | G9: 100 | H9: karena 303a berubah dari 3 menjadi 2 maka 303b-d harus diisi juga | I9: EA_r303a | J9: =CONCATENATE(LEFT(B9,4),"-",D9) -> 9608-PUNCAK JAYA | K9: =IF(G9=100,1,0) -> 1
A10: https://fasih-sm.bps.go.id/survey-collection/assignment-detail/6f6fa6e2-b90b-4559-b439-53dd5a8357b5/345cbe9e-45b8-42c2-bc4a-c76fe52a97ea | B10: 9608040009 | C10: PAPUA TENGAH | D10: PUNCAK JAYA | E10: LUMO | F10: KILILUMO | G10: 100 | H10: karena 303a berubah dari 3 menjadi 2 maka 303b-d harus diisi juga | I10: EA_r303a | J10: =CONCATENATE(LEFT(B10,4),"-",D10) -> 9608-PUNCAK JAYA | K10: =IF(G10=100,1,0) -> 1
A11: https://fasih-sm.bps.go.id/survey-collection/assignment-detail/6dbcfa33-52f0-4e81-850c-a4fbc180d255/345cbe9e-45b8-42c2-bc4a-c76fe52a97ea | B11: 9608050002 | C11: PAPUA TENGAH | D11: PUNCAK JAYA | E11: MEWOLUK | F11: GUMBURU | G11: 100 | H11: karena 303a berubah dari 3 menjadi 2 maka 303b-d harus diisi juga | I11: EA_r303a | J11: =CONCATENATE(LEFT(B11,4),"-",D11) -> 9608-PUNCAK JAYA | K11: =IF(G11=100,1,0) -> 1
A12: https://fasih-sm.bps.go.id/survey-collection/assignment-detail/d44ed4ec-54b4-44de-a3b8-52156ac21e74/345cbe9e-45b8-42c2-bc4a-c76fe52a97ea | B12: 9608080001 | C12: PAPUA TENGAH | D12: PUNCAK JAYA | E12: WANWI | F12: BUNALUK | G12: 100 | H12: karena 303a berubah dari 3 menjadi 2 maka 303b-d harus diisi juga | I12: EA_r303a | J12: =CONCATENATE(LEFT(B12,4),"-",D12) -> 9608-PUNCAK JAYA | K12: =IF(G12=100,1,0) -> 1
A13: https://fasih-sm.bps.go.id/survey-collection/assignment-detail/9e60fb02-6c18-4b04-b840-ac05579e38b9/345cbe9e-45b8-42c2-bc4a-c76fe52a97ea | B13: 9608080002 | C13: PAPUA TENGAH | D13: PUNCAK JAYA | E13: WANWI | F13: GEREJA LAMA | G13: 100 | H13: karena 303a berubah dari 3 menjadi 2 maka 303b-d harus diisi juga | I13: EA_r303a | J13: =CONCATENATE(LEFT(B13,4),"-",D13) -> 9608-PUNCAK JAYA | K13: =IF(G13=100,1,0) -> 1
... A73: https://fasih-sm.bps.go.id/survey-collection/assignment-detail/2e1ba32d-9e17-443b-a82b-e733c2701ed1/345cbe9e-45b8-42c2-bc4a-c76fe52a97ea | B73: 9471030008 | C73: PAPUA | D73: JAYAPURA | E73: JAYAPURA SELATAN | F73: TAHIMA SOROMA | G73: 100 | H73: Desa berada di laut, sehingga hanya transportasi air, sehingga 901a = 2 | I73: W25_r901a | J73: =CONCATENATE(LEFT(B73,4),"-",D73) -> 9471-JAYAPURA | K73: =IF(G73=100,1,0) -> 1
A74: https://fasih-sm.bps.go.id/survey-collection/assignment-detail/e99d2d3b-b633-4b0f-8443-23758976fff8/345cbe9e-45b8-42c2-bc4a-c76fe52a97ea | B74: 9501010010 | C74: PAPUA SELATAN | D74: MERAUKE | E74: KIMAAM | F74: KIWORO | G74: 100 | I74: W25_r901a | J74: =CONCATENATE(LEFT(B74,4),"-",D74) -> 9501-MERAUKE | K74: =IF(G74=100,1,0) -> 1
A75: https://fasih-sm.bps.go.id/survey-collection/assignment-detail/2223a040-1419-4b80-988d-dbbc3fa89a37/345cbe9e-45b8-42c2-bc4a-c76fe52a97ea | B75: 9607110013 | C75: PAPUA TENGAH | D75: PUNCAK | E75: OMUKIA | F75: BALAMAGALAMA | G75: 100 | H75: Salah klik | I75: W25_r901a | J75: =CONCATENATE(LEFT(B75,4),"-",D75) -> 9607-PUNCAK | K75: =IF(G75=100,1,0) -> 1
A76: https://fasih-sm.bps.go.id/survey-collection/assignment-detail/82b5f35d-1f89-43da-abec-978a72aaa21b/345cbe9e-45b8-42c2-bc4a-c76fe52a97ea | B76: 9607110014 | C76: PAPUA TENGAH | D76: PUNCAK | E76: OMUKIA | F76: AWILKINOP | G76: 100 | H76: Salah klik | I76: W25_r901a | J76: =CONCATENATE(LEFT(B76,4),"-",D76) -> 9607-PUNCAK | K76: =IF(G76=100,1,0) -> 1
A77: https://fasih-sm.bps.go.id/survey-collection/assignment-detail/29c9fc6b-b3f9-44cb-bfea-ff097c7a8b16/345cbe9e-45b8-42c2-bc4a-c76fe52a97ea | B77: 9409100024 | C77: PAPUA | D77: BIAK NUMFOR | E77: BIAK BARAT | F77: SUMBINYA | G77: 100 | H77: Di tepi/sekitar kawasan hutan | I77: W_r603a | J77: =CONCATENATE(LEFT(B77,4),"-",D77) -> 9409-BIAK NUMFOR | K77: =IF(G77=100,1,0) -> 1
A78: https://fasih-sm.bps.go.id/survey-collection/assignment-detail/ca4ad045-9762-44b9-b415-077214c4a963/345cbe9e-45b8-42c2-bc4a-c76fe52a97ea | B78: 9409100030 | C78: PAPUA | D78: BIAK NUMFOR | E78: BIAK BARAT | F78: RARSBARI | G78: 100 | H78: Di tepi/sekitar kawasan hutan | I78: W_r603a | J78: =CONCATENATE(LEFT(B78,4),"-",D78) -> 9409-BIAK NUMFOR | K78: =IF(G78=100,1,0) -> 1
A79: https://fasih-sm.bps.go.id/survey-collection/assignment-detail/066175f7-9466-4819-8edd-dbb2c74e9106/345cbe9e-45b8-42c2-bc4a-c76fe52a97ea | B79: 9426021009 | C79: PAPUA | D79: WAROPEN | E79: RISEI SAYATI | F79: GHAIWARU | G79: 100 | I79: W_r603a | J79: =CONCATENATE(LEFT(B79,4),"-",D79) -> 9426-WAROPEN | K79: =IF(G79=100,1,0) -> 1
A80: https://fasih-sm.bps.go.id/survey-collection/assignment-detail/86834fbc-df68-436d-b0fc-3c569e2ca649/345cbe9e-45b8-42c2-bc4a-c76fe52a97ea | B80: 9471021001 | C80: PAPUA | D80: JAYAPURA | E80: HERAM | F80: YOKA | G80: 40 | H80: 303a = 3, 603a = 2 | I80: W_r603a | J80: =CONCATENATE(LEFT(B80,4),"-",D80) -> 9471-JAYAPURA | K80: 1
A81: https://fasih-sm.bps.go.id/survey-collection/assignment-detail/dd757458-e7b4-4ef0-87cc-ee1e21ec23cf/345cbe9e-45b8-42c2-bc4a-c76fe52a97ea | B81: 9471021005 | C81: PAPUA | D81: JAYAPURA | E81: HERAM | F81: WAENA | G81: 40 | H81: 303a = 3, 603a = 2 | I81: W_r603a | J81: =CONCATENATE(LEFT(B81,4),"-",D81) -> 9471-JAYAPURA | K81: 1

Sheet Konfirmasi tabulasi dan konsist
A1: url | B1: kode_desa | C1: nama_prov | D1: nama_kab | E1: nama_kec | F1: nama_desa | G1: progres | H1: catatan | I1: nama_sheet | J1: kode_kab | K1: konfirmasi
A2: https://fasih-sm.bps.go.id/survey-collection/assignment-detail/ff025f33-791f-423a-bfbd-ed1c07b87f6a/345cbe9e-45b8-42c2-bc4a-c76fe52a97ea | B2: 9403161008 | C2: PAPUA | D2: JAYAPURA | E2: NIMBORAN TIMUR / NAMBLONG | F2: SUMBE | G2: 100 | H2: r303b,r303c,r303d ? | I2: W25_r303a | J2: =CONCATENATE(LEFT(B2,4),"-",D2) -> 9403-JAYAPURA | K2: =IF(G2=100,1,0) -> 1
A3: https://fasih-sm.bps.go.id/survey-collection/assignment-detail/29c9fc6b-b3f9-44cb-bfea-ff097c7a8b16/345cbe9e-45b8-42c2-bc4a-c76fe52a97ea | B3: 9409100024 | C3: PAPUA | D3: BIAK NUMFOR | E3: BIAK BARAT | F3: SUMBINYA | G3: 100 | H3: r303b,r303c,r303d ? | I3: W25_r303a | J3: =CONCATENATE(LEFT(B3,4),"-",D3) -> 9409-BIAK NUMFOR | K3: =IF(G3=100,1,0) -> 1
A4: https://fasih-sm.bps.go.id/survey-collection/assignment-detail/ca4ad045-9762-44b9-b415-077214c4a963/345cbe9e-45b8-42c2-bc4a-c76fe52a97ea | B4: 9409100030 | C4: PAPUA | D4: BIAK NUMFOR | E4: BIAK BARAT | F4: RARSBARI | G4: 100 | H4: r303b,r303c,r303d ? | I4: W25_r303a | J4: =CONCATENATE(LEFT(B4,4),"-",D4) -> 9409-BIAK NUMFOR | K4: =IF(G4=100,1,0) -> 1
A5: https://fasih-sm.bps.go.id/survey-collection/assignment-detail/7ca51055-e40d-45d8-a696-c1ce7cf6e8bb/345cbe9e-45b8-42c2-bc4a-c76fe52a97ea | B5: 9403150007 | C5: PAPUA | D5: JAYAPURA | E5: KEMTUK GRESI | F5: DAMOI KATI | G5: 100 | H5: Belum operasional | I5: W25_r1301a | J5: =CONCATENATE(LEFT(B5,4),"-",D5) -> 9403-JAYAPURA | K5: =IF(G5=100,1,0) -> 1
A6: https://fasih-sm.bps.go.id/survey-collection/assignment-detail/d1750da5-bd45-45c5-bf08-6beb9b10b625/345cbe9e-45b8-42c2-bc4a-c76fe52a97ea | B6: 9408052004 | C6: PAPUA | D6: KEPULAUAN YAPEN | E6: YAWAKUKAT | F6: KONTIUNAI | G6: 100 | H6: salah input. SPPG ada di kampung roipi II | I6: W25_r1301a | J6: =CONCATENATE(LEFT(B6,4),"-",D6) -> 9408-KEPULAUAN YAPEN | K6: =IF(G6=100,1,0) -> 1
A7: https://fasih-sm.bps.go.id/survey-collection/assignment-detail/bfed0997-3d99-42e3-b0dc-838d851cd983/345cbe9e-45b8-42c2-bc4a-c76fe52a97ea | B7: 9409011003 | C7: PAPUA | D7: BIAK NUMFOR | E7: ORKERI | F7: PAKREKI | G7: 100 | H7: SPPG di pulau Biak | I7: W25_r1301a | J7: =CONCATENATE(LEFT(B7,4),"-",D7) -> 9409-BIAK NUMFOR | K7: =IF(G7=100,1,0) -> 1
A8: https://fasih-sm.bps.go.id/survey-collection/assignment-detail/710f5c65-d4b8-40c9-a889-6e355a6454f3/345cbe9e-45b8-42c2-bc4a-c76fe52a97ea | B8: 9409020019 | C8: PAPUA | D8: BIAK NUMFOR | E8: NUMFOR TIMUR | F8: BARKORI | G8: 100 | H8: SPPG di pulau Biak | I8: W25_r1301a | J8: =CONCATENATE(LEFT(B8,4),"-",D8) -> 9409-BIAK NUMFOR | K8: =IF(G8=100,1,0) -> 1
A9: https://fasih-sm.bps.go.id/survey-collection/assignment-detail/7744a3a5-eca9-4a1b-bc8e-3cd62ccdd6ff/345cbe9e-45b8-42c2-bc4a-c76fe52a97ea | B9: 9409022005 | C9: PAPUA | D9: BIAK NUMFOR | E9: POIRU | F9: ANDEI | G9: 100 | H9: SPPG di pulau Biak | I9: W25_r1301a | J9: =CONCATENATE(LEFT(B9,4),"-",D9) -> 9409-BIAK NUMFOR | K9: =IF(G9=100,1,0) -> 1
A10: https://fasih-sm.bps.go.id/survey-collection/assignment-detail/c0fe9d5d-4096-43dd-a3c6-dab0cfbf2da2/345cbe9e-45b8-42c2-bc4a-c76fe52a97ea | B10: 9409060013 | C10: PAPUA | D10: BIAK NUMFOR | E10: SAMOFA | F10: KAMORFUAR | G10: 100 | H10: Tidak ada dapur SPPG | I10: W25_r1301a | J10: =CONCATENATE(LEFT(B10,4),"-",D10) -> 9409-BIAK NUMFOR | K10: =IF(G10=100,1,0) -> 1
A11: https://fasih-sm.bps.go.id/survey-collection/assignment-detail/c548104b-bb90-415b-b67b-847de77ca944/345cbe9e-45b8-42c2-bc4a-c76fe52a97ea | B11: 9409092001 | C11: PAPUA | D11: BIAK NUMFOR | E11: BONDIFUAR | F11: SANSUNDI | G11: 100 | H11: Tidak ada dapur SPPG | I11: W25_r1301a | J11: =CONCATENATE(LEFT(B11,4),"-",D11) -> 9409-BIAK NUMFOR | K11: =IF(G11=100,1,0) -> 1
A12: https://fasih-sm.bps.go.id/survey-collection/assignment-detail/e9ec151e-1767-4978-9ae2-012298c2bcb0/345cbe9e-45b8-42c2-bc4a-c76fe52a97ea | B12: 9604110001 | C12: PAPUA TENGAH | D12: NABIRE | E12: WANGGAR | F12: WIRASKA | G12: 100 | H12: Tidak ada dapur SPPG | I12: W25_r1301a | J12: =CONCATENATE(LEFT(B12,4),"-",D12) -> 9604-NABIRE | K12: =IF(G12=100,1,0) -> 1
A13: https://fasih-sm.bps.go.id/survey-collection/assignment-detail/8c555ad1-5d8f-49e1-8f69-9bb63cbacf1e/345cbe9e-45b8-42c2-bc4a-c76fe52a97ea | B13: 9604110005 | C13: PAPUA TENGAH | D13: NABIRE | E13: WANGGAR | F13: WANGGAR SARI | G13: 100 | H13: tidak ada dapur sppg | I13: W25_r1301a | J13: =CONCATENATE(LEFT(B13,4),"-",D13) -> 9604-NABIRE | K13: =IF(G13=100,1,0) -> 1
... A19: https://fasih-sm.bps.go.id/survey-collection/assignment-detail/dc78c1f5-067a-4878-80df-5b871032270d/345cbe9e-45b8-42c2-bc4a-c76fe52a97ea | B19: 9607040006 | C19: PAPUA TENGAH | D19: PUNCAK | E19: GOME | F19: WAKO | G19: 100 | H19: Tidak ada SPPG | I19: W25_r1301a | J19: =CONCATENATE(LEFT(B19,4),"-",D19) -> 9607-PUNCAK | K19: =IF(G19=100,1,0) -> 1

Sheet Pivot Table D

Sheet Awal
A1: KODE KAB | B1: APPROVED BY Pengawas | C1: COMPLETED BY Admin Kabupaten | D1: DRAFT | E1: EDITED BY Admin Kabupaten | F1: EDITED BY Pengawas | G1: OPEN | H1: REJECTED BY Pengawas | I1: REVOKED BY Pengawas | J1: SUBMITTED BY Pencacah | K1: SUBMITTED RESPONDENT | L1: JUMLAH PRELIST USAHA & KELUARGA | M1: JUMLAH PRELIST AWAL DIDATA | N1: PROGRES PRELIST AWAL | AA1: LAST UPDATE
A2: 9403 | B2: 702 | C2: 0 | D2: 296 | E2: 0 | F2: 0 | G2: 53938 | H2: 37 | I2: 0 | J2: 3140 | K2: 0 | L2: =SUM(B2:K2) -> 58113 | M2: =SUM(B2:K2)-D2-G2 -> 3879 | N2: =100*M2/L2 -> 6.6749264 | AA2: 26-06-2026 08:01:24 WIT
A3: 9408 | B3: 189 | C3: 0 | D3: 236 | E3: 0 | F3: 1 | G3: 29412 | H3: 39 | I3: 1 | J3: 2368 | K3: 0 | L3: =SUM(B3:K3) -> 32246 | M3: =SUM(B3:K3)-D3-G3 -> 2598 | N3: =100*M3/L3 -> 8.0568132
A4: 9409 | B4: 349 | C4: 0 | D4: 365 | E4: 0 | F4: 0 | G4: 32353 | H4: 255 | I4: 5 | J4: 1804 | K4: 2 | L4: =SUM(B4:K4) -> 35133 | M4: =SUM(B4:K4)-D4-G4 -> 2415 | N4: =100*M4/L4 -> 6.8738793
A5: 9419 | B5: 90 | C5: 0 | D5: 124 | E5: 0 | F5: 0 | G5: 8344 | H5: 5 | I5: 0 | J5: 491 | K5: 0 | L5: =SUM(B5:K5) -> 9054 | M5: =SUM(B5:K5)-D5-G5 -> 586 | N5: =100*M5/L5 -> 6.4722774
A6: 9420 | B6: 739 | C6: 0 | D6: 519 | E6: 0 | F6: 1 | G6: 18851 | H6: 131 | I6: 4 | J6: 993 | K6: 3 | L6: =SUM(B6:K6) -> 21241 | M6: =SUM(B6:K6)-D6-G6 -> 1871 | N6: =100*M6/L6 -> 8.8084365
A7: 9426 | B7: 62 | C7: 0 | D7: 58 | E7: 0 | F7: 1 | G7: 6541 | H7: 16 | I7: 0 | J7: 176 | K7: 0 | L7: =SUM(B7:K7) -> 6854 | M7: =SUM(B7:K7)-D7-G7 -> 255 | N7: =100*M7/L7 -> 3.7204552
A8: 9427 | B8: 91 | C8: 0 | D8: 89 | E8: 0 | F8: 0 | G8: 4126 | H8: 6 | I8: 0 | J8: 577 | K8: 0 | L8: =SUM(B8:K8) -> 4889 | M8: =SUM(B8:K8)-D8-G8 -> 674 | N8: =100*M8/L8 -> 13.78605
A9: 9428 | B9: 0 | C9: 0 | D9: 0 | E9: 0 | F9: 0 | G9: 5119 | H9: 0 | I9: 0 | J9: 0 | K9: 0 | L9: =SUM(B9:K9) -> 5119 | M9: =SUM(B9:K9)-D9-G9 -> 0 | N9: =100*M9/L9 -> 0
A10: 9471 | B10: 2432 | C10: 0 | D10: 1337 | E10: 0 | F10: 4 | G10: 132637 | H10: 271 | I10: 22 | J10: 7382 | K10: 2 | L10: =SUM(B10:K10) -> 144087 | M10: =SUM(B10:K10)-D10-G10 -> 10113 | N10: =100*M10/L10 -> 7.0186762
A11: 9501 | B11: 2345 | C11: 98 | D11: 1109 | E11: 1 | F11: 1 | G11: 75389 | H11: 261 | I11: 5 | J11: 2201 | K11: 11 | L11: =SUM(B11:K11) -> 81421 | M11: =SUM(B11:K11)-D11-G11 -> 4923 | N11: =100*M11/L11 -> 6.0463517
A12: 9502 | B12: 71 | C12: 0 | D12: 277 | E12: 0 | F12: 0 | G12: 17888 | H12: 14 | I12: 0 | J12: 847 | K12: 27 | L12: =SUM(B12:K12) -> 19124 | M12: =SUM(B12:K12)-D12-G12 -> 959 | N12: =100*M12/L12 -> 5.0146413
A13: 9503 | B13: 118 | C13: 0 | D13: 132 | E13: 1 | F13: 1 | G13: 20554 | H13: 9 | I13: 0 | J13: 169 | K13: 1 | L13: =SUM(B13:K13) -> 20985 | M13: =SUM(B13:K13)-D13-G13 -> 299 | N13: =100*M13/L13 -> 1.4248273
A14: 9504 | B14: 125 | C14: 0 | D14: 31 | E14: 0 | F14: 0 | G14: 14604 | H14: 1 | I14: 0 | J14: 141 | K14: 0 | L14: =SUM(B14:K14) -> 14902 | M14: =SUM(B14:K14)-D14-G14 -> 267 | N14: =100*M14/L14 -> 1.7917058
... A30: 9708 | B30: 0 | C30: 3 | D30: 15 | E30: 0 | F30: 0 | G30: 16240 | H30: 2 | I30: 0 | J30: 195 | K30: 0 | L30: =SUM(B30:K30) -> 16455 | M30: =SUM(B30:K30)-D30-G30 -> 200 | N30: =100*M30/L30 -> 1.215436
A32: LAST UPDATE | K32: PAPUA | M32: =SUM(M2:M10) -> 22391 | N32: =100*M32/#REF! -> #REF!
A33: 30-06-2026 08:24 WIT | K33: PAPSEL | M33: =SUM(M11:M14) -> 6448 | N33: =100*M33/#REF! -> #REF!
K34: PAPTENG | M34: =SUM(M15:M22) -> 5600 | N34: =100*M34/#REF! -> #REF!
K35: PAPGUN | M35: =SUM(M23:M30) -> 1388 | N35: =100*M35/#REF! -> #REF!

Sheet Tambahan
A1: KODE KAB | B1: APPROVED BY Pengawas | C1: COMPLETED BY Admin Kabupaten | D1: DRAFT | E1: EDITED BY Admin Kabupaten | F1: EDITED BY Pengawas | G1: REJECTED BY Admin Kabupaten | H1: REJECTED BY Pengawas | I1: REVOKED BY Pengawas | J1: SUBMITTED BY Pencacah | K1: SUBMITTED RESPONDENT | L1: TOTAL ASSIGNMENT TAMBAHAN
A2: 9403 | B2: 298 | C2: 0 | D2: 378 | E2: 0 | F2: 0 | G2: 0 | H2: 33 | I2: 0 | J2: 1236 | K2: 0 | L2: =SUM(B2:K2) -> 1945
A3: 9408 | B3: 75 | C3: 0 | D3: 182 | E3: 0 | F3: 1 | G3: 0 | H3: 29 | I3: 2 | J3: 990 | K3: 0 | L3: =SUM(B3:K3) -> 1279
A4: 9409 | B4: 505 | C4: 0 | D4: 484 | E4: 0 | F4: 1 | G4: 0 | H4: 265 | I4: 7 | J4: 1592 | K4: 0 | L4: =SUM(B4:K4) -> 2854
A5: 9419 | B5: 175 | C5: 0 | D5: 109 | E5: 0 | F5: 0 | G5: 0 | H5: 7 | I5: 0 | J5: 509 | K5: 0 | L5: =SUM(B5:K5) -> 800
A6: 9420 | B6: 292 | C6: 0 | D6: 278 | E6: 0 | F6: 0 | G6: 0 | H6: 38 | I6: 0 | J6: 376 | K6: 0 | L6: =SUM(B6:K6) -> 984
A7: 9426 | B7: 102 | C7: 0 | D7: 44 | E7: 0 | F7: 0 | G7: 0 | H7: 14 | I7: 0 | J7: 211 | K7: 0 | L7: =SUM(B7:K7) -> 371
A8: 9427 | B8: 10 | C8: 0 | D8: 26 | E8: 0 | F8: 0 | G8: 0 | H8: 3 | I8: 0 | J8: 220 | K8: 0 | L8: =SUM(B8:K8) -> 259
A9: 9428 | B9: 0 | C9: 0 | D9: 2 | E9: 0 | F9: 0 | G9: 0 | H9: 0 | I9: 0 | J9: 17 | K9: 0 | L9: =SUM(B9:K9) -> 19
A10: 9471 | B10: 1062 | C10: 0 | D10: 911 | E10: 0 | F10: 1 | G10: 0 | H10: 141 | I10: 3 | J10: 2850 | K10: 0 | L10: =SUM(B10:K10) -> 4968
A11: 9501 | B11: 767 | C11: 199 | D11: 626 | E11: 0 | F11: 1 | G11: 1 | H11: 99 | I11: 6 | J11: 1120 | K11: 1 | L11: =SUM(B11:K11) -> 2820
A12: 9502 | B12: 116 | C12: 0 | D12: 153 | E12: 0 | F12: 0 | G12: 0 | H12: 30 | I12: 2 | J12: 700 | K12: 0 | L12: =SUM(B12:K12) -> 1001
A13: 9503 | B13: 140 | C13: 0 | D13: 322 | E13: 3 | F13: 0 | G13: 0 | H13: 23 | I13: 0 | J13: 402 | K13: 0 | L13: =SUM(B13:K13) -> 890
... A30: 9708 | B30: 8 | C30: 10 | D30: 50 | E30: 0 | F30: 0 | G30: 0 | H30: 1 | I30: 0 | J30: 213 | K30: 0 | L30: =SUM(B30:K30) -> 282
A32: LAST UPDATE
A33: 30-06-2026 08:37 WIT

Sheet Petugas_94
A1: KODE KAB | B1: USERNAME | C1: IDSUBSLS | D1: APPROVED BY Pengawas | E1: DRAFT | F1: OPEN | G1: REJECTED BY Pengawas | H1: REVOKED BY Pengawas | I1: SUBMITTED BY Pencacah | K1: LAST UPDATE | L1: 10-07-2026 07:50 WIT
A2: 9403 | B2: budi130985@gmail.com | C2: 9403080005001100 | D2: 85 | E2: 1 | F2: 89 | G2: 0 | H2: 0 | I2: 41
A3: 9403 | B3: budi130985@gmail.com | C3: 9403080005401200 | D3: 0 | E3: 0 | F3: 74 | G3: 0 | H3: 0 | I3: 0
A4: 9403 | B4: budi130985@gmail.com | C4: 9403080005401100 | D4: 0 | E4: 0 | F4: 64 | G4: 0 | H4: 0 | I4: 0
A5: 9403 | B5: budi130985@gmail.com | C5: 9403080005401000 | D5: 0 | E5: 0 | F5: 10 | G5: 0 | H5: 0 | I5: 0
A6: 9403 | B6: biak88296@gmail.com | C6: 9403080005400400 | D6: 0 | E6: 0 | F6: 110 | G6: 0 | H6: 0 | I6: 0
A7: 9403 | B7: biak88296@gmail.com | C7: 9403080005400500 | D7: 1 | E7: 0 | F7: 73 | G7: 0 | H7: 0 | I7: 1
A8: 9403 | B8: biak88296@gmail.com | C8: 9403080005400600 | D8: 2 | E8: 0 | F8: 69 | G8: 0 | H8: 0 | I8: 0
A9: 9403 | B9: biak88296@gmail.com | C9: 9403080005400700 | D9: 0 | E9: 0 | F9: 27 | G9: 0 | H9: 0 | I9: 0
A10: 9403 | B10: biak88296@gmail.com | C10: 9403080005400900 | D10: 0 | E10: 0 | F10: 6 | G10: 0 | H10: 0 | I10: 0
A11: 9403 | B11: widiastodwiloka8@gmail.com | C11: 9403081004000100 | D11: 0 | E11: 0 | F11: 82 | G11: 0 | H11: 0 | I11: 0
A12: 9403 | B12: widiastodwiloka8@gmail.com | C12: 9403081001000100 | D12: 0 | E12: 0 | F12: 57 | G12: 0 | H12: 0 | I12: 0
A13: 9403 | B13: widiastodwiloka8@gmail.com | C13: 9403081002000100 | D13: 0 | E13: 0 | F13: 55 | G13: 0 | H13: 0 | I13: 0
... A5050: 9471 | B5050: sedeletmoyu@gmail.com | C5050: 9471021006200200 | D5050: 0 | E5050: 0 | F5050: 2 | G5050: 0 | H5050: 0 | I5050: 0
I5051: 41
I5052: 59
I5053: 0
I5054: 13
I5055: 3
I5056: 0
I5057: 1
I5058: 0
I5059: 0
I5060: 0
I5061: 0
I5062: 1
... I5946: 5
K11625: 26-06-2026 17:18 WIT

Sheet Petugas_95
A1: KODE KAB | B1: USERNAME | C1: IDSUBSLS | D1: APPROVED BY Pengawas | E1: DRAFT | F1: OPEN | G1: REJECTED BY Pengawas | H1: REVOKED BY Pengawas | I1: SUBMITTED BY Pencacah | K1: LAST UPDATE | L1: 10-07-2026 07:54 WIT
A2: 9501 | B2: waambe41@gmail.com | C2: 9501010004000200 | D2: 0 | E2: 0 | F2: 44 | G2: 0 | H2: 0 | I2: 0
A3: 9501 | B3: waambe41@gmail.com | C3: 9501010001000300 | D3: 0 | E3: 0 | F3: 19 | G3: 0 | H3: 0 | I3: 19
A4: 9501 | B4: waambe41@gmail.com | C4: 9501010001000100 | D4: 0 | E4: 0 | F4: 33 | G4: 0 | H4: 0 | I4: 0
A5: 9501 | B5: waambe41@gmail.com | C5: 9501010004000100 | D5: 0 | E5: 0 | F5: 30 | G5: 0 | H5: 0 | I5: 0
A6: 9501 | B6: waambe41@gmail.com | C6: 9501010002000100 | D6: 0 | E6: 0 | F6: 28 | G6: 0 | H6: 0 | I6: 0
A7: 9501 | B7: waambe41@gmail.com | C7: 9501010004000300 | D7: 0 | E7: 0 | F7: 27 | G7: 0 | H7: 0 | I7: 0
A8: 9501 | B8: waambe41@gmail.com | C8: 9501010003000200 | D8: 0 | E8: 0 | F8: 26 | G8: 0 | H8: 0 | I8: 0
A9: 9501 | B9: waambe41@gmail.com | C9: 9501010001000600 | D9: 0 | E9: 0 | F9: 22 | G9: 0 | H9: 0 | I9: 0
A10: 9501 | B10: waambe41@gmail.com | C10: 9501010002000300 | D10: 0 | E10: 0 | F10: 22 | G10: 0 | H10: 0 | I10: 0
A11: 9501 | B11: waambe41@gmail.com | C11: 9501010001000200 | D11: 0 | E11: 0 | F11: 20 | G11: 0 | H11: 0 | I11: 0
A12: 9501 | B12: waambe41@gmail.com | C12: 9501010001000500 | D12: 0 | E12: 0 | F12: 19 | G12: 0 | H12: 0 | I12: 0
A13: 9501 | B13: waambe41@gmail.com | C13: 9501010002000200 | D13: 0 | E13: 0 | F13: 19 | G13: 0 | H13: 0 | I13: 0
... A4337: 9504 | B4337: ngutrabonefasius2000@gmail.com | C4337: 9504110006000502 | D4337: 0 | E4337: 0 | F4337: 31 | G4337: 0 | H4337: 0 | I4337: 0
I4338: 0
I4339: 0
I4340: 10
I4341: 0
K11625: 26-06-2026 17:18 WIT

Sheet Petugas_96
A1: KODE KAB | B1: USERNAME | C1: IDSUBSLS | D1: APPROVED BY Pengawas | E1: DRAFT | F1: OPEN | G1: REJECTED BY Pengawas | H1: REVOKED BY Pengawas | I1: SUBMITTED BY Pencacah | K1: LAST UPDATE | L1: 10-07-2026 08:00 WIT
A2: 9601 | B2: sugaku0811@gmail.com | C2: 9601080008001200 | D2: 0 | E2: 0 | F2: 233 | G2: 0 | H2: 0 | I2: 0
A3: 9601 | B3: sugaku0811@gmail.com | C3: 9601080010000300 | D3: 0 | E3: 0 | F3: 106 | G3: 11 | H3: 0 | I3: 21
A4: 9601 | B4: sugaku0811@gmail.com | C4: 9601080009000700 | D4: 0 | E4: 0 | F4: 84 | G4: 0 | H4: 0 | I4: 0
A5: 9601 | B5: sugaku0811@gmail.com | C5: 9601080005000300 | D5: 0 | E5: 0 | F5: 41 | G5: 0 | H5: 0 | I5: 22
A6: 9601 | B6: sugaku0811@gmail.com | C6: 9601080014001200 | D6: 0 | E6: 0 | F6: 48 | G6: 0 | H6: 0 | I6: 0
A7: 9601 | B7: gresrkadembo@gmail.com | C7: 9601080008001800 | D7: 0 | E7: 27 | F7: 161 | G7: 4 | H7: 0 | I7: 38
A8: 9601 | B8: gresrkadembo@gmail.com | C8: 9601080008001900 | D8: 0 | E8: 66 | F8: 141 | G8: 0 | H8: 0 | I8: 19
A9: 9601 | B9: gresrkadembo@gmail.com | C9: 9601080008002000 | D9: 0 | E9: 0 | F9: 90 | G9: 0 | H9: 0 | I9: 0
A10: 9601 | B10: gresrkadembo@gmail.com | C10: 9601080009000100 | D10: 0 | E10: 0 | F10: 76 | G10: 0 | H10: 0 | I10: 0
A11: 9601 | B11: gresrkadembo@gmail.com | C11: 9601080008002100 | D11: 0 | E11: 0 | F11: 14 | G11: 0 | H11: 0 | I11: 0
A12: 9601 | B12: putirulanfintje38@gmail.com | C12: 9601080012001700 | D12: 0 | E12: 0 | F12: 82 | G12: 0 | H12: 0 | I12: 0
A13: 9601 | B13: putirulanfintje38@gmail.com | C13: 9601080012001900 | D13: 0 | E13: 0 | F13: 27 | G13: 0 | H13: 0 | I13: 0
... A5200: 9608 | B5200: kayameherry@gmail.com | C5200: 9608240015200100 | D5200: 0 | E5200: 0 | F5200: 1 | G5200: 0 | H5200: 0 | I5200: 0
K11625: 26-06-2026 17:18 WIT

Sheet Petugas_97
A1: KODE KAB | B1: USERNAME | C1: IDSUBSLS | D1: APPROVED BY Pengawas | E1: DRAFT | F1: OPEN | G1: REJECTED BY Pengawas | H1: REVOKED BY Pengawas | I1: SUBMITTED BY Pencacah | K1: LAST UPDATE | L1: 10-07-2026 08:12 WIT
A2: 9701 | B2: carlosj1332@gmail.com | C2: 9701010002400100 | D2: 0 | E2: 0 | F2: 1 | G2: 0 | H2: 0 | I2: 0
A3: 9701 | B3: carlosj1332@gmail.com | C3: 9701010002400200 | D3: 0 | E3: 0 | F3: 1 | G3: 0 | H3: 0 | I3: 0
A4: 9701 | B4: monalis4@gmail.com | C4: 9701010002400300 | D4: 0 | E4: 0 | F4: 244 | G4: 0 | H4: 0 | I4: 0
A5: 9701 | B5: monalis4@gmail.com | C5: 9701010002400400 | D5: 0 | E5: 0 | F5: 1 | G5: 0 | H5: 0 | I5: 0
A6: 9701 | B6: natachor@gmail.com | C6: 9701010003400101 | D6: 0 | E6: 0 | F6: 231 | G6: 0 | H6: 0 | I6: 0
A7: 9701 | B7: natachor@gmail.com | C7: 9701010002400500 | D7: 0 | E7: 0 | F7: 1 | G7: 0 | H7: 0 | I7: 0
A8: 9701 | B8: septianirosalia@gmail.com | C8: 9701010003400102 | D8: 0 | E8: 0 | F8: 1 | G8: 0 | H8: 0 | I8: 0
A9: 9701 | B9: septianirosalia@gmail.com | C9: 9701010004400100 | D9: 0 | E9: 0 | F9: 1 | G9: 0 | H9: 0 | I9: 0
A10: 9701 | B10: serliniek@gmail.com | C10: 9701010004400200 | D10: 0 | E10: 0 | F10: 181 | G10: 0 | H10: 0 | I10: 0
A11: 9701 | B11: serliniek@gmail.com | C11: 9701010004400300 | D11: 0 | E11: 0 | F11: 1 | G11: 0 | H11: 0 | I11: 0
A12: 9701 | B12: natalinaas@gmail.com | C12: 9701010005400100 | D12: 0 | E12: 0 | F12: 179 | G12: 0 | H12: 0 | I12: 0
A13: 9701 | B13: natalinaas@gmail.com | C13: 9701010005400200 | D13: 0 | E13: 0 | F13: 1 | G13: 0 | H13: 0 | I13: 0
... A4208: 9708 | B4208: yormindipur483@gmail.com | C4208: 9708180007200100 | D4208: 0 | E4208: 0 | F4208: 30 | G4208: 0 | H4208: 0 | I4208: 0
I4209: 0
I4210: 0
I4211: 0
I4212: 0
I4213: 0
I4214: 0
I4215: 0
I4216: 0
I4217: 0
I4218: 0
I4219: 0
I4220: 0
... I4288: 0
K11625: 26-06-2026 17:18 WIT

Sheet Cek Progres Prelist Awal
A1: Kabupaten | B1: KODE KAB | C1: TOTAL | D1: OPEN | E1: DRAFT | F1: SUBMITTED BY PCL | G1: APPROVED BY PML | H1: REJECTED BY PML | I1: REVOKED BY PML | J1: COMPLETED BY ADMIN | K1: REJECTED BY ADMIN | L1: SUBMITTED BY RESPONDENT | M1: JUMLAH PRELIST | N1: JUMLAH DIDATA | O1: % OPEN | P1: % DRAFT | Q1: % SUBMITTED BY PPL | R1: % APPROVED BY PML | S1: % REJECTED BY PML | T1: % REVOKED BY PML | U1: % COMPLETED BY Admin Kabupaten | V1: % REJECTED BY Admin Kabupaten | W1: % SUBMITTED BY Respondent | X1: % PROGRES | Y1: Selisih
A2: =Data!A2 -> 9403-JAYAPURA | B2: =Data!B2 -> 9403 | C2: =#REF! -> #REF! | D2: =#REF! -> #REF! | E2: =#REF!-Tambahan!D2 -> #REF! | F2: =#REF!-Tambahan!I2 -> #REF! | G2: =#REF!-Tambahan!B2 -> #REF! | H2: =#REF!-Tambahan!G2 -> #REF! | I2: =#REF!-Tambahan!H2 -> #REF! | J2: =#REF!-Tambahan!C2 -> #REF! | K2: =#REF!-Tambahan!F2 -> #REF! | L2: =#REF!-Tambahan!J2 -> #REF! | M2: =C2-Tambahan!L2 -> #REF! | N2: =SUM(F2:L2) -> #REF! | O2: =D2/$C2 -> #REF! | P2: =E2/$C2 -> #REF! | Q2: =F2/$C2 -> #REF! | R2: =G2/$C2 -> #REF! | S2: =H2/$C2 -> #REF! | T2: =I2/$C2 -> #REF! | U2: =J2/$C2 -> #REF! | V2: =K2/$C2 -> #REF! | W2: =L2/$C2 -> #REF! | X2: =SUM(Q2:W2) -> #REF! | Y2: =N2-Awal!M2 -> #REF!
A3: =Data!A3 -> 9408-KEPULAUAN YAPEN | B3: =Data!B3 -> 9408 | C3: =#REF! -> #REF! | D3: =#REF! -> #REF! | E3: =#REF!-Tambahan!D3 -> #REF! | F3: =#REF!-Tambahan!I3 -> #REF! | G3: =#REF!-Tambahan!B3 -> #REF! | H3: =#REF!-Tambahan!G3 -> #REF! | I3: =#REF!-Tambahan!H3 -> #REF! | J3: =#REF!-Tambahan!C3 -> #REF! | K3: =#REF!-Tambahan!F3 -> #REF! | L3: =#REF!-Tambahan!J3 -> #REF! | M3: =C3-Tambahan!L3 -> #REF! | N3: =SUM(F3:L3) -> #REF! | O3: =D3/$C3 -> #REF! | P3: =E3/$C3 -> #REF! | Q3: =F3/$C3 -> #REF! | R3: =G3/$C3 -> #REF! | S3: =H3/$C3 -> #REF! | T3: =I3/$C3 -> #REF! | U3: =J3/$C3 -> #REF! | V3: =K3/$C3 -> #REF! | W3: =L3/$C3 -> #REF! | X3: =SUM(Q3:W3) -> #REF! | Y3: =N3-Awal!M3 -> #REF!
A4: =Data!A4 -> 9409-BIAK NUMFOR | B4: =Data!B4 -> 9409 | C4: =#REF! -> #REF! | D4: =#REF! -> #REF! | E4: =#REF!-Tambahan!D4 -> #REF! | F4: =#REF!-Tambahan!I4 -> #REF! | G4: =#REF!-Tambahan!B4 -> #REF! | H4: =#REF!-Tambahan!G4 -> #REF! | I4: =#REF!-Tambahan!H4 -> #REF! | J4: =#REF!-Tambahan!C4 -> #REF! | K4: =#REF!-Tambahan!F4 -> #REF! | L4: =#REF!-Tambahan!J4 -> #REF! | M4: =C4-Tambahan!L4 -> #REF! | N4: =SUM(F4:L4) -> #REF! | O4: =D4/$C4 -> #REF! | P4: =E4/$C4 -> #REF! | Q4: =F4/$C4 -> #REF! | R4: =G4/$C4 -> #REF! | S4: =H4/$C4 -> #REF! | T4: =I4/$C4 -> #REF! | U4: =J4/$C4 -> #REF! | V4: =K4/$C4 -> #REF! | W4: =L4/$C4 -> #REF! | X4: =SUM(Q4:W4) -> #REF! | Y4: =N4-Awal!M4 -> #REF!
A5: =Data!A5 -> 9419-SARMI | B5: =Data!B5 -> 9419 | C5: =#REF! -> #REF! | D5: =#REF! -> #REF! | E5: =#REF!-Tambahan!D5 -> #REF! | F5: =#REF!-Tambahan!I5 -> #REF! | G5: =#REF!-Tambahan!B5 -> #REF! | H5: =#REF!-Tambahan!G5 -> #REF! | I5: =#REF!-Tambahan!H5 -> #REF! | J5: =#REF!-Tambahan!C5 -> #REF! | K5: =#REF!-Tambahan!F5 -> #REF! | L5: =#REF!-Tambahan!J5 -> #REF! | M5: =C5-Tambahan!L5 -> #REF! | N5: =SUM(F5:L5) -> #REF! | O5: =D5/$C5 -> #REF! | P5: =E5/$C5 -> #REF! | Q5: =F5/$C5 -> #REF! | R5: =G5/$C5 -> #REF! | S5: =H5/$C5 -> #REF! | T5: =I5/$C5 -> #REF! | U5: =J5/$C5 -> #REF! | V5: =K5/$C5 -> #REF! | W5: =L5/$C5 -> #REF! | X5: =SUM(Q5:W5) -> #REF! | Y5: =N5-Awal!M5 -> #REF!
A6: =Data!A6 -> 9420-KEEROM | B6: =Data!B6 -> 9420 | C6: =#REF! -> #REF! | D6: =#REF! -> #REF! | E6: =#REF!-Tambahan!D6 -> #REF! | F6: =#REF!-Tambahan!I6 -> #REF! | G6: =#REF!-Tambahan!B6 -> #REF! | H6: =#REF!-Tambahan!G6 -> #REF! | I6: =#REF!-Tambahan!H6 -> #REF! | J6: =#REF!-Tambahan!C6 -> #REF! | K6: =#REF!-Tambahan!F6 -> #REF! | L6: =#REF!-Tambahan!J6 -> #REF! | M6: =C6-Tambahan!L6 -> #REF! | N6: =SUM(F6:L6) -> #REF! | O6: =D6/$C6 -> #REF! | P6: =E6/$C6 -> #REF! | Q6: =F6/$C6 -> #REF! | R6: =G6/$C6 -> #REF! | S6: =H6/$C6 -> #REF! | T6: =I6/$C6 -> #REF! | U6: =J6/$C6 -> #REF! | V6: =K6/$C6 -> #REF! | W6: =L6/$C6 -> #REF! | X6: =SUM(Q6:W6) -> #REF! | Y6: =N6-Awal!M6 -> #REF!
A7: =Data!A7 -> 9426-WAROPEN | B7: =Data!B7 -> 9426 | C7: =#REF! -> #REF! | D7: =#REF! -> #REF! | E7: =#REF!-Tambahan!D7 -> #REF! | F7: =#REF!-Tambahan!I7 -> #REF! | G7: =#REF!-Tambahan!B7 -> #REF! | H7: =#REF!-Tambahan!G7 -> #REF! | I7: =#REF!-Tambahan!H7 -> #REF! | J7: =#REF!-Tambahan!C7 -> #REF! | K7: =#REF!-Tambahan!F7 -> #REF! | L7: =#REF!-Tambahan!J7 -> #REF! | M7: =C7-Tambahan!L7 -> #REF! | N7: =SUM(F7:L7) -> #REF! | O7: =D7/$C7 -> #REF! | P7: =E7/$C7 -> #REF! | Q7: =F7/$C7 -> #REF! | R7: =G7/$C7 -> #REF! | S7: =H7/$C7 -> #REF! | T7: =I7/$C7 -> #REF! | U7: =J7/$C7 -> #REF! | V7: =K7/$C7 -> #REF! | W7: =L7/$C7 -> #REF! | X7: =SUM(Q7:W7) -> #REF! | Y7: =N7-Awal!M7 -> #REF!
A8: =Data!A8 -> 9427-SUPIORI | B8: =Data!B8 -> 9427 | C8: =#REF! -> #REF! | D8: =#REF! -> #REF! | E8: =#REF!-Tambahan!D8 -> #REF! | F8: =#REF!-Tambahan!I8 -> #REF! | G8: =#REF!-Tambahan!B8 -> #REF! | H8: =#REF!-Tambahan!G8 -> #REF! | I8: =#REF!-Tambahan!H8 -> #REF! | J8: =#REF!-Tambahan!C8 -> #REF! | K8: =#REF!-Tambahan!F8 -> #REF! | L8: =#REF!-Tambahan!J8 -> #REF! | M8: =C8-Tambahan!L8 -> #REF! | N8: =SUM(F8:L8) -> #REF! | O8: =D8/$C8 -> #REF! | P8: =E8/$C8 -> #REF! | Q8: =F8/$C8 -> #REF! | R8: =G8/$C8 -> #REF! | S8: =H8/$C8 -> #REF! | T8: =I8/$C8 -> #REF! | U8: =J8/$C8 -> #REF! | V8: =K8/$C8 -> #REF! | W8: =L8/$C8 -> #REF! | X8: =SUM(Q8:W8) -> #REF! | Y8: =N8-Awal!M8 -> #REF!
A9: =Data!A9 -> 9428-MAMBERAMO RAYA | B9: =Data!B9 -> 9428 | C9: =#REF! -> #REF! | D9: =#REF! -> #REF! | E9: =#REF!-Tambahan!D9 -> #REF! | F9: =#REF!-Tambahan!I9 -> #REF! | G9: =#REF!-Tambahan!B9 -> #REF! | H9: =#REF!-Tambahan!G9 -> #REF! | I9: =#REF!-Tambahan!H9 -> #REF! | J9: =#REF!-Tambahan!C9 -> #REF! | K9: =#REF!-Tambahan!F9 -> #REF! | L9: =#REF!-Tambahan!J9 -> #REF! | M9: =C9-Tambahan!L9 -> #REF! | N9: =SUM(F9:L9) -> #REF! | O9: =D9/$C9 -> #REF! | P9: =E9/$C9 -> #REF! | Q9: =F9/$C9 -> #REF! | R9: =G9/$C9 -> #REF! | S9: =H9/$C9 -> #REF! | T9: =I9/$C9 -> #REF! | U9: =J9/$C9 -> #REF! | V9: =K9/$C9 -> #REF! | W9: =L9/$C9 -> #REF! | X9: =SUM(Q9:W9) -> #REF! | Y9: =N9-Awal!M9 -> #REF!
A10: =Data!A10 -> 9471-JAYAPURA | B10: =Data!B10 -> 9471 | C10: =#REF! -> #REF! | D10: =#REF! -> #REF! | E10: =#REF!-Tambahan!D10 -> #REF! | F10: =#REF!-Tambahan!I10 -> #REF! | G10: =#REF!-Tambahan!B10 -> #REF! | H10: =#REF!-Tambahan!G10 -> #REF! | I10: =#REF!-Tambahan!H10 -> #REF! | J10: =#REF!-Tambahan!C10 -> #REF! | K10: =#REF!-Tambahan!F10 -> #REF! | L10: =#REF!-Tambahan!J10 -> #REF! | M10: =C10-Tambahan!L10 -> #REF! | N10: =SUM(F10:L10) -> #REF! | O10: =D10/$C10 -> #REF! | P10: =E10/$C10 -> #REF! | Q10: =F10/$C10 -> #REF! | R10: =G10/$C10 -> #REF! | S10: =H10/$C10 -> #REF! | T10: =I10/$C10 -> #REF! | U10: =J10/$C10 -> #REF! | V10: =K10/$C10 -> #REF! | W10: =L10/$C10 -> #REF! | X10: =SUM(Q10:W10) -> #REF! | Y10: =N10-Awal!M10 -> #REF!
A11: =Data!A11 -> 9501-MERAUKE | B11: =Data!B11 -> 9501 | C11: =#REF! -> #REF! | D11: =#REF! -> #REF! | E11: =#REF!-Tambahan!D11 -> #REF! | F11: =#REF!-Tambahan!I11 -> #REF! | G11: =#REF!-Tambahan!B11 -> #REF! | H11: =#REF!-Tambahan!G11 -> #REF! | I11: =#REF!-Tambahan!H11 -> #REF! | J11: =#REF!-Tambahan!C11 -> #REF! | K11: =#REF!-Tambahan!F11 -> #REF! | L11: =#REF!-Tambahan!J11 -> #REF! | M11: =C11-Tambahan!L11 -> #REF! | N11: =SUM(F11:L11) -> #REF! | O11: =D11/$C11 -> #REF! | P11: =E11/$C11 -> #REF! | Q11: =F11/$C11 -> #REF! | R11: =G11/$C11 -> #REF! | S11: =H11/$C11 -> #REF! | T11: =I11/$C11 -> #REF! | U11: =J11/$C11 -> #REF! | V11: =K11/$C11 -> #REF! | W11: =L11/$C11 -> #REF! | X11: =SUM(Q11:W11) -> #REF! | Y11: =N11-Awal!M11 -> #REF!
A12: =Data!A12 -> 9502-BOVEN DIGOEL | B12: =Data!B12 -> 9502 | C12: =#REF! -> #REF! | D12: =#REF! -> #REF! | E12: =#REF!-Tambahan!D12 -> #REF! | F12: =#REF!-Tambahan!I12 -> #REF! | G12: =#REF!-Tambahan!B12 -> #REF! | H12: =#REF!-Tambahan!G12 -> #REF! | I12: =#REF!-Tambahan!H12 -> #REF! | J12: =#REF!-Tambahan!C12 -> #REF! | K12: =#REF!-Tambahan!F12 -> #REF! | L12: =#REF!-Tambahan!J12 -> #REF! | M12: =C12-Tambahan!L12 -> #REF! | N12: =SUM(F12:L12) -> #REF! | O12: =D12/$C12 -> #REF! | P12: =E12/$C12 -> #REF! | Q12: =F12/$C12 -> #REF! | R12: =G12/$C12 -> #REF! | S12: =H12/$C12 -> #REF! | T12: =I12/$C12 -> #REF! | U12: =J12/$C12 -> #REF! | V12: =K12/$C12 -> #REF! | W12: =L12/$C12 -> #REF! | X12: =SUM(Q12:W12) -> #REF! | Y12: =N12-Awal!M12 -> #REF!
A13: =Data!A13 -> 9503-MAPPI | B13: =Data!B13 -> 9503 | C13: =#REF! -> #REF! | D13: =#REF! -> #REF! | E13: =#REF!-Tambahan!D13 -> #REF! | F13: =#REF!-Tambahan!I13 -> #REF! | G13: =#REF!-Tambahan!B13 -> #REF! | H13: =#REF!-Tambahan!G13 -> #REF! | I13: =#REF!-Tambahan!H13 -> #REF! | J13: =#REF!-Tambahan!C13 -> #REF! | K13: =#REF!-Tambahan!F13 -> #REF! | L13: =#REF!-Tambahan!J13 -> #REF! | M13: =C13-Tambahan!L13 -> #REF! | N13: =SUM(F13:L13) -> #REF! | O13: =D13/$C13 -> #REF! | P13: =E13/$C13 -> #REF! | Q13: =F13/$C13 -> #REF! | R13: =G13/$C13 -> #REF! | S13: =H13/$C13 -> #REF! | T13: =I13/$C13 -> #REF! | U13: =J13/$C13 -> #REF! | V13: =K13/$C13 -> #REF! | W13: =L13/$C13 -> #REF! | X13: =SUM(Q13:W13) -> #REF! | Y13: =N13-Awal!M13 -> #REF!
... A30: =Data!A30 -> 9708-PEGUNUNGAN BINTANG | B30: =Data!B30 -> 9708 | C30: =#REF! -> #REF! | D30: =#REF! -> #REF! | E30: =#REF!-Tambahan!D30 -> #REF! | F30: =#REF!-Tambahan!I30 -> #REF! | G30: =#REF!-Tambahan!B30 -> #REF! | H30: =#REF!-Tambahan!G30 -> #REF! | I30: =#REF!-Tambahan!H30 -> #REF! | J30: =#REF!-Tambahan!C30 -> #REF! | K30: =#REF!-Tambahan!F30 -> #REF! | L30: =#REF!-Tambahan!J30 -> #REF! | M30: =C30-Tambahan!L30 -> #REF! | N30: =SUM(F30:L30) -> #REF! | O30: =D30/$C30 -> #REF! | P30: =E30/$C30 -> #REF! | Q30: =F30/$C30 -> #REF! | R30: =G30/$C30 -> #REF! | S30: =H30/$C30 -> #REF! | T30: =I30/$C30 -> #REF! | U30: =J30/$C30 -> #REF! | V30: =K30/$C30 -> #REF! | W30: =L30/$C30 -> #REF! | X30: =SUM(Q30:W30) -> #REF! | Y30: =N30-Awal!M30 -> #REF!

Sheet Detail
A1: Progres | B1: =Dashboard!Q40 -> 100
A2: Update | B2: =CONCATENATE(Data!B32," ",Data!B33) -> 10-08-2026 17:27 WIT

Sheet Identifikasi Respon Rate
A1: no | B1: kdprov | C1: idkab | D1: nmkab | F1: jumlah desa | G1: target respon | H1: jumlah desa potensi non respon | I1: Persentase Non Respon | J1: Surat Non Respon dari Kabupaten | K1: Alasan Utama Non respon
A2: 1 | B2: 94 | C2: 9403 | D2: Jayapura | E2: =CONCATENATE(C2,"-",UPPER(D2)) -> 9403-JAYAPURA | F2: 144 | G2: =F2-H2 -> 116 | H2: 28 | I2: 19.44 | J2: TRUE | K2: Anggaran Kurang
A3: 2 | B3: 94 | C3: 9408 | D3: Kepulauan Yapen | E3: =CONCATENATE(C3,"-",UPPER(D3)) -> 9408-KEPULAUAN YAPEN | F3: 165 | G3: =F3-H3 -> 72 | H3: 93 | I3: 56.36 | J3: TRUE | K3: Anggaran Kurang
A4: 3 | B4: 94 | C4: 9409 | D4: Biak Numfor | E4: =CONCATENATE(C4,"-",UPPER(D4)) -> 9409-BIAK NUMFOR | F4: 271 | G4: =F4-H4 -> 198 | H4: 73 | I4: 26.94 | J4: TRUE | K4: Anggaran Kurang
A5: 4 | B5: 94 | C5: 9419 | D5: Sarmi | E5: =CONCATENATE(C5,"-",UPPER(D5)) -> 9419-SARMI | F5: 111 | G5: =F5-H5 -> 111 | H5: 0 | I5: 0 | J5: FALSE
A6: 5 | B6: 94 | C6: 9420 | D6: Keerom | E6: =CONCATENATE(C6,"-",UPPER(D6)) -> 9420-KEEROM | F6: 91 | G6: =F6-H6 -> 57 | H6: 34 | I6: 37.36 | J6: TRUE | K6: Anggaran Kurang
A7: 6 | B7: 94 | C7: 9426 | D7: Waropen | E7: =CONCATENATE(C7,"-",UPPER(D7)) -> 9426-WAROPEN | F7: 111 | G7: =F7-H7 -> 111 | H7: 0 | I7: 0 | J7: FALSE
A8: 7 | B8: 94 | C8: 9427 | D8: Supiori | E8: =CONCATENATE(C8,"-",UPPER(D8)) -> 9427-SUPIORI | F8: 38 | G8: =F8-H8 -> 25 | H8: 13 | I8: 34.21 | J8: TRUE | K8: Anggaran Kurang
A9: 8 | B9: 94 | C9: 9428 | D9: Mamberamo Raya | E9: =CONCATENATE(C9,"-",UPPER(D9)) -> 9428-MAMBERAMO RAYA | F9: 59 | G9: =F9-H9 -> 13 | H9: 46 | I9: 77.97 | J9: TRUE | K9: Anggaran Kurang
A10: 9 | B10: 94 | C10: 9471 | D10: Jayapura | E10: =CONCATENATE(C10,"-",UPPER(D10)) -> 9471-JAYAPURA | F10: 39 | G10: =F10-H10 -> 39 | H10: 0 | I10: 0 | J10: FALSE
A11: 10 | B11: 95 | C11: 9501 | D11: Merauke | E11: =CONCATENATE(C11,"-",UPPER(D11)) -> 9501-MERAUKE | F11: 190 | G11: =F11-H11 -> 190 | H11: 0 | I11: 0 | J11: FALSE
A12: 11 | B12: 95 | C12: 9502 | D12: Boven Digoel | E12: =CONCATENATE(C12,"-",UPPER(D12)) -> 9502-BOVEN DIGOEL | F12: 112 | G12: =F12-H12 -> 112 | H12: 0 | I12: 0 | J12: FALSE
A13: 12 | B13: 95 | C13: 9503 | D13: Mappi | E13: =CONCATENATE(C13,"-",UPPER(D13)) -> 9503-MAPPI | F13: 164 | G13: =F13-H13 -> 132 | H13: 32 | I13: 19.51 | J13: TRUE | K13: Anggaran Kurang
A14: 13 | B14: 95 | C14: 9504 | D14: Asmat | E14: =CONCATENATE(C14,"-",UPPER(D14)) -> 9504-ASMAT | F14: 224 | G14: =F14-H14 -> 130 | H14: 94 | I14: 41.96 | J14: TRUE | K14: Anggaran Kurang
A15: 14 | B15: 96 | C15: 9601 | D15: Mimika | E15: =CONCATENATE(C15,"-",UPPER(D15)) -> 9601-MIMIKA | F15: 152 | G15: =F15-H15 -> 85 | H15: 67 | I15: 44.08 | J15: TRUE | K15: Anggaran Kurang
A16: 15 | B16: 96 | C16: 9602 | D16: Dogiyai | E16: =CONCATENATE(C16,"-",UPPER(D16)) -> 9602-DOGIYAI | F16: 79 | G16: =F16-H16 -> 53 | H16: 26 | I16: 32.91 | J16: TRUE | K16: Anggaran Kurang
A17: 16 | B17: 96 | C17: 9603 | D17: Deiyai | E17: =CONCATENATE(C17,"-",UPPER(D17)) -> 9603-DEIYAI | F17: 67 | G17: =F17-H17 -> 52 | H17: 15 | I17: 22.39 | J17: TRUE | K17: Anggaran Kurang
A18: 17 | B18: 96 | C18: 9604 | D18: Nabire | E18: =CONCATENATE(C18,"-",UPPER(D18)) -> 9604-NABIRE | F18: 89 | G18: =F18-H18 -> 71 | H18: 18 | I18: 20.22 | J18: TRUE | K18: Anggaran Kurang
A19: 18 | B19: 96 | C19: 9605 | D19: Paniai | E19: =CONCATENATE(C19,"-",UPPER(D19)) -> 9605-PANIAI | F19: 216 | G19: =F19-H19 -> 148 | H19: 68 | I19: 31.48 | J19: TRUE | K19: Anggaran Kurang
A20: 19 | B20: 96 | C20: 9606 | D20: Intan Jaya | E20: =CONCATENATE(C20,"-",UPPER(D20)) -> 9606-INTAN JAYA | F20: 97 | G20: =F20-H20 -> 33 | H20: 64 | I20: 65.98 | J20: TRUE | K20: Anggaran Kurang
A21: 20 | B21: 96 | C21: 9607 | D21: Puncak | E21: =CONCATENATE(C21,"-",UPPER(D21)) -> 9607-PUNCAK | F21: 206 | G21: =F21-H21 -> 206 | H21: 0 | I21: 0 | J21: FALSE
A22: 21 | B22: 96 | C22: 9608 | D22: Puncak Jaya | E22: =CONCATENATE(C22,"-",UPPER(D22)) -> 9608-PUNCAK JAYA | F22: 302 | G22: =F22-H22 -> 50 | H22: 252 | I22: 83.44 | J22: TRUE | K22: Keamanan
A23: 22 | B23: 97 | C23: 9701 | D23: Nduga | E23: =CONCATENATE(C23,"-",UPPER(D23)) -> 9701-NDUGA | F23: 248 | G23: =F23-H23 -> 0 | H23: 248 | I23: 100 | J23: TRUE | K23: Anggaran Kurang
A24: 23 | B24: 97 | C24: 9702 | D24: Jayawijaya | E24: =CONCATENATE(C24,"-",UPPER(D24)) -> 9702-JAYAWIJAYA | F24: 332 | G24: =F24-H24 -> 326 | H24: 6 | I24: 1.81 | J24: TRUE | K24: Anggaran Kurang
A25: 24 | B25: 97 | C25: 9703 | D25: Lanny Jaya | E25: =CONCATENATE(C25,"-",UPPER(D25)) -> 9703-LANNY JAYA | F25: 355 | G25: =F25-H25 -> 146 | H25: 209 | I25: 58.87 | J25: TRUE | K25: Anggaran Kurang
A26: 25 | B26: 97 | C26: 9704 | D26: Tolikara | E26: =CONCATENATE(C26,"-",UPPER(D26)) -> 9704-TOLIKARA | F26: 545 | G26: =F26-H26 -> 465 | H26: 80 | I26: 14.68 | J26: TRUE | K26: Anggaran kurang dan Keamanan
A27: 26 | B27: 97 | C27: 9705 | D27: Mamberamo Tengah | E27: =CONCATENATE(C27,"-",UPPER(D27)) -> 9705-MAMBERAMO TENGAH | F27: 59 | G27: =F27-H27 -> 55 | H27: 4 | I27: 6.78 | J27: TRUE | K27: Anggaran Kurang
A28: 27 | B28: 97 | C28: 9706 | D28: Yalimo | E28: =CONCATENATE(C28,"-",UPPER(D28)) -> 9706-YALIMO | F28: 300 | G28: =F28-H28 -> 82 | H28: 218 | I28: 72.67 | J28: TRUE | K28: Anggaran Kurang
A29: 28 | B29: 97 | C29: 9707 | D29: Yahukimo | E29: =CONCATENATE(C29,"-",UPPER(D29)) -> 9707-YAHUKIMO | F29: 518 | G29: =F29-H29 -> 469 | H29: 49 | I29: 9.46 | J29: TRUE | K29: Keamanan
A30: 29 | B30: 97 | C30: 9708 | D30: Pegunungan Bintang | E30: =CONCATENATE(C30,"-",UPPER(D30)) -> 9708-PEGUNUNGAN BINTANG | F30: 277 | G30: =F30-H30 -> 132 | H30: 145 | I30: 52.35 | J30: TRUE | K30: Anggaran Kurang
A31: TOTAL | E31: =CONCATENATE(C31,"-",UPPER(D31)) -> - | F31: 5561 | G31: =F31-H31 -> 3679 | H31: 1882 | I31: 33.84

Sheet Copy of Dashboard
B2: SNLIK 2025 PEMUTAKHIRAN
B4: =CONCATENATE("MONITORING PER TANGGAL ",'Copy of Progres Terakhir'!B6," ",'Copy of Progres Terakhir'!B7) -> MONITORING PER TANGGAL 23 JANUARI 2025 SORE | I4: =CONCATENATE("PROGRES PER TANGGAL ",'Copy of Progres Terakhir'!B6," ",'Copy of Progres Terakhir'!B7) -> PROGRES PER TANGGAL 23 JANUARI 2025 SORE
B5: per kabupaten | I5: per kabupaten
B6: KABUPATEN | C6: TARGET | D6: OPEN | E6: SUBMITTED | F6: COMPLETED | G6: REJECTED
B7: (1) | C7: (2) | D7: (3) | E7: (4) | F7: (5) | G7: (6)
B8: ='Copy of Progres Terakhir'!B2 -> 9410-PANIAI | C8: ='Copy of Progres Terakhir'!C2 -> 1120 | D8: ='Copy of Progres Terakhir'!D2 -> 862 | E8: ='Copy of Progres Terakhir'!F2 -> 258 | F8: ='Copy of Progres Terakhir'!H2 -> 0 | G8: ='Copy of Progres Terakhir'!J2 -> 0
B9: ='Copy of Progres Terakhir'!B3 -> 9418-TOLIKARA | C9: ='Copy of Progres Terakhir'!C3 -> 604 | D9: ='Copy of Progres Terakhir'!D3 -> 442 | E9: ='Copy of Progres Terakhir'!F3 -> 24 | F9: ='Copy of Progres Terakhir'!H3 -> 138 | G9: ='Copy of Progres Terakhir'!J3 -> 0
B10: ='Copy of Progres Terakhir'!B4 -> 9471-JAYAPURA | C10: ='Copy of Progres Terakhir'!C4 -> 1404 | D10: ='Copy of Progres Terakhir'!D4 -> 0 | E10: ='Copy of Progres Terakhir'!F4 -> 0 | F10: ='Copy of Progres Terakhir'!H4 -> 1404 | G10: ='Copy of Progres Terakhir'!J4 -> 0
B11: PROVINSI | C11: =SUM(C8:C10) -> 3128 | D11: =SUM(D8:D10) -> 1304 | E11: =SUM(E8:E10) -> 282 | F11: =SUM(F8:F10) -> 1542 | G11: =SUM(G8:G10) -> 0
B12: PROGRES HARIAN PROVINSI
B13: per assignment
B22: PROGRES HARIAN KOTA JAYAPURA PER HARI | G22: PROGRES HARIAN PANIAI PER HARI | N22: PROGRES HARIAN TOLIKARA PER HARI
B23: per assignment | G23: per assignment | N23: per assignment

Sheet Copy of Progres Terakhir
B1: Kabupaten | C1: Target | D1: OPEN | E1: % OPEN | F1: SUBMITTED BY Pencacah | G1: % SUBMITTED BY Pencacah | H1: COMPLETED BY Pengawas | I1: % COMPLETED BY Pengawas | J1: REJECTED BY Pengawas | K1: % OPEN | L1: % SUBMITTED BY Pencacah | M1: % COMPLETED BY Pengawas
A2: 0 | B2: 9410-PANIAI | C2: 1120 | D2: 862 | E2: 0.769643 | F2: 258 | G2: 0.230357 | H2: 0 | I2: 0 | J2: 0 | K2: =100*E2 -> 76.9643 | L2: =100*G2 -> 23.0357 | M2: =100*I2 -> 0
A3: 1 | B3: 9418-TOLIKARA | C3: 604 | D3: 442 | E3: 0.731788 | F3: 24 | G3: 0.039735 | H3: 138 | I3: 0.228477 | J3: 0 | K3: =100*E3 -> 73.1788 | L3: =100*G3 -> 3.9735 | M3: =100*I3 -> 22.8477
A4: 2 | B4: 9471-JAYAPURA | C4: 1404 | D4: 0 | E4: 0 | F4: 0 | G4: 0 | H4: 1404 | I4: 1 | J4: 0 | K4: =100*E4 -> 0 | L4: =100*G4 -> 0 | M4: =100*I4 -> 100
A6: TANGGAL | B6: 23 JANUARI 2025
A7: WAKTU | B7: SORE

Sheet Copy of Progres Harian All
A1: Column 1 | B1: Kabupaten | C1: Target | D1: OPEN | E1: % OPEN | F1: SUBMITTED BY Pencacah | G1: % SUBMITTED BY Pencacah | H1: COMPLETED BY Pengawas | I1: % COMPLETED BY Pengawas | J1: REJECTED BY Pengawas | K1: TANGGAL | L1: WAKTU
A2: 0 | B2: 9471-JAYAPURA | C2: 1157 | D2: 956 | E2: 0.826275 | F2: 199 | G2: 0.171997 | H2: 2 | I2: 0.001729 | J2: 0 | K2: 15 JANUARI 2025 | L2: SORE
A3: 1 | B3: 9410-PANIAI | C3: 1120 | D3: 1115 | E3: 0.995536 | F3: 5 | G3: 0.004464 | H3: 0 | I3: 0 | J3: 0 | K3: 15 JANUARI 2025 | L3: SORE
A4: 2 | B4: 9418-TOLIKARA | C4: 604 | D4: 604 | E4: 1 | F4: 0 | G4: 0 | H4: 0 | I4: 0 | J4: 0 | K4: 15 JANUARI 2025 | L4: SORE
A5: 0 | B5: 9471-JAYAPURA | C5: 1159 | D5: 913 | E5: 0.787748 | F5: 244 | G5: 0.210526 | H5: 2 | I5: 0.001726 | J5: 0 | K5: 16 JANUARI 2025 | L5: PAGI
A6: 1 | B6: 9410-PANIAI | C6: 1120 | D6: 1115 | E6: 0.995536 | F6: 5 | G6: 0.004464 | H6: 0 | I6: 0 | J6: 0 | K6: 16 JANUARI 2025 | L6: PAGI
A7: 2 | B7: 9418-TOLIKARA | C7: 604 | D7: 604 | E7: 1 | F7: 0 | G7: 0 | H7: 0 | I7: 0 | J7: 0 | K7: 16 JANUARI 2025 | L7: PAGI
A8: 0 | B8: 9471-JAYAPURA | C8: 1198 | D8: 794 | E8: 0.66277129 | F8: 402 | G8: 0.33555926 | H8: 2 | I8: 0.001669449 | J8: 0 | K8: 16 JANUARI 2025 | L8: SORE
A9: 1 | B9: 9410-PANIAI | C9: 1120 | D9: 1097 | E9: 0.97946429 | F9: 23 | G9: 0.020535714 | H9: 0 | I9: 0 | J9: 0 | K9: 16 JANUARI 2025 | L9: SORE
A10: 2 | B10: 9418-TOLIKARA | C10: 604 | D10: 604 | E10: 1 | F10: 0 | G10: 0 | H10: 0 | I10: 0 | J10: 0 | K10: 16 JANUARI 2025 | L10: SORE
A11: 0 | B11: 9471-JAYAPURA | C11: 1202 | D11: 770 | E11: 0.640599 | F11: 430 | G11: 0.3577371 | H11: 2 | I11: 0.0016638935 | J11: 0 | K11: 17 JANUARI 2025 | L11: PAGI
A12: 1 | B12: 9410-PANIAI | C12: 1120 | D12: 1097 | E12: 0.97946429 | F12: 23 | G12: 0.020535714 | H12: 0 | I12: 0 | J12: 0 | K12: 17 JANUARI 2025 | L12: PAGI
A13: 2 | B13: 9418-TOLIKARA | C13: 604 | D13: 604 | E13: 1 | F13: 0 | G13: 0 | H13: 0 | I13: 0 | J13: 0 | K13: 17 JANUARI 2025 | L13: PAGI
... A40: 2 | B40: 9471-JAYAPURA | C40: 1404 | D40: 0 | E40: 0 | F40: 0 | G40: 0 | H40: 1404 | I40: 1 | J40: 0 | K40: 23 JANUARI 2025 | L40: SORE

Sheet Monitoring
A1: No | B1: Kabupaten/Kota | C1: Pendataan
C2: Target | D2: Belum | E2: Proses | F2: Selesai (PPL) | G2: Approve (PML)
A3: 1 | B3: Kota Jayapura | C3: 90 RT | D3: 25 | E3: 0 | F3: 65 | G3: 22
A4: 2 | B4: Kabupaten Paniai | C4: 90 RT | D4: 50 | E4: 0 | F4: 40 | G4: 0
A5: 3 | B5: Kabupaten Tolikara | C5: 90 RT | D5: 16 | E5: 0 | F5: 74 | G5: 0
A7: MONITORING SNLIK 2025 PROVINSI PAPUA
A8: No | B8: Kabupaten/Kota | C8: Pendataan
C9: Target | D9: Belum | E9: Sedang | F9: Selesai (PPL) | G9: Approve (PML)
A10: 1 | B10: Kota Jayapura | C10: 90 RT | D10: =D3/90 -> 0.27777778 | E10: =E3/90 -> 0 | F10: =F3/90 -> 0.72222222 | G10: =G3/90 -> 0.24444444
A11: 2 | B11: Kabupaten Paniai | C11: 90 RT | D11: =D4/90 -> 0.55555556 | E11: =E4/90 -> 0 | F11: =F4/90 -> 0.44444444 | G11: =G4/90 -> 0
A12: 3 | B12: Kabupaten Tolikara | C12: 90 RT | D12: =D5/90 -> 0.17777778 | E12: =E5/90 -> 0 | F12: =F5/90 -> 0.82222222 | G12: =G5/90 -> 0
B13: Ket
B14: Kota Jayapura bersumber dari: | C14: fasih-dashboard.bps.go.id
B15: Kab. Paniai dan Tolikara bersumber dari | C15: https://shorturl.at/OFbGj
A18: no | B18: desa/keluarahan | C18: open | D18: submit by ppl | E18: approved by pml | F18: rejected by pml
A19: 1 | B19: koya timur | C19: 6 | D19: 4 | E19: 4 | F19: 0
A20: 2 | B20: awiyo | C20: 1 | D20: 9 | E20: 2 | F20: 0
A21: 3 | B21: koya koso | C21: 6 | D21: 4 | E21: 0 | F21: 0
A22: 4 | B22: vim | C22: 0 | D22: 10 | E22: 4 | F22: 0
A23: 5 | B23: kampung waena | C23: 8 | D23: 2 | E23: 0 | F23: 0
A24: 6 | B24: entrop | C24: 0 | D24: 10 | E24: 0 | F24: 0
A25: 7 | B25: ardipura | C25: 1 | D25: 9 | E25: 0 | F25: 0
A26: 8 | B26: gurabesi | C26: 3 | D26: 7 | E26: 2 | F26: 1
A27: 9 | B27: tanjung ria | C27: 0 | D27: 10 | E27: 10 | F27: 0
B28: sum | C28: =SUM(C19:C27) -> 25 | D28: =SUM(D19:D27) -> 65 | E28: =SUM(E19:E27) -> 22 | F28: =SUM(F19:F27) -> 1

Sheet Monitoring Fasih-SM per BS
A1: tanggal_jam | B1: idkab | C1: idbs | D1: status | E1: jumlah | F1: jam | G1: kondisi | H1: bulan | I1: tanggal
A2: 2025-01-20 07 | B2: 9410 | C2: 9410030010004B | D2: SUBMITTED BY PPL | E2: 23 | F2: =right(A2, 2) -> 07 | G2: =IF(INT(F2)>13,"SORE","PAGI") -> PAGI | H2: =if(mid(A2,7,1)="1","JANUARI","FEBRUARI") -> JANUARI | I2: =CONCATENATE(MID(A2,9,2)," ",H2," 2025") -> 20 JANUARI 2025
A3: 2025-01-20 07 | B3: 9418 | C3: 9418110002001B | D3: OPEN | E3: 11 | F3: =right(A3, 2) -> 07 | G3: =IF(INT(F3)>13,"SORE","PAGI") -> PAGI | H3: =if(mid(A3,7,1)="1","JANUARI","FEBRUARI") -> JANUARI | I3: =CONCATENATE(MID(A3,9,2)," ",H3," 2025") -> 20 JANUARI 2025
A4: 2025-01-20 07 | B4: 9418 | C4: 9418160006001B | D4: OPEN | E4: 70 | F4: =right(A4, 2) -> 07 | G4: =IF(INT(F4)>13,"SORE","PAGI") -> PAGI | H4: =if(mid(A4,7,1)="1","JANUARI","FEBRUARI") -> JANUARI | I4: =CONCATENATE(MID(A4,9,2)," ",H4," 2025") -> 20 JANUARI 2025
A5: 2025-01-20 07 | B5: 9418 | C5: 9418160011001B | D5: OPEN | E5: 81 | F5: =right(A5, 2) -> 07 | G5: =IF(INT(F5)>13,"SORE","PAGI") -> PAGI | H5: =if(mid(A5,7,1)="1","JANUARI","FEBRUARI") -> JANUARI | I5: =CONCATENATE(MID(A5,9,2)," ",H5," 2025") -> 20 JANUARI 2025
A6: 2025-01-20 07 | B6: 9418 | C6: 9418220006001B | D6: OPEN | E6: 50 | F6: =right(A6, 2) -> 07 | G6: =IF(INT(F6)>13,"SORE","PAGI") -> PAGI | H6: =if(mid(A6,7,1)="1","JANUARI","FEBRUARI") -> JANUARI | I6: =CONCATENATE(MID(A6,9,2)," ",H6," 2025") -> 20 JANUARI 2025
A7: 2025-01-20 07 | B7: 9418 | C7: 9418290023001B | D7: OPEN | E7: 78 | F7: =right(A7, 2) -> 07 | G7: =IF(INT(F7)>13,"SORE","PAGI") -> PAGI | H7: =if(mid(A7,7,1)="1","JANUARI","FEBRUARI") -> JANUARI | I7: =CONCATENATE(MID(A7,9,2)," ",H7," 2025") -> 20 JANUARI 2025
A8: 2025-01-20 07 | B8: 9418 | C8: 9418360001001B | D8: OPEN | E8: 22 | F8: =right(A8, 2) -> 07 | G8: =IF(INT(F8)>13,"SORE","PAGI") -> PAGI | H8: =if(mid(A8,7,1)="1","JANUARI","FEBRUARI") -> JANUARI | I8: =CONCATENATE(MID(A8,9,2)," ",H8," 2025") -> 20 JANUARI 2025
A9: 2025-01-20 07 | B9: 9418 | C9: 9418440001001B | D9: OPEN | E9: 40 | F9: =right(A9, 2) -> 07 | G9: =IF(INT(F9)>13,"SORE","PAGI") -> PAGI | H9: =if(mid(A9,7,1)="1","JANUARI","FEBRUARI") -> JANUARI | I9: =CONCATENATE(MID(A9,9,2)," ",H9," 2025") -> 20 JANUARI 2025
A10: 2025-01-20 07 | B10: 9471 | C10: 9471010004009B | D10: COMPLETED BY PML | E10: 9 | F10: =right(A10, 2) -> 07 | G10: =IF(INT(F10)>13,"SORE","PAGI") -> PAGI | H10: =if(mid(A10,7,1)="1","JANUARI","FEBRUARI") -> JANUARI | I10: =CONCATENATE(MID(A10,9,2)," ",H10," 2025") -> 20 JANUARI 2025
A11: 2025-01-20 07 | B11: 9471 | C11: 9471010004009B | D11: REJECTED BY PML | E11: 1 | F11: =right(A11, 2) -> 07 | G11: =IF(INT(F11)>13,"SORE","PAGI") -> PAGI | H11: =if(mid(A11,7,1)="1","JANUARI","FEBRUARI") -> JANUARI | I11: =CONCATENATE(MID(A11,9,2)," ",H11," 2025") -> 20 JANUARI 2025
A12: 2025-01-20 07 | B12: 9471 | C12: 9471010004009B | D12: SUBMITTED BY PPL | E12: 168 | F12: =right(A12, 2) -> 07 | G12: =IF(INT(F12)>13,"SORE","PAGI") -> PAGI | H12: =if(mid(A12,7,1)="1","JANUARI","FEBRUARI") -> JANUARI | I12: =CONCATENATE(MID(A12,9,2)," ",H12," 2025") -> 20 JANUARI 2025
A13: 2025-01-20 07 | B13: 9471 | C13: 9471020008031B | D13: COMPLETED BY PML | E13: 53 | F13: =right(A13, 2) -> 07 | G13: =IF(INT(F13)>13,"SORE","PAGI") -> PAGI | H13: =if(mid(A13,7,1)="1","JANUARI","FEBRUARI") -> JANUARI | I13: =CONCATENATE(MID(A13,9,2)," ",H13," 2025") -> 20 JANUARI 2025
... A251: 2025-01-23 07 | B251: 9471 | C251: 9471040007010B | D251: COMPLETED BY PML | E251: 43 | F251: =right(A251, 2) -> 07 | G251: =IF(INT(F251)>13,"SORE","PAGI") -> PAGI | H251: =if(mid(A251,7,1)="1","JANUARI","FEBRUARI") -> JANUARI | I251: =CONCATENATE(MID(A251,9,2)," ",H251," 2025") -> 23 JANUARI 2025
