Workbook

Sheet Monitoring
A1: PENGOLAHAN SUSENAS SEPTEMBER 2026
A2: =now() -> 46306.43
A3: Sumber: https://webmonitoring.bps.go.id/
A4: Wilayah | B4: Target | C4: Dokumen K | G4: Dokumen KP | K4: Kirim Backup dan Split | L4: Revalidasi | M4: Revalidasi Pusat
C5: Clean | E5: Error | G5: Clean | I5: Error
C6: Jumlah | D6: Persentase | E6: Jumlah | F6: Persentase | G6: Jumlah | H6: Persentase | I6: Jumlah | J6: Persentase
A7: -1 | B7: -2 | C7: -3 | D7: -4 | E7: -5 | F7: -6 | G7: -7 | H7: -8 | I7: -9 | J7: -10 | K7: -11 | L7: -12 | M7: -12
A8: (9403) JAYAPURA | B8: 130 | C8: =vlookup($A8,'Webmon - K'!$A$1:$F$48,3,false) -> 130 | D8: =C8/B8*100 -> 100 | E8: =vlookup($A8,'Webmon - K'!$A$1:$F$48,5,false) -> 0 | F8: =E8/B8*100 -> 0 | G8: =vlookup($A8,'Webmon - KP'!$A$1:$F$48,3,false) -> 130 | H8: =G8/B8*100 -> 100 | I8: =vlookup($A8,'Webmon - KP'!$A$1:$F$48,5,false) -> 0 | J8: =I8/B8*100 -> 0 | K8: TRUE | L8: FALSE | M8: FALSE | N8: 9 sept
A9: (9408) KEPULAUAN YAPEN | B9: 120 | C9: =vlookup($A9,'Webmon - K'!$A$1:$F$48,3,false) -> 80 | D9: =C9/B9*100 -> 66.666667 | E9: =vlookup($A9,'Webmon - K'!$A$1:$F$48,5,false) -> 0 | F9: =E9/B9*100 -> 0 | G9: =vlookup($A9,'Webmon - KP'!$A$1:$F$48,3,false) -> 80 | H9: =G9/B9*100 -> 66.666667 | I9: =vlookup($A9,'Webmon - KP'!$A$1:$F$48,5,false) -> 0 | J9: =I9/B9*100 -> 0 | K9: FALSE | L9: FALSE | M9: FALSE
A10: (9409) BIAK NUMFOR | B10: 120 | C10: =vlookup($A10,'Webmon - K'!$A$1:$F$48,3,false) -> 51 | D10: =C10/B10*100 -> 42.5 | E10: =vlookup($A10,'Webmon - K'!$A$1:$F$48,5,false) -> 14 | F10: =E10/B10*100 -> 11.666667 | G10: =vlookup($A10,'Webmon - KP'!$A$1:$F$48,3,false) -> 48 | H10: =G10/B10*100 -> 40 | I10: =vlookup($A10,'Webmon - KP'!$A$1:$F$48,5,false) -> 17 | J10: =I10/B10*100 -> 14.166667 | K10: FALSE | L10: FALSE | M10: FALSE
A11: (9419) SARMI | B11: 100 | C11: =vlookup($A11,'Webmon - K'!$A$1:$F$48,3,false) -> 80 | D11: =C11/B11*100 -> 80 | E11: =vlookup($A11,'Webmon - K'!$A$1:$F$48,5,false) -> 0 | F11: =E11/B11*100 -> 0 | G11: =vlookup($A11,'Webmon - KP'!$A$1:$F$48,3,false) -> 60 | H11: =G11/B11*100 -> 60 | I11: =vlookup($A11,'Webmon - KP'!$A$1:$F$48,5,false) -> 0 | J11: =I11/B11*100 -> 0 | K11: FALSE | L11: FALSE | M11: FALSE
A12: (9420) KEEROM | B12: 110 | C12: =vlookup($A12,'Webmon - K'!$A$1:$F$48,3,false) -> 110 | D12: =C12/B12*100 -> 100 | E12: =vlookup($A12,'Webmon - K'!$A$1:$F$48,5,false) -> 0 | F12: =E12/B12*100 -> 0 | G12: =vlookup($A12,'Webmon - KP'!$A$1:$F$48,3,false) -> 110 | H12: =G12/B12*100 -> 100 | I12: =vlookup($A12,'Webmon - KP'!$A$1:$F$48,5,false) -> 0 | J12: =I12/B12*100 -> 0 | K12: FALSE | L12: FALSE | M12: FALSE
A13: (9426) WAROPEN | B13: 100 | C13: =vlookup($A13,'Webmon - K'!$A$1:$F$48,3,false) -> 100 | D13: =C13/B13*100 -> 100 | E13: =vlookup($A13,'Webmon - K'!$A$1:$F$48,5,false) -> 0 | F13: =E13/B13*100 -> 0 | G13: =vlookup($A13,'Webmon - KP'!$A$1:$F$48,3,false) -> 90 | H13: =G13/B13*100 -> 90 | I13: =vlookup($A13,'Webmon - KP'!$A$1:$F$48,5,false) -> 10 | J13: =I13/B13*100 -> 10 | K13: FALSE | L13: FALSE | M13: FALSE
A14: (9427) SUPIORI | B14: 90 | C14: =vlookup($A14,'Webmon - K'!$A$1:$F$48,3,false) -> 90 | D14: =C14/B14*100 -> 100 | E14: =vlookup($A14,'Webmon - K'!$A$1:$F$48,5,false) -> 0 | F14: =E14/B14*100 -> 0 | G14: =vlookup($A14,'Webmon - KP'!$A$1:$F$48,3,false) -> 90 | H14: =G14/B14*100 -> 100 | I14: 29 | J14: =I14/B14*100 -> 32.222222 | K14: FALSE | L14: FALSE | M14: FALSE
A15: (9428) MAMBERAMO RAYA | B15: 90 | C15: =vlookup($A15,'Webmon - K'!$A$1:$F$48,3,false) -> 0 | D15: =C15/B15*100 -> 0 | E15: =vlookup($A15,'Webmon - K'!$A$1:$F$48,5,false) -> 0 | F15: =E15/B15*100 -> 0 | G15: =vlookup($A15,'Webmon - KP'!$A$1:$F$48,3,false) -> 0 | H15: =G15/B15*100 -> 0 | I15: =vlookup($A15,'Webmon - KP'!$A$1:$F$48,5,false) -> 0 | J15: =I15/B15*100 -> 0 | K15: FALSE | L15: FALSE | M15: FALSE
A16: (9471) JAYAPURA | B16: 150 | C16: =vlookup($A16,'Webmon - K'!$A$1:$F$48,3,false) -> 36 | D16: =C16/B16*100 -> 24 | E16: =vlookup($A16,'Webmon - K'!$A$1:$F$48,5,false) -> 47 | F16: =E16/B16*100 -> 31.333333 | G16: =vlookup($A16,'Webmon - KP'!$A$1:$F$48,3,false) -> 25 | H16: =G16/B16*100 -> 16.666667 | I16: =vlookup($A16,'Webmon - KP'!$A$1:$F$48,5,false) -> 40 | J16: =I16/B16*100 -> 26.666667 | K16: FALSE | L16: FALSE | M16: FALSE
A17: PAPUA | B17: =SUM(B8:B16) -> 1010 | C17: =SUM(C8:C16) -> 677 | D17: =C17/B17*100 -> 67.029703 | E17: =SUM(E8:E16) -> 61 | F17: =E17/B17*100 -> 6.039604 | G17: =SUM(G8:G16) -> 633 | H17: =G17/B17*100 -> 62.673267 | I17: =SUM(I8:I16) -> 96 | J17: =I17/B17*100 -> 9.5049505
A18: (9501) MERAUKE | B18: 170 | C18: =vlookup($A18,'Webmon - K'!$A$1:$F$48,3,false) -> 170 | D18: =C18/B18*100 -> 100 | E18: =vlookup($A18,'Webmon - K'!$A$1:$F$48,5,false) -> 0 | F18: =E18/B18*100 -> 0 | G18: =vlookup($A18,'Webmon - KP'!$A$1:$F$48,3,false) -> 170 | H18: =G18/B18*100 -> 100 | I18: =vlookup($A18,'Webmon - KP'!$A$1:$F$48,5,false) -> 0 | J18: =I18/B18*100 -> 0 | K18: TRUE | L18: FALSE | M18: FALSE | N18: 46303
A19: (9502) BOVEN DIGOEL | B19: 150 | C19: =vlookup($A19,'Webmon - K'!$A$1:$F$48,3,false) -> 150 | D19: =C19/B19*100 -> 100 | E19: =vlookup($A19,'Webmon - K'!$A$1:$F$48,5,false) -> 0 | F19: =E19/B19*100 -> 0 | G19: =vlookup($A19,'Webmon - KP'!$A$1:$F$48,3,false) -> 148 | H19: =G19/B19*100 -> 98.666667 | I19: =vlookup($A19,'Webmon - KP'!$A$1:$F$48,5,false) -> 2 | J19: =I19/B19*100 -> 1.3333333 | K19: FALSE | L19: FALSE | M19: FALSE
A20: (9503) MAPPI | B20: 160 | C20: =vlookup($A20,'Webmon - K'!$A$1:$F$48,3,false) -> 160 | D20: =C20/B20*100 -> 100 | E20: =vlookup($A20,'Webmon - K'!$A$1:$F$48,5,false) -> 0 | F20: =E20/B20*100 -> 0 | G20: =vlookup($A20,'Webmon - KP'!$A$1:$F$48,3,false) -> 160 | H20: =G20/B20*100 -> 100 | I20: =vlookup($A20,'Webmon - KP'!$A$1:$F$48,5,false) -> 0 | J20: =I20/B20*100 -> 0 | K20: FALSE | L20: FALSE | M20: FALSE
A21: (9504) ASMAT | B21: 150 | C21: =vlookup($A21,'Webmon - K'!$A$1:$F$48,3,false) -> 150 | D21: =C21/B21*100 -> 100 | E21: =vlookup($A21,'Webmon - K'!$A$1:$F$48,5,false) -> 0 | F21: =E21/B21*100 -> 0 | G21: =vlookup($A21,'Webmon - KP'!$A$1:$F$48,3,false) -> 150 | H21: =G21/B21*100 -> 100 | I21: =vlookup($A21,'Webmon - KP'!$A$1:$F$48,5,false) -> 0 | J21: =I21/B21*100 -> 0 | K21: FALSE | L21: FALSE | M21: FALSE | N21: 46304
A22: PAPUA SELATAN | B22: =SUM(B18:B21) -> 630 | C22: =SUM(C18:C21) -> 630 | D22: =C22/B22*100 -> 100 | E22: =SUM(E18:E21) -> 0 | F22: =E22/B22*100 -> 0 | G22: =SUM(G18:G21) -> 628 | H22: =G22/B22*100 -> 99.68254 | I22: =SUM(I18:I21) -> 2 | J22: =I22/B22*100 -> 0.31746032
A23: (9601) MIMIKA | B23: 140 | C23: =vlookup($A23,'Webmon - K'!$A$1:$F$48,3,false) -> 140 | D23: =C23/B23*100 -> 100 | E23: =vlookup($A23,'Webmon - K'!$A$1:$F$48,5,false) -> 0 | F23: =E23/B23*100 -> 0 | G23: =vlookup($A23,'Webmon - KP'!$A$1:$F$48,3,false) -> 140 | H23: =G23/B23*100 -> 100 | I23: =vlookup($A23,'Webmon - KP'!$A$1:$F$48,5,false) -> 0 | J23: =I23/B23*100 -> 0 | K23: TRUE | L23: FALSE | M23: FALSE
A24: (9602) DOGIYAI | B24: 110 | C24: =vlookup($A24,'Webmon - K'!$A$1:$F$48,3,false) -> 110 | D24: =C24/B24*100 -> 100 | E24: =vlookup($A24,'Webmon - K'!$A$1:$F$48,5,false) -> 0 | F24: =E24/B24*100 -> 0 | G24: =vlookup($A24,'Webmon - KP'!$A$1:$F$48,3,false) -> 110 | H24: =G24/B24*100 -> 100 | I24: =vlookup($A24,'Webmon - KP'!$A$1:$F$48,5,false) -> 0 | J24: =I24/B24*100 -> 0 | K24: TRUE | L24: FALSE | M24: FALSE | N24: 46304
A25: (9603) DEIYAI | B25: 110 | C25: =vlookup($A25,'Webmon - K'!$A$1:$F$48,3,false) -> 110 | D25: =C25/B25*100 -> 100 | E25: =vlookup($A25,'Webmon - K'!$A$1:$F$48,5,false) -> 0 | F25: =E25/B25*100 -> 0 | G25: =vlookup($A25,'Webmon - KP'!$A$1:$F$48,3,false) -> 110 | H25: =G25/B25*100 -> 100 | I25: =vlookup($A25,'Webmon - KP'!$A$1:$F$48,5,false) -> 0 | J25: =I25/B25*100 -> 0 | K25: TRUE | L25: FALSE | M25: FALSE | N25: 46302
A26: (9604) NABIRE | B26: 130 | C26: =vlookup($A26,'Webmon - K'!$A$1:$F$48,3,false) -> 130 | D26: =C26/B26*100 -> 100 | E26: =vlookup($A26,'Webmon - K'!$A$1:$F$48,5,false) -> 0 | F26: =E26/B26*100 -> 0 | G26: =vlookup($A26,'Webmon - KP'!$A$1:$F$48,3,false) -> 130 | H26: =G26/B26*100 -> 100 | I26: =vlookup($A26,'Webmon - KP'!$A$1:$F$48,5,false) -> 0 | J26: =I26/B26*100 -> 0 | K26: TRUE | L26: FALSE | M26: FALSE | N26: 46304
A27: (9605) PANIAI | B27: 130 | C27: =vlookup($A27,'Webmon - K'!$A$1:$F$48,3,false) -> 130 | D27: =C27/B27*100 -> 100 | E27: =vlookup($A27,'Webmon - K'!$A$1:$F$48,5,false) -> 0 | F27: =E27/B27*100 -> 0 | G27: =vlookup($A27,'Webmon - KP'!$A$1:$F$48,3,false) -> 130 | H27: =G27/B27*100 -> 100 | I27: =vlookup($A27,'Webmon - KP'!$A$1:$F$48,5,false) -> 0 | J27: =I27/B27*100 -> 0 | K27: TRUE | L27: FALSE | M27: FALSE
A28: (9606) INTAN JAYA | B28: 100 | C28: =vlookup($A28,'Webmon - K'!$A$1:$F$48,3,false) -> 100 | D28: =C28/B28*100 -> 100 | E28: =vlookup($A28,'Webmon - K'!$A$1:$F$48,5,false) -> 0 | F28: =E28/B28*100 -> 0 | G28: =vlookup($A28,'Webmon - KP'!$A$1:$F$48,3,false) -> 100 | H28: =G28/B28*100 -> 100 | I28: =vlookup($A28,'Webmon - KP'!$A$1:$F$48,5,false) -> 0 | J28: =I28/B28*100 -> 0 | K28: TRUE | L28: FALSE | M28: FALSE
A29: (9607) PUNCAK | B29: 150 | C29: =vlookup($A29,'Webmon - K'!$A$1:$F$48,3,false) -> 0 | D29: =C29/B29*100 -> 0 | E29: =vlookup($A29,'Webmon - K'!$A$1:$F$48,5,false) -> 0 | F29: =E29/B29*100 -> 0 | G29: =vlookup($A29,'Webmon - KP'!$A$1:$F$48,3,false) -> 0 | H29: =G29/B29*100 -> 0 | I29: =vlookup($A29,'Webmon - KP'!$A$1:$F$48,5,false) -> 0 | J29: =I29/B29*100 -> 0 | K29: TRUE | L29: FALSE | M29: FALSE
A30: (9608) PUNCAK JAYA | B30: 140 | C30: =vlookup($A30,'Webmon - K'!$A$1:$F$48,3,false) -> 134 | D30: =C30/B30*100 -> 95.714286 | E30: =vlookup($A30,'Webmon - K'!$A$1:$F$48,5,false) -> 6 | F30: =E30/B30*100 -> 4.2857143 | G30: =vlookup($A30,'Webmon - KP'!$A$1:$F$48,3,false) -> 130 | H30: =G30/B30*100 -> 92.857143 | I30: =vlookup($A30,'Webmon - KP'!$A$1:$F$48,5,false) -> 0 | J30: =I30/B30*100 -> 0 | K30: FALSE | L30: FALSE | M30: FALSE
A31: PAPUA TENGAH | B31: =SUM(B23:B30) -> 1010 | C31: =SUM(C23:C30) -> 854 | D31: =C31/B31*100 -> 84.554455 | E31: =SUM(E23:E30) -> 6 | F31: =E31/B31*100 -> 0.59405941 | G31: =SUM(G23:G30) -> 850 | H31: =G31/B31*100 -> 84.158416 | I31: =SUM(I23:I30) -> 0 | J31: =I31/B31*100 -> 0
A32: (9701) NDUGA | B32: 110 | C32: =vlookup($A32,'Webmon - K'!$A$1:$F$48,3,false) -> 0 | D32: =C32/B32*100 -> 0 | E32: =vlookup($A32,'Webmon - K'!$A$1:$F$48,5,false) -> 0 | F32: =E32/B32*100 -> 0 | G32: =vlookup($A32,'Webmon - KP'!$A$1:$F$48,3,false) -> 0 | H32: =G32/B32*100 -> 0 | I32: =vlookup($A32,'Webmon - KP'!$A$1:$F$48,5,false) -> 0 | J32: =I32/B32*100 -> 0 | K32: TRUE | L32: FALSE | M32: FALSE
A33: (9702) JAYAWIJAYA | B33: 130 | C33: =vlookup($A33,'Webmon - K'!$A$1:$F$48,3,false) -> 130 | D33: =C33/B33*100 -> 100 | E33: =vlookup($A33,'Webmon - K'!$A$1:$F$48,5,false) -> 9 | F33: =E33/B33*100 -> 6.9230769 | G33: =vlookup($A33,'Webmon - KP'!$A$1:$F$48,3,false) -> 130 | H33: =G33/B33*100 -> 100 | I33: =vlookup($A33,'Webmon - KP'!$A$1:$F$48,5,false) -> 0 | J33: =I33/B33*100 -> 0 | K33: TRUE | L33: FALSE | M33: FALSE | N33: 46304
A34: (9703) LANNY JAYA | B34: 130 | C34: =vlookup($A34,'Webmon - K'!$A$1:$F$48,3,false) -> 130 | D34: =C34/B34*100 -> 100 | E34: =vlookup($A34,'Webmon - K'!$A$1:$F$48,5,false) -> 0 | F34: =E34/B34*100 -> 0 | G34: =vlookup($A34,'Webmon - KP'!$A$1:$F$48,3,false) -> 130 | H34: =G34/B34*100 -> 100 | I34: =vlookup($A34,'Webmon - KP'!$A$1:$F$48,5,false) -> 0 | J34: =I34/B34*100 -> 0 | K34: TRUE | L34: FALSE | M34: FALSE | N34: 46303
A35: (9704) TOLIKARA | B35: 120 | C35: =vlookup($A35,'Webmon - K'!$A$1:$F$48,3,false) -> 0 | D35: =C35/B35*100 -> 0 | E35: =vlookup($A35,'Webmon - K'!$A$1:$F$48,5,false) -> 0 | F35: =E35/B35*100 -> 0 | G35: =vlookup($A35,'Webmon - KP'!$A$1:$F$48,3,false) -> 0 | H35: =G35/B35*100 -> 0 | I35: =vlookup($A35,'Webmon - KP'!$A$1:$F$48,5,false) -> 0 | J35: =I35/B35*100 -> 0 | K35: FALSE | L35: FALSE | M35: FALSE
A36: (9705) MAMBERAMO TENGAH | B36: 100 | C36: =vlookup($A36,'Webmon - K'!$A$1:$F$48,3,false) -> 100 | D36: =C36/B36*100 -> 100 | E36: =vlookup($A36,'Webmon - K'!$A$1:$F$48,5,false) -> 0 | F36: =E36/B36*100 -> 0 | G36: =vlookup($A36,'Webmon - KP'!$A$1:$F$48,3,false) -> 100 | H36: =G36/B36*100 -> 100 | I36: =vlookup($A36,'Webmon - KP'!$A$1:$F$48,5,false) -> 0 | J36: =I36/B36*100 -> 0 | K36: TRUE | L36: FALSE | M36: FALSE | N36: 46304
A37: (9706) YALIMO | B37: 100 | C37: =vlookup($A37,'Webmon - K'!$A$1:$F$48,3,false) -> 100 | D37: =C37/B37*100 -> 100 | E37: =vlookup($A37,'Webmon - K'!$A$1:$F$48,5,false) -> 9 | F37: =E37/B37*100 -> 9 | G37: =vlookup($A37,'Webmon - KP'!$A$1:$F$48,3,false) -> 100 | H37: =G37/B37*100 -> 100 | I37: =vlookup($A37,'Webmon - KP'!$A$1:$F$48,5,false) -> 0 | J37: =I37/B37*100 -> 0 | K37: TRUE | L37: FALSE | M37: FALSE | N37: 46304
A38: (9707) YAHUKIMO | B38: 140 | C38: =vlookup($A38,'Webmon - K'!$A$1:$F$48,3,false) -> 140 | D38: =C38/B38*100 -> 100 | E38: =vlookup($A38,'Webmon - K'!$A$1:$F$48,5,false) -> 0 | F38: =E38/B38*100 -> 0 | G38: =vlookup($A38,'Webmon - KP'!$A$1:$F$48,3,false) -> 140 | H38: =G38/B38*100 -> 100 | I38: =vlookup($A38,'Webmon - KP'!$A$1:$F$48,5,false) -> 0 | J38: =I38/B38*100 -> 0 | K38: FALSE | L38: FALSE | M38: FALSE
A39: (9708) PEGUNUNGAN BINTANG | B39: 110 | C39: =vlookup($A39,'Webmon - K'!$A$1:$F$48,3,false) -> 110 | D39: =C39/B39*100 -> 100 | E39: =vlookup($A39,'Webmon - K'!$A$1:$F$48,5,false) -> 0 | F39: =E39/B39*100 -> 0 | G39: =vlookup($A39,'Webmon - KP'!$A$1:$F$48,3,false) -> 21 | H39: =G39/B39*100 -> 19.090909 | I39: =vlookup($A39,'Webmon - KP'!$A$1:$F$48,5,false) -> 0 | J39: =I39/B39*100 -> 0 | K39: FALSE | L39: FALSE | M39: FALSE
A40: PAPUA PEGUNUNGAN | B40: =SUM(B32:B39) -> 940 | C40: =SUM(C32:C39) -> 710 | D40: =C40/B40*100 -> 75.531915 | E40: =SUM(E32:E39) -> 18 | F40: =E40/B40*100 -> 1.9148936 | G40: =SUM(G32:G39) -> 621 | H40: =G40/B40*100 -> 66.06383 | I40: =SUM(I32:I39) -> 0 | J40: =I40/B40*100 -> 0
A41: Keterangan kolom revalidasi: | B41: TRUE | C41: sudah revalidasi dan clean
B42: TRUE | C42: sudah revalidasi dan perlu perbaikan
B43: TRUE | C43: sedang revalidasi
B44: FALSE | C44: belum revalidasi

Sheet Webmon - K
A1: Wilayah | B1: Target | C1: Clean | E1: Error
C2: Jumlah | D2: Persentase | E2: Jumlah | F2: Persentase
A3: -1 | B3: -2 | C3: -3 | D3: -4 | E3: -5 | F3: -6
A4: (9403) JAYAPURA | B4: 130 | C4: 130 | D4: 100 | E4: 0 | F4: 0
A5: (9408) KEPULAUAN YAPEN | B5: 120 | C5: 80 | D5: 100 | E5: 0 | F5: 0
A6: (9409) BIAK NUMFOR | B6: 120 | C6: 51 | D6: 100 | E6: 14 | F6: 0
A7: (9419) SARMI | B7: 100 | C7: 80 | D7: 100 | E7: 0 | F7: 0
A8: (9420) KEEROM | B8: 110 | C8: 110 | D8: 100 | E8: 0 | F8: 0
A9: (9426) WAROPEN | B9: 100 | C9: 100 | D9: 100 | E9: 0 | F9: 0
A10: (9427) SUPIORI | B10: 90 | C10: 90 | D10: 100 | E10: 0 | F10: 0
A11: (9428) MAMBERAMO RAYA | B11: 90 | C11: 0 | D11: 100 | E11: 0 | F11: 0
A12: (9471) JAYAPURA | B12: 150 | C12: 36 | D12: 100 | E12: 47 | F12: 0
A13: Total | B13: =SUM(B4:B12) -> 1010 | C13: =SUM(C4:C12) -> 677 | D13: 89.19 | E13: =SUM(E4:E12) -> 61 | F13: =SUM(F4:F12) -> 0
A15: Wilayah | B15: Target | C15: Clean | E15: Error
C16: Jumlah | D16: Persentase | E16: Jumlah | F16: Persentase
A17: -1 | B17: -2 | C17: -3 | D17: -4 | E17: -5 | F17: -6
A18: (9501) MERAUKE | B18: 170 | C18: 170 | D18: 100 | E18: 0 | F18: 0
A19: (9502) BOVEN DIGOEL | B19: 150 | C19: 150 | D19: 100 | E19: 0 | F19: 0
A20: (9503) MAPPI | B20: 160 | C20: 160 | D20: 100 | E20: 0 | F20: 0
A21: (9504) ASMAT | B21: 150 | C21: 150 | D21: 100 | E21: 0 | F21: 0
A22: Total | B22: =SUM(B18:B21) -> 630 | C22: 2095 | D22: 97.62 | E22: 0 | F22: 0
A24: Wilayah | B24: Target | C24: Clean | E24: Error
C25: Jumlah | D25: Persentase | E25: Jumlah | F25: Persentase
A26: -1 | B26: -2 | C26: -3 | D26: -4 | E26: -5 | F26: -6
A27: (9601) MIMIKA | B27: 140 | C27: 140 | D27: 100 | E27: 0 | F27: 0
A28: (9602) DOGIYAI | B28: 110 | C28: 110 | D28: 100 | E28: 0 | F28: 0
A29: (9603) DEIYAI | B29: 110 | C29: 110 | D29: 100 | E29: 0 | F29: 0
A30: (9604) NABIRE | B30: 130 | C30: 130 | D30: 100 | E30: 0 | F30: 0
A31: (9605) PANIAI | B31: 130 | C31: 130 | D31: 100 | E31: 0 | F31: 0
A32: (9606) INTAN JAYA | B32: 100 | C32: 100 | D32: 100 | E32: 0 | F32: 0
A33: (9607) PUNCAK | B33: 150 | C33: 0 | D33: 100 | E33: 0 | F33: 0
A34: (9608) PUNCAK JAYA | B34: 140 | C34: 134 | D34: 100 | E34: 6 | F34: 0
A35: Total | B35: =SUM(B27:B34) -> 1010 | C35: 4364 | D35: 99.54 | E35: =SUM(E27:E34) -> 6 | F35: 0
A37: Wilayah | B37: Target | C37: Clean | E37: Error
C38: Jumlah | D38: Persentase | E38: Jumlah | F38: Persentase
A39: -1 | B39: -2 | C39: -3 | D39: -4 | E39: -5 | F39: -6
A40: (9701) NDUGA | B40: 110 | C40: 0 | D40: 100 | E40: 0 | F40: 0
A41: (9702) JAYAWIJAYA | B41: 130 | C41: 130 | D41: 100 | E41: 9 | F41: 0
A42: (9703) LANNY JAYA | B42: 130 | C42: 130 | D42: 100 | E42: 0 | F42: 0
A43: (9704) TOLIKARA | B43: 120 | C43: 0 | D43: 100 | E43: 0 | F43: 0
A44: (9705) MAMBERAMO TENGAH | B44: 100 | C44: 100 | D44: 100 | E44: 0 | F44: 0
A45: (9706) YALIMO | B45: 100 | C45: 100 | D45: 100 | E45: 9 | F45: 0
A46: (9707) YAHUKIMO | B46: 140 | C46: 140 | D46: 100 | E46: 0 | F46: 0
A47: (9708) PEGUNUNGAN BINTANG | B47: 110 | C47: 110 | D47: 100 | E47: 0 | F47: 0
A48: Total | B48: =SUM(B40:B47) -> 940 | C48: 3980 | D48: 94.76 | E48: 20 | F48: 0.48

Sheet Webmon - KP
A1: Wilayah | B1: Target | C1: Clean | E1: Error
C2: Jumlah | D2: Persentase | E2: Jumlah | F2: Persentase
A3: -1 | B3: -2 | C3: -3 | D3: -4 | E3: -5 | F3: -6
A4: (9403) JAYAPURA | B4: 130 | C4: 130 | D4: 100 | E4: 0 | F4: 0
A5: (9408) KEPULAUAN YAPEN | B5: 120 | C5: 80 | D5: 100 | E5: 0 | F5: 0
A6: (9409) BIAK NUMFOR | B6: 120 | C6: 48 | D6: 100 | E6: 17 | F6: 0
A7: (9419) SARMI | B7: 100 | C7: 60 | D7: 100 | E7: 0 | F7: 0
A8: (9420) KEEROM | B8: 110 | C8: 110 | D8: 100 | E8: 0 | F8: 0
A9: (9426) WAROPEN | B9: 100 | C9: 90 | D9: 100 | E9: 10 | F9: 0
A10: (9427) SUPIORI | B10: 90 | C10: 90 | D10: 100 | E10: 0 | F10: 0
A11: (9428) MAMBERAMO RAYA | B11: 90 | C11: 0 | D11: 100 | E11: 0 | F11: 0
A12: (9471) JAYAPURA | B12: 150 | C12: 25 | D12: 100 | E12: 40 | F12: 0
A13: Total | B13: =SUM(B4:B12) -> 1010 | C13: =SUM(C4:C12) -> 633 | D13: 100 | E13: =SUM(E4:E12) -> 67 | F13: 0
A15: Wilayah | B15: Target | C15: Clean | E15: Error
C16: Jumlah | D16: Persentase | E16: Jumlah | F16: Persentase
A17: -1 | B17: -2 | C17: -3 | D17: -4 | E17: -5 | F17: -6
A18: (9501) MERAUKE | B18: 170 | C18: 170 | D18: 100 | E18: 0 | F18: 0
A19: (9502) BOVEN DIGOEL | B19: 150 | C19: 148 | D19: 100 | E19: 2 | F19: 0
A20: (9503) MAPPI | B20: 160 | C20: 160 | D20: 100 | E20: 0 | F20: 0
A21: (9504) ASMAT | B21: 150 | C21: 150 | D21: 100 | E21: 0 | F21: 0
A22: Total | B22: =SUM(B18:B21) -> 630 | C22: =SUM(C18:C21) -> 628 | D22: 100 | E22: =SUM(E18:E21) -> 2 | F22: 0
A24: Wilayah | B24: Target | C24: Clean | E24: Error
C25: Jumlah | D25: Persentase | E25: Jumlah | F25: Persentase
A26: -1 | B26: -2 | C26: -3 | D26: -4 | E26: -5 | F26: -6
A27: (9601) MIMIKA | B27: 140 | C27: 140 | D27: 100 | E27: 0 | F27: 0
A28: (9602) DOGIYAI | B28: 110 | C28: 110 | D28: 100 | E28: 0 | F28: 0
A29: (9603) DEIYAI | B29: 110 | C29: 110 | D29: 100 | E29: 0 | F29: 0
A30: (9604) NABIRE | B30: 130 | C30: 130 | D30: 100 | E30: 0 | F30: 0
A31: (9605) PANIAI | B31: 130 | C31: 130 | D31: 100 | E31: 0 | F31: 0
A32: (9606) INTAN JAYA | B32: 100 | C32: 100 | D32: 100 | E32: 0 | F32: 0
A33: (9607) PUNCAK | B33: 150 | C33: 0 | D33: 100 | E33: 0 | F33: 0
A34: (9608) PUNCAK JAYA | B34: 140 | C34: 130 | D34: 100 | E34: 0 | F34: 0
A35: Total | B35: =SUM(B27:B34) -> 1010 | C35: =SUM(C27:C34) -> 850 | D35: 100 | E35: =SUM(E27:E34) -> 0 | F35: 0
A37: Wilayah | B37: Target | C37: Clean | E37: Error
C38: Jumlah | D38: Persentase | E38: Jumlah | F38: Persentase
A39: -1 | B39: -2 | C39: -3 | D39: -4 | E39: -5 | F39: -6
A40: (9701) NDUGA | B40: 110 | C40: 0 | D40: 8 | E40: 0 | F40: 22.8
A41: (9702) JAYAWIJAYA | B41: 130 | C41: 130 | D41: 100 | E41: 0 | F41: 0
A42: (9703) LANNY JAYA | B42: 130 | C42: 130 | D42: 100 | E42: 0 | F42: 0
A43: (9704) TOLIKARA | B43: 120 | C43: 0 | D43: 100 | E43: 0 | F43: 0
A44: (9705) MAMBERAMO TENGAH | B44: 100 | C44: 100 | D44: 100 | E44: 0 | F44: 0
A45: (9706) YALIMO | B45: 100 | C45: 100 | D45: 100 | E45: 0 | F45: 0
A46: (9707) YAHUKIMO | B46: 140 | C46: 140 | D46: 100 | E46: 0 | F46: 0
A47: (9708) PEGUNUNGAN BINTANG | B47: 110 | C47: 21 | D47: 100 | E47: 0 | F47: 0
A48: Total | B48: =SUM(B40:B47) -> 940 | C48: =SUM(C40:C47) -> 621 | D48: 100 | E48: =SUM(E40:E47) -> 0 | F48: 0
